Back to Multiple platform build/check report for BioC 3.21:   simplified   long
ABCDEF[G]HIJKLMNOPQRSTUVWXYZ

This page was generated on 2025-02-06 11:42 -0500 (Thu, 06 Feb 2025).

HostnameOSArch (*)R versionInstalled pkgs
nebbiolo1Linux (Ubuntu 24.04.1 LTS)x86_64R Under development (unstable) (2025-01-20 r87609) -- "Unsuffered Consequences" 4719
palomino7Windows Server 2022 Datacenterx64R Under development (unstable) (2025-01-21 r87610 ucrt) -- "Unsuffered Consequences" 4480
lconwaymacOS 12.7.1 Montereyx86_64R Under development (unstable) (2025-01-22 r87618) -- "Unsuffered Consequences" 4491
kjohnson3macOS 13.7.1 Venturaarm64R Under development (unstable) (2025-01-20 r87609) -- "Unsuffered Consequences" 4444
Click on any hostname to see more info about the system (e.g. compilers)      (*) as reported by 'uname -p', except on Windows and Mac OS X

Package 781/2295HostnameOS / ArchINSTALLBUILDCHECKBUILD BIN
gDRutils 1.5.9  (landing page)
Arkadiusz Gladki
Snapshot Date: 2025-02-05 13:48 -0500 (Wed, 05 Feb 2025)
git_url: https://git.bioconductor.org/packages/gDRutils
git_branch: devel
git_last_commit: b3cd981
git_last_commit_date: 2025-02-03 05:06:53 -0500 (Mon, 03 Feb 2025)
nebbiolo1Linux (Ubuntu 24.04.1 LTS) / x86_64  OK    OK    OK  UNNEEDED, same version is already published
palomino7Windows Server 2022 Datacenter / x64  OK    OK    OK    OK  UNNEEDED, same version is already published
lconwaymacOS 12.7.1 Monterey / x86_64  OK    OK    OK    OK  UNNEEDED, same version is already published
kjohnson3macOS 13.7.1 Ventura / arm64  OK    OK    OK    OK  UNNEEDED, same version is already published


CHECK results for gDRutils on lconway

To the developers/maintainers of the gDRutils package:
- Allow up to 24 hours (and sometimes 48 hours) for your latest push to git@git.bioconductor.org:packages/gDRutils.git to reflect on this report. See Troubleshooting Build Report for more information.
- Use the following Renviron settings to reproduce errors and warnings.
- If 'R CMD check' started to fail recently on the Linux builder(s) over a missing dependency, add the missing dependency to 'Suggests:' in your DESCRIPTION file. See Renviron.bioc for more information.

raw results


Summary

Package: gDRutils
Version: 1.5.9
Command: /Library/Frameworks/R.framework/Resources/bin/R CMD check --install=check:gDRutils.install-out.txt --library=/Library/Frameworks/R.framework/Resources/library --no-vignettes --timings gDRutils_1.5.9.tar.gz
StartedAt: 2025-02-05 20:36:28 -0500 (Wed, 05 Feb 2025)
EndedAt: 2025-02-05 20:40:31 -0500 (Wed, 05 Feb 2025)
EllapsedTime: 242.9 seconds
RetCode: 0
Status:   OK  
CheckDir: gDRutils.Rcheck
Warnings: 0

Command output

##############################################################################
##############################################################################
###
### Running command:
###
###   /Library/Frameworks/R.framework/Resources/bin/R CMD check --install=check:gDRutils.install-out.txt --library=/Library/Frameworks/R.framework/Resources/library --no-vignettes --timings gDRutils_1.5.9.tar.gz
###
##############################################################################
##############################################################################


* using log directory ‘/Users/biocbuild/bbs-3.21-bioc/meat/gDRutils.Rcheck’
* using R Under development (unstable) (2025-01-22 r87618)
* using platform: x86_64-apple-darwin20
* R was compiled by
    Apple clang version 14.0.0 (clang-1400.0.29.202)
    GNU Fortran (GCC) 14.2.0
* running under: macOS Monterey 12.7.6
* using session charset: UTF-8
* using option ‘--no-vignettes’
* checking for file ‘gDRutils/DESCRIPTION’ ... OK
* checking extension type ... Package
* this is package ‘gDRutils’ version ‘1.5.9’
* package encoding: UTF-8
* checking package namespace information ... OK
* checking package dependencies ... OK
* checking if this is a source package ... OK
* checking if there is a namespace ... OK
* checking for hidden files and directories ... OK
* checking for portable file names ... OK
* checking for sufficient/correct file permissions ... OK
* checking whether package ‘gDRutils’ can be installed ... OK
* checking installed package size ... OK
* checking package directory ... OK
* checking ‘build’ directory ... OK
* checking DESCRIPTION meta-information ... OK
* checking top-level files ... OK
* checking for left-over files ... OK
* checking index information ... OK
* checking package subdirectories ... OK
* checking code files for non-ASCII characters ... OK
* checking R files for syntax errors ... OK
* checking whether the package can be loaded ... OK
* checking whether the package can be loaded with stated dependencies ... OK
* checking whether the package can be unloaded cleanly ... OK
* checking whether the namespace can be loaded with stated dependencies ... OK
* checking whether the namespace can be unloaded cleanly ... OK
* checking dependencies in R code ... OK
* checking S3 generic/method consistency ... OK
* checking replacement functions ... OK
* checking foreign function calls ... OK
* checking R code for possible problems ... OK
* checking Rd files ... OK
* checking Rd metadata ... OK
* checking Rd cross-references ... NOTE
Found the following Rd file(s) with Rd \link{} targets missing package
anchors:
  SE_metadata.Rd: SummarizedExperiment-class
  convert_mae_assay_to_dt.Rd: SummarizedExperiment-class,
    MultiAssayExperiment-class
  convert_se_assay_to_dt.Rd: SummarizedExperiment-class
  is_exp_empty.Rd: SummarizedExperiment-class
  split_SE_components.Rd: SummarizedExperiment-class
  validate_se_assay_name.Rd: SummarizedExperiment-class
Please provide package anchors for all Rd \link{} targets not in the
package itself and the base packages.
* checking for missing documentation entries ... OK
* checking for code/documentation mismatches ... OK
* checking Rd \usage sections ... OK
* checking Rd contents ... OK
* checking for unstated dependencies in examples ... OK
* checking files in ‘vignettes’ ... OK
* checking examples ... OK
* checking for unstated dependencies in ‘tests’ ... OK
* checking tests ...
  Running ‘testthat.R’
 OK
* checking for unstated dependencies in vignettes ... OK
* checking package vignettes ... OK
* checking running R code from vignettes ... SKIPPED
* checking re-building of vignette outputs ... SKIPPED
* checking PDF version of manual ... OK
* DONE

Status: 1 NOTE
See
  ‘/Users/biocbuild/bbs-3.21-bioc/meat/gDRutils.Rcheck/00check.log’
for details.


Installation output

gDRutils.Rcheck/00install.out

##############################################################################
##############################################################################
###
### Running command:
###
###   /Library/Frameworks/R.framework/Resources/bin/R CMD INSTALL gDRutils
###
##############################################################################
##############################################################################


* installing to library ‘/Library/Frameworks/R.framework/Versions/4.5-x86_64/Resources/library’
* installing *source* package ‘gDRutils’ ...
** this is package ‘gDRutils’ version ‘1.5.9’
** using staged installation
** R
** inst
** byte-compile and prepare package for lazy loading
** help
*** installing help indices
** building package indices
** installing vignettes
** testing if installed package can be loaded from temporary location
** testing if installed package can be loaded from final location
** testing if installed package keeps a record of temporary installation path
* DONE (gDRutils)

Tests output

gDRutils.Rcheck/tests/testthat.Rout


R Under development (unstable) (2025-01-22 r87618) -- "Unsuffered Consequences"
Copyright (C) 2025 The R Foundation for Statistical Computing
Platform: x86_64-apple-darwin20

R is free software and comes with ABSOLUTELY NO WARRANTY.
You are welcome to redistribute it under certain conditions.
Type 'license()' or 'licence()' for distribution details.

R is a collaborative project with many contributors.
Type 'contributors()' for more information and
'citation()' on how to cite R or R packages in publications.

Type 'demo()' for some demos, 'help()' for on-line help, or
'help.start()' for an HTML browser interface to help.
Type 'q()' to quit R.

> library("gDRutils")
> library("testthat")
> 
> test_check("gDRutils")
[ FAIL 0 | WARN 0 | SKIP 0 | PASS 725 ]
> 
> proc.time()
   user  system elapsed 
 56.695   2.079  59.252 

Example timings

gDRutils.Rcheck/gDRutils-Ex.timings

nameusersystemelapsed
MAEpply0.4360.0360.475
SE_metadata0.0370.0070.046
addClass0.0030.0000.002
aggregate_assay1.0970.0251.128
apply_bumpy_function1.7070.0981.815
assert_choices000
average_biological_replicates_dt0.0490.0020.052
calc_sd0.0000.0000.001
capVals0.2640.0170.282
cap_assay_infinities0.2700.0060.277
cap_xc50000
convert_colData_to_json0.0470.0010.049
convert_combo_data_to_dt0.8980.0350.948
convert_combo_field_to_assay0.0020.0000.002
convert_mae_assay_to_dt0.0600.0030.064
convert_mae_to_json0.0160.0010.017
convert_metadata_to_json0.0090.0000.010
convert_rowData_to_json0.0020.0000.002
convert_se_assay_to_custom_dt0.4120.0350.449
convert_se_assay_to_dt0.0620.0030.065
convert_se_to_json0.0140.0010.014
define_matrix_grid_positions0.0510.0030.054
demote_fields0.4160.0100.430
df_to_bm_assay0.1400.0010.143
dot-set_invalid_fit_params000
extend_normalization_type_name0.0000.0010.000
fit_curves0.1380.0210.161
flatten0.0060.0000.007
gen_synthetic_data0.0060.0010.008
geometric_mean0.0000.0000.001
get_MAE_identifiers0.0080.0010.010
get_additional_variables0.0110.0010.011
get_assay_dt_duplicated_rows0.1300.0050.135
get_assay_names0.0000.0010.000
get_assay_req_uniq_cols0.0760.0020.077
get_combo_assay_names0.0010.0000.001
get_combo_base_assay_names0.0010.0000.001
get_combo_excess_field_names0.0020.0000.003
get_combo_score_assay_names0.0000.0010.001
get_combo_score_field_names0.0010.0000.001
get_default_identifiers0.0000.0010.002
get_duplicated_rows0.0030.0010.004
get_env_assay_names000
get_env_var000
get_expect_one_identifiers000
get_experiment_groups000
get_identifiers_dt0.0060.0030.010
get_idfs_synonyms000
get_isobologram_columns0.0400.0020.041
get_non_empty_assays0.0470.0010.048
get_required_identifiers0.0000.0010.000
get_settings_from_json0.0010.0000.001
get_supported_experiments0.0010.0000.000
get_synthetic_data0.0120.0010.013
get_testdata0.0850.0190.105
get_testdata_codilution0.0760.0050.082
get_testdata_combo0.1880.0210.213
has_assay_dt_duplicated_rows0.0610.0010.063
has_dt_duplicated_rows0.0010.0000.001
has_single_codrug_data0.0800.0020.081
has_valid_codrug_data0.0860.0020.088
headers0.0140.0100.024
identifiers0.0000.0000.001
identify_unique_se_metadata_fields0.0090.0010.010
is_any_exp_empty0.0470.0010.048
is_combo_data0.1480.0170.165
is_exp_empty0.0500.0010.051
is_mae_empty0.0510.0010.052
logisticFit0.0280.0010.029
loop0.0000.0000.001
mcolData0.0170.0010.017
merge_SE1.7420.0311.784
merge_assay0.3500.0200.371
merge_metadata0.0080.0010.009
modifyData0.1340.0040.138
mrowData0.0140.0010.016
predict_conc_from_efficacy0.0000.0000.001
predict_efficacy_from_conc0.0010.0000.000
prettify_flat_metrics0.0230.0000.024
promote_fields0.2060.0030.212
refine_coldata0.0110.0010.013
refine_rowdata0.0580.0020.060
remove_codrug_data0.0420.0010.043
remove_drug_batch0.0020.0000.003
rename_DFrame0.0120.0010.013
rename_bumpy0.0340.0010.036
round_concentration000
set_constant_fit_params0.0000.0000.001
set_unique_cl_names0.0560.0000.057
set_unique_cl_names_dt0.0160.0000.017
set_unique_drug_names0.0910.0010.093
set_unique_drug_names_dt0.0620.0020.064
set_unique_identifiers0.3180.0030.322
set_unique_names_dt0.0240.0010.025
shorten_normalization_type_name0.0010.0000.000
split_SE_components0.0700.0020.072
standardize_mae0.1200.0020.122
standardize_se0.0350.0010.036
throw_msg_if_duplicates0.0690.0020.071
update_env_idfs_from_mae0.0010.0000.001
update_idfs_synonyms000
validate_MAE0.0790.0020.081
validate_SE0.0250.0010.026
validate_identifiers0.0070.0010.008
validate_json000
validate_mae_with_schema0.3800.0600.473
validate_se_assay_name0.0080.0010.009