Back to Multiple platform build/check report for BioC 3.21:   simplified   long
ABCDEFGHIJKL[M]NOPQRSTUVWXYZ

This page was generated on 2025-02-06 11:42 -0500 (Thu, 06 Feb 2025).

HostnameOSArch (*)R versionInstalled pkgs
nebbiolo1Linux (Ubuntu 24.04.1 LTS)x86_64R Under development (unstable) (2025-01-20 r87609) -- "Unsuffered Consequences" 4719
palomino7Windows Server 2022 Datacenterx64R Under development (unstable) (2025-01-21 r87610 ucrt) -- "Unsuffered Consequences" 4480
lconwaymacOS 12.7.1 Montereyx86_64R Under development (unstable) (2025-01-22 r87618) -- "Unsuffered Consequences" 4491
kjohnson3macOS 13.7.1 Venturaarm64R Under development (unstable) (2025-01-20 r87609) -- "Unsuffered Consequences" 4444
Click on any hostname to see more info about the system (e.g. compilers)      (*) as reported by 'uname -p', except on Windows and Mac OS X

Package 1169/2295HostnameOS / ArchINSTALLBUILDCHECKBUILD BIN
matter 2.9.1  (landing page)
Kylie A. Bemis
Snapshot Date: 2025-02-05 13:48 -0500 (Wed, 05 Feb 2025)
git_url: https://git.bioconductor.org/packages/matter
git_branch: devel
git_last_commit: bcfe9fb
git_last_commit_date: 2024-12-04 18:32:57 -0500 (Wed, 04 Dec 2024)
nebbiolo1Linux (Ubuntu 24.04.1 LTS) / x86_64  OK    OK    OK  UNNEEDED, same version is already published
palomino7Windows Server 2022 Datacenter / x64  OK    OK    OK    OK  UNNEEDED, same version is already published
lconwaymacOS 12.7.1 Monterey / x86_64  OK    OK    ERROR    OK  
kjohnson3macOS 13.7.1 Ventura / arm64  OK    OK    OK    OK  UNNEEDED, same version is already published


CHECK results for matter on lconway

To the developers/maintainers of the matter package:
- Allow up to 24 hours (and sometimes 48 hours) for your latest push to git@git.bioconductor.org:packages/matter.git to reflect on this report. See Troubleshooting Build Report for more information.
- Use the following Renviron settings to reproduce errors and warnings.
- If 'R CMD check' started to fail recently on the Linux builder(s) over a missing dependency, add the missing dependency to 'Suggests:' in your DESCRIPTION file. See Renviron.bioc for more information.

raw results


Summary

Package: matter
Version: 2.9.1
Command: /Library/Frameworks/R.framework/Resources/bin/R CMD check --install=check:matter.install-out.txt --library=/Library/Frameworks/R.framework/Resources/library --no-vignettes --timings matter_2.9.1.tar.gz
StartedAt: 2025-02-05 21:25:41 -0500 (Wed, 05 Feb 2025)
EndedAt: 2025-02-05 21:29:22 -0500 (Wed, 05 Feb 2025)
EllapsedTime: 221.3 seconds
RetCode: 1
Status:   ERROR  
CheckDir: matter.Rcheck
Warnings: NA

Command output

##############################################################################
##############################################################################
###
### Running command:
###
###   /Library/Frameworks/R.framework/Resources/bin/R CMD check --install=check:matter.install-out.txt --library=/Library/Frameworks/R.framework/Resources/library --no-vignettes --timings matter_2.9.1.tar.gz
###
##############################################################################
##############################################################################


* using log directory ‘/Users/biocbuild/bbs-3.21-bioc/meat/matter.Rcheck’
* using R Under development (unstable) (2025-01-22 r87618)
* using platform: x86_64-apple-darwin20
* R was compiled by
    Apple clang version 14.0.0 (clang-1400.0.29.202)
    GNU Fortran (GCC) 14.2.0
* running under: macOS Monterey 12.7.6
* using session charset: UTF-8
* using option ‘--no-vignettes’
* checking for file ‘matter/DESCRIPTION’ ... OK
* checking extension type ... Package
* this is package ‘matter’ version ‘2.9.1’
* checking package namespace information ... OK
* checking package dependencies ... OK
* checking if this is a source package ... OK
* checking if there is a namespace ... OK
* checking for hidden files and directories ... OK
* checking for portable file names ... OK
* checking for sufficient/correct file permissions ... OK
* checking whether package ‘matter’ can be installed ... OK
* used C++ compiler: ‘Apple clang version 14.0.0 (clang-1400.0.29.202)’
* used SDK: ‘MacOSX11.3.sdk’
* checking installed package size ... OK
* checking package directory ... OK
* checking ‘build’ directory ... OK
* checking DESCRIPTION meta-information ... OK
* checking top-level files ... OK
* checking for left-over files ... OK
* checking index information ... OK
* checking package subdirectories ... OK
* checking code files for non-ASCII characters ... OK
* checking R files for syntax errors ... OK
* checking whether the package can be loaded ... OK
* checking whether the package can be loaded with stated dependencies ... OK
* checking whether the package can be unloaded cleanly ... OK
* checking whether the namespace can be loaded with stated dependencies ... OK
* checking whether the namespace can be unloaded cleanly ... OK
* checking whether startup messages can be suppressed ... OK
* checking dependencies in R code ... OK
* checking S3 generic/method consistency ... OK
* checking replacement functions ... OK
* checking foreign function calls ... OK
* checking R code for possible problems ... OK
* checking Rd files ... OK
* checking Rd metadata ... OK
* checking Rd cross-references ... NOTE
Found the following Rd file(s) with Rd \link{} targets missing package
anchors:
  SnowfastParam-class.Rd: SnowParam, BiocParallelParam, MulticoreParam
  checksum.Rd: digest
  chunkApply.Rd: bplapply
  colscale.Rd: bplapply
  cv_do.Rd: bplapply
  matter-options.Rd: bplapply
  nscentroids.Rd: bplapply
  pls.Rd: bplapply
  prcomp.Rd: bplapply
  rowDists.Rd: bplapply
  rowStats.Rd: bplapply
  sgmix.Rd: bplapply
Please provide package anchors for all Rd \link{} targets not in the
package itself and the base packages.
* checking for missing documentation entries ... OK
* checking for code/documentation mismatches ... OK
* checking Rd \usage sections ... OK
* checking Rd contents ... OK
* checking for unstated dependencies in examples ... OK
* checking line endings in C/C++/Fortran sources/headers ... OK
* checking compiled code ... NOTE
Note: information on .o files is not available
File ‘matter/libs/matter.so’:
  Found non-API calls to R: ‘R_tryWrap’, ‘STRING_PTR’

Compiled code should not call non-API entry points in R.

See ‘Writing portable packages’ in the ‘Writing R Extensions’ manual,
and section ‘Moving into C API compliance’ for issues with the use of
non-API entry points.
* checking files in ‘vignettes’ ... OK
* checking examples ... OK
* checking for unstated dependencies in ‘tests’ ... OK
* checking tests ...
  Running ‘testthat.R’
 ERROR
Running the tests in ‘tests/testthat.R’ failed.
Last 13 lines of output:
    6.         └─BiocParallel:::.bpinit(...)
    7.           ├─BiocParallel::bploop(...)
    8.           └─BiocParallel:::bploop.lapply(...)
    9.             └─BiocParallel:::.bploop_impl(...)
   10.               ├─BiocParallel::.manager_send(manager, task)
   11.               └─BiocParallel::.manager_send(manager, task)
   12.                 ├─BiocParallel::.send_to(manager$backend, as.integer(worker), value)
   13.                 └─BiocParallel::.send_to(manager$backend, as.integer(worker), value)
   14.                   ├─parallel:::sendData(backend[[node]], value)
   15.                   └─parallel:::sendData.SOCK0node(backend[[node]], value)
   16.                     └─base::serialize(data, node$con, xdr = FALSE)
  
  [ FAIL 1 | WARN 0 | SKIP 0 | PASS 2076 ]
  Error: Test failures
  Execution halted
* checking for unstated dependencies in vignettes ... OK
* checking package vignettes ... OK
* checking running R code from vignettes ... SKIPPED
* checking re-building of vignette outputs ... SKIPPED
* checking PDF version of manual ... OK
* DONE

Status: 1 ERROR, 2 NOTEs
See
  ‘/Users/biocbuild/bbs-3.21-bioc/meat/matter.Rcheck/00check.log’
for details.


Installation output

matter.Rcheck/00install.out

##############################################################################
##############################################################################
###
### Running command:
###
###   /Library/Frameworks/R.framework/Resources/bin/R CMD INSTALL matter
###
##############################################################################
##############################################################################


* installing to library ‘/Library/Frameworks/R.framework/Versions/4.5-x86_64/Resources/library’
* installing *source* package ‘matter’ ...
** this is package ‘matter’ version ‘2.9.1’
** using staged installation
** libs
using C++ compiler: ‘Apple clang version 14.0.0 (clang-1400.0.29.202)’
using SDK: ‘MacOSX11.3.sdk’
clang++ -arch x86_64 -std=gnu++17 -I"/Library/Frameworks/R.framework/Resources/include" -DNDEBUG  -I'/Library/Frameworks/R.framework/Versions/4.5-x86_64/Resources/library/BH/include' -I/opt/R/x86_64/include    -fPIC  -falign-functions=64 -Wall -g -O2  -DR_NO_REMAP -c altrep.cpp -o altrep.o
clang++ -arch x86_64 -std=gnu++17 -I"/Library/Frameworks/R.framework/Resources/include" -DNDEBUG  -I'/Library/Frameworks/R.framework/Versions/4.5-x86_64/Resources/library/BH/include' -I/opt/R/x86_64/include    -fPIC  -falign-functions=64 -Wall -g -O2  -DR_NO_REMAP -c init.cpp -o init.o
clang++ -arch x86_64 -std=gnu++17 -I"/Library/Frameworks/R.framework/Resources/include" -DNDEBUG  -I'/Library/Frameworks/R.framework/Versions/4.5-x86_64/Resources/library/BH/include' -I/opt/R/x86_64/include    -fPIC  -falign-functions=64 -Wall -g -O2  -DR_NO_REMAP -c matterExports.cpp -o matterExports.o
clang++ -arch x86_64 -std=gnu++17 -dynamiclib -Wl,-headerpad_max_install_names -undefined dynamic_lookup -L/Library/Frameworks/R.framework/Resources/lib -L/opt/R/x86_64/lib -o matter.so altrep.o init.o matterExports.o -F/Library/Frameworks/R.framework/.. -framework R -Wl,-framework -Wl,CoreFoundation
installing to /Library/Frameworks/R.framework/Versions/4.5-x86_64/Resources/library/00LOCK-matter/00new/matter/libs
** R
** byte-compile and prepare package for lazy loading
** help
*** installing help indices
** building package indices
** installing vignettes
** testing if installed package can be loaded from temporary location
** checking absolute paths in shared objects and dynamic libraries
** testing if installed package can be loaded from final location
** testing if installed package keeps a record of temporary installation path
* DONE (matter)

Tests output

matter.Rcheck/tests/testthat.Rout.fail


R Under development (unstable) (2025-01-22 r87618) -- "Unsuffered Consequences"
Copyright (C) 2025 The R Foundation for Statistical Computing
Platform: x86_64-apple-darwin20

R is free software and comes with ABSOLUTELY NO WARRANTY.
You are welcome to redistribute it under certain conditions.
Type 'license()' or 'licence()' for distribution details.

R is a collaborative project with many contributors.
Type 'contributors()' for more information and
'citation()' on how to cite R or R packages in publications.

Type 'demo()' for some demos, 'help()' for on-line help, or
'help.start()' for an HTML browser interface to help.
Type 'q()' to quit R.

> library(testthat)
> library(matter)
Loading required package: BiocParallel
Loading required package: Matrix
> 
> test_check("matter")
[ FAIL 1 | WARN 0 | SKIP 0 | PASS 2076 ]

══ Failed tests ════════════════════════════════════════════════════════════════
── Error ('test-parallel.R:125:2'): SnowfastParam ──────────────────────────────
Error in `serialize(data, node$con, xdr = FALSE)`: error writing to connection
Backtrace:
     ▆
  1. └─matter::chunkLapply(x, sum, BPPARAM = sp0) at test-parallel.R:125:9
  2.   └─matter::chunk_lapply(X, CHUNKFUN, ..., verbose = verbose, BPPARAM = BPPARAM)
  3.     └─matter:::bplapply_int(CHUNKS, CHUNKFUN, ..., BPPARAM = BPPARAM)
  4.       ├─BiocParallel::bplapply(X, FUN, ..., BPPARAM = BPPARAM)
  5.       └─BiocParallel::bplapply(X, FUN, ..., BPPARAM = BPPARAM)
  6.         └─BiocParallel:::.bpinit(...)
  7.           ├─BiocParallel::bploop(...)
  8.           └─BiocParallel:::bploop.lapply(...)
  9.             └─BiocParallel:::.bploop_impl(...)
 10.               ├─BiocParallel::.manager_send(manager, task)
 11.               └─BiocParallel::.manager_send(manager, task)
 12.                 ├─BiocParallel::.send_to(manager$backend, as.integer(worker), value)
 13.                 └─BiocParallel::.send_to(manager$backend, as.integer(worker), value)
 14.                   ├─parallel:::sendData(backend[[node]], value)
 15.                   └─parallel:::sendData.SOCK0node(backend[[node]], value)
 16.                     └─base::serialize(data, node$con, xdr = FALSE)

[ FAIL 1 | WARN 0 | SKIP 0 | PASS 2076 ]
Error: Test failures
Execution halted

Example timings

matter.Rcheck/matter-Ex.timings

nameusersystemelapsed
RNGStreams0.8600.0080.875
SnowfastParam-class0.2340.0283.053
approx10.0020.0010.003
approx20.0040.0010.005
avg0.0020.0000.002
binpeaks0.0060.0010.006
binvec0.0010.0000.001
bsearch0.0010.0010.002
checksum0.0280.0040.033
chunkApply0.2280.0170.247
chunked-class0.0070.0020.010
colscale0.2090.0050.215
colsweep0.0220.0010.023
convolve_at0.0920.0050.099
coscore0.0500.0080.059
cpal0.0030.0010.004
cv_do0.1790.0030.183
deferred-ops0.2560.0130.270
downsample0.0380.0030.041
drle-class0.0010.0000.001
enhance0.0240.0030.028
estbase0.0100.0020.011
estdim0.0030.0010.003
estnoise0.0340.0050.040
estres0.0020.0000.002
fastmap0.1530.0020.156
fetch0.1350.0140.150
filt10.0330.0030.037
filt20.0260.0020.028
filtn0.0030.0000.005
findpeaks0.0260.0030.031
findpeaks_cwt0.1350.0130.150
findpeaks_knn0.0030.0000.004
iQuote0.0000.0000.001
inpoly0.0040.0010.004
isofun0.0260.0010.027
knnsearch0.0010.0010.002
matter-class0.0330.0030.036
matter_arr-class0.0370.0020.040
matter_fct-class0.0230.0010.024
matter_list-class0.0120.0020.014
matter_str-class0.0260.0030.030
mem0.4730.0090.487
mi_learn0.6510.0080.663
nnmf0.0440.0010.045
nscentroids0.1080.0020.111
peakwidths0.0010.0000.001
pinv0.0010.0000.002
plot_signal0.4520.0460.505
pls0.0490.0010.050
prcomp0.1090.0150.125
predscore0.0000.0000.001
rescale0.0000.0010.001
rocscore0.0020.0010.003
rollvec0.0010.0000.001
rowDists0.0910.0040.095
rowStats0.1310.0140.146
seq_rel0.0010.0050.006
sgmix2.5040.0532.575
shingles0.0020.0040.006
simple_logger-class0.0050.0020.007
simspec0.0350.0070.042
sparse_arr-class0.0050.0020.007
stream_stat0.0060.0030.009
struct0.0050.0010.007
summary-stats0.3590.0150.377
to_raster0.0030.0020.005
trans2d0.0440.0020.047
uuid0.0010.0010.004
vizi-functions0.0600.0060.067
warp10.0260.0040.032
warp20.9110.0140.931