Back to Multiple platform build/check report for BioC 3.21:   simplified   long
ABCDEFGHIJKL[M]NOPQRSTUVWXYZ

This page was generated on 2025-02-06 11:42 -0500 (Thu, 06 Feb 2025).

HostnameOSArch (*)R versionInstalled pkgs
nebbiolo1Linux (Ubuntu 24.04.1 LTS)x86_64R Under development (unstable) (2025-01-20 r87609) -- "Unsuffered Consequences" 4719
palomino7Windows Server 2022 Datacenterx64R Under development (unstable) (2025-01-21 r87610 ucrt) -- "Unsuffered Consequences" 4480
lconwaymacOS 12.7.1 Montereyx86_64R Under development (unstable) (2025-01-22 r87618) -- "Unsuffered Consequences" 4491
kjohnson3macOS 13.7.1 Venturaarm64R Under development (unstable) (2025-01-20 r87609) -- "Unsuffered Consequences" 4444
Click on any hostname to see more info about the system (e.g. compilers)      (*) as reported by 'uname -p', except on Windows and Mac OS X

Package 1292/2295HostnameOS / ArchINSTALLBUILDCHECKBUILD BIN
mixOmics 6.31.4  (landing page)
Eva Hamrud
Snapshot Date: 2025-02-05 13:48 -0500 (Wed, 05 Feb 2025)
git_url: https://git.bioconductor.org/packages/mixOmics
git_branch: devel
git_last_commit: 2dc5da1
git_last_commit_date: 2025-01-12 21:30:19 -0500 (Sun, 12 Jan 2025)
nebbiolo1Linux (Ubuntu 24.04.1 LTS) / x86_64  OK    OK    OK  UNNEEDED, same version is already published
palomino7Windows Server 2022 Datacenter / x64  OK    OK    OK    OK  UNNEEDED, same version is already published
lconwaymacOS 12.7.1 Monterey / x86_64  OK    OK    OK    OK  UNNEEDED, same version is already published
kjohnson3macOS 13.7.1 Ventura / arm64  OK    OK    OK    OK  UNNEEDED, same version is already published


CHECK results for mixOmics on lconway

To the developers/maintainers of the mixOmics package:
- Allow up to 24 hours (and sometimes 48 hours) for your latest push to git@git.bioconductor.org:packages/mixOmics.git to reflect on this report. See Troubleshooting Build Report for more information.
- Use the following Renviron settings to reproduce errors and warnings.
- If 'R CMD check' started to fail recently on the Linux builder(s) over a missing dependency, add the missing dependency to 'Suggests:' in your DESCRIPTION file. See Renviron.bioc for more information.

raw results


Summary

Package: mixOmics
Version: 6.31.4
Command: /Library/Frameworks/R.framework/Resources/bin/R CMD check --install=check:mixOmics.install-out.txt --library=/Library/Frameworks/R.framework/Resources/library --no-vignettes --timings mixOmics_6.31.4.tar.gz
StartedAt: 2025-02-05 21:43:18 -0500 (Wed, 05 Feb 2025)
EndedAt: 2025-02-05 22:03:04 -0500 (Wed, 05 Feb 2025)
EllapsedTime: 1186.3 seconds
RetCode: 0
Status:   OK  
CheckDir: mixOmics.Rcheck
Warnings: 0

Command output

##############################################################################
##############################################################################
###
### Running command:
###
###   /Library/Frameworks/R.framework/Resources/bin/R CMD check --install=check:mixOmics.install-out.txt --library=/Library/Frameworks/R.framework/Resources/library --no-vignettes --timings mixOmics_6.31.4.tar.gz
###
##############################################################################
##############################################################################


* using log directory ‘/Users/biocbuild/bbs-3.21-bioc/meat/mixOmics.Rcheck’
* using R Under development (unstable) (2025-01-22 r87618)
* using platform: x86_64-apple-darwin20
* R was compiled by
    Apple clang version 14.0.0 (clang-1400.0.29.202)
    GNU Fortran (GCC) 14.2.0
* running under: macOS Monterey 12.7.6
* using session charset: UTF-8
* using option ‘--no-vignettes’
* checking for file ‘mixOmics/DESCRIPTION’ ... OK
* checking extension type ... Package
* this is package ‘mixOmics’ version ‘6.31.4’
* package encoding: UTF-8
* checking package namespace information ... OK
* checking package dependencies ... OK
* checking if this is a source package ... OK
* checking if there is a namespace ... OK
* checking for hidden files and directories ... OK
* checking for portable file names ... OK
* checking for sufficient/correct file permissions ... OK
* checking whether package ‘mixOmics’ can be installed ... OK
* checking installed package size ... INFO
  installed size is  6.4Mb
  sub-directories of 1Mb or more:
    R      1.5Mb
    data   3.3Mb
* checking package directory ... OK
* checking DESCRIPTION meta-information ... OK
* checking top-level files ... OK
* checking for left-over files ... OK
* checking index information ... OK
* checking package subdirectories ... OK
* checking code files for non-ASCII characters ... OK
* checking R files for syntax errors ... OK
* checking whether the package can be loaded ... OK
* checking whether the package can be loaded with stated dependencies ... OK
* checking whether the package can be unloaded cleanly ... OK
* checking whether the namespace can be loaded with stated dependencies ... OK
* checking whether the namespace can be unloaded cleanly ... OK
* checking whether startup messages can be suppressed ... OK
* checking dependencies in R code ... NOTE
Namespace in Imports field not imported from: ‘gsignal’
  All declared Imports should be used.
* checking S3 generic/method consistency ... OK
* checking replacement functions ... OK
* checking foreign function calls ... OK
* checking R code for possible problems ... OK
* checking Rd files ... OK
* checking Rd metadata ... OK
* checking Rd cross-references ... NOTE
Found the following Rd file(s) with Rd \link{} targets missing package
anchors:
  perf.Rd: BiocParallelParam-class
  perf.assess.Rd: BiocParallelParam-class
  rcc.Rd: estimate.lambda
  tune.Rd: BiocParallelParam-class
  tune.block.plsda.Rd: BiocParallelParam-class
  tune.block.splsda.Rd: BiocParallelParam-class
  tune.pls.Rd: BiocParallelParam-class
  tune.plsda.Rd: BiocParallelParam-class
  tune.spca.Rd: BiocParallelParam-class
  tune.spls.Rd: BiocParallelParam-class
  tune.splsda.Rd: BiocParallelParam-class
Please provide package anchors for all Rd \link{} targets not in the
package itself and the base packages.
* checking for missing documentation entries ... OK
* checking for code/documentation mismatches ... OK
* checking Rd \usage sections ... NOTE
S3 methods shown with full name in Rd file 'perf.assess.Rd':
  ‘perf.assess’

The \usage entries for S3 methods should use the \method markup and not
their full name.
See chapter ‘Writing R documentation files’ in the ‘Writing R
Extensions’ manual.
* checking Rd contents ... OK
* checking for unstated dependencies in examples ... OK
* checking contents of ‘data’ directory ... OK
* checking data for non-ASCII characters ... OK
* checking data for ASCII and uncompressed saves ... OK
* checking files in ‘vignettes’ ... OK
* checking examples ... OK
Examples with CPU (user + system) or elapsed time > 5s
                      user system elapsed
tune.spls          218.148  9.471 228.797
tune.splsda         97.613  4.853 103.075
tune.plsda          46.750  2.199  49.172
tune.pls            33.672  1.868  35.721
tune.block.plsda    34.855  0.362  35.397
perf.assess         25.619  0.868  26.615
biplot              13.716  0.093  13.880
tune.block.splsda   13.334  0.157  48.218
background.predict   8.297  1.211   9.577
block.splsda         7.169  0.117   7.336
circosPlot           7.149  0.091   7.283
tune                 5.759  0.346   6.140
block.spls           5.683  0.061   5.774
* checking for unstated dependencies in ‘tests’ ... OK
* checking tests ...
  Running ‘testthat.R’
 OK
* checking for unstated dependencies in vignettes ... OK
* checking package vignettes ... OK
* checking running R code from vignettes ... SKIPPED
* checking re-building of vignette outputs ... SKIPPED
* checking PDF version of manual ... OK
* DONE

Status: 3 NOTEs
See
  ‘/Users/biocbuild/bbs-3.21-bioc/meat/mixOmics.Rcheck/00check.log’
for details.


Installation output

mixOmics.Rcheck/00install.out

##############################################################################
##############################################################################
###
### Running command:
###
###   /Library/Frameworks/R.framework/Resources/bin/R CMD INSTALL mixOmics
###
##############################################################################
##############################################################################


* installing to library ‘/Library/Frameworks/R.framework/Versions/4.5-x86_64/Resources/library’
* installing *source* package ‘mixOmics’ ...
** this is package ‘mixOmics’ version ‘6.31.4’
** using staged installation
** R
** data
** inst
** byte-compile and prepare package for lazy loading
** help
*** installing help indices
** building package indices
** installing vignettes
** testing if installed package can be loaded from temporary location
** testing if installed package can be loaded from final location
** testing if installed package keeps a record of temporary installation path
* DONE (mixOmics)

Tests output

mixOmics.Rcheck/tests/testthat.Rout


R Under development (unstable) (2025-01-22 r87618) -- "Unsuffered Consequences"
Copyright (C) 2025 The R Foundation for Statistical Computing
Platform: x86_64-apple-darwin20

R is free software and comes with ABSOLUTELY NO WARRANTY.
You are welcome to redistribute it under certain conditions.
Type 'license()' or 'licence()' for distribution details.

R is a collaborative project with many contributors.
Type 'contributors()' for more information and
'citation()' on how to cite R or R packages in publications.

Type 'demo()' for some demos, 'help()' for on-line help, or
'help.start()' for an HTML browser interface to help.
Type 'q()' to quit R.

> library(testthat)
> library(mixOmics)
Loading required package: MASS
Loading required package: lattice
Loading required package: ggplot2

Loaded mixOmics 6.31.4
Thank you for using mixOmics!
Tutorials: http://mixomics.org
Bookdown vignette: https://mixomicsteam.github.io/Bookdown
Questions, issues: Follow the prompts at http://mixomics.org/contact-us
Cite us:  citation('mixOmics')

> 
> test_check("mixOmics")
2025-02-05 21:56:12.252 R[72488:102677970] XType: com.apple.fonts is not accessible.
2025-02-05 21:56:12.252 R[72488:102677970] XType: XTFontStaticRegistry is enabled.
[1] "test.keepX is set to NULL, tuning only for number of components..."
[1] "test.keepX is set to NULL, tuning only for number of components..."
[1] "test.keepX set to NULL, tuning only for number of components..."
[1] "test.keepX and test.keepY are set to NULL, tuning only for number of components..."
[1] "test.keepX and test.keepY are set to NULL, tuning only for number of components..."
[1] "test.keepX and test.keepY are set to NULL, tuning only for number of components..."
[1] "test.keepX set to NULL, tuning only for number of components..."
[ FAIL 0 | WARN 3 | SKIP 0 | PASS 571 ]

[ FAIL 0 | WARN 3 | SKIP 0 | PASS 571 ]
> 
> proc.time()
   user  system elapsed 
238.635  12.760 412.540 

Example timings

mixOmics.Rcheck/mixOmics-Ex.timings

nameusersystemelapsed
S3methods-print0.0190.0030.022
auroc1.1300.0501.186
background.predict8.2971.2119.577
biplot13.716 0.09313.880
block.pls0.4890.0090.501
block.plsda0.8040.0100.821
block.spls5.6830.0615.774
block.splsda7.1690.1177.336
cim0.0350.0070.042
cimDiablo0.2510.0100.262
circosPlot7.1490.0917.283
colors0.0320.0020.034
explained_variance0.0890.0040.094
get.confusion_matrix0.1660.0080.177
image.tune.rcc2.4770.0602.552
imgCor0.0680.0110.080
impute.nipals0.0100.0030.013
ipca0.8790.0290.914
logratio-transformations0.0560.0040.060
map0.0040.0020.006
mat.rank0.0030.0000.003
mint.block.pls0.1070.0040.112
mint.block.plsda0.0810.0030.085
mint.block.spls0.1430.0090.152
mint.block.splsda0.0930.0050.098
mint.pca0.4100.0060.419
mint.pls0.5410.0080.553
mint.plsda0.9230.0220.951
mint.spls0.5460.0070.555
mint.splsda0.6660.0090.680
mixOmics0.3140.0300.349
nearZeroVar0.6720.0110.685
network0.0130.0040.017
pca4.8460.0604.942
perf2.7140.1292.864
perf.assess25.619 0.86826.615
plot.rcc0.0140.0040.019
plot.tune0.0000.0010.002
plotArrow3.9310.0624.016
plotDiablo0.1420.0050.149
plotIndiv0.3480.0100.360
plotLoadings0.1070.0070.115
plotMarkers000
plotVar0.6330.0140.650
pls0.0070.0020.009
plsda0.3720.0060.380
predict0.2000.0120.213
rcc0.0030.0020.005
selectVar0.6200.0580.679
sipca0.4580.0180.477
spca2.9200.0943.028
spls0.2200.0270.247
splsda0.3760.0120.390
study_split0.0050.0020.007
summary0.0190.0040.022
tune5.7590.3466.140
tune.block.plsda34.855 0.36235.397
tune.block.splsda13.334 0.15748.218
tune.mint.plsda0.8790.0300.913
tune.mint.splsda3.6070.1613.790
tune.pca0.8160.0230.844
tune.pls33.672 1.86835.721
tune.plsda46.750 2.19949.172
tune.rcc2.5930.0982.699
tune.spca0.6800.0090.693
tune.spls218.148 9.471228.797
tune.splsda 97.613 4.853103.075
unmap0.0040.0080.013
vip0.0110.0020.014
withinVariation0.9990.0111.016
wrapper.rgcca0.0530.0050.057
wrapper.sgcca0.1350.0080.144