Back to Multiple platform build/check report for BioC 3.21: simplified long |
|
This page was generated on 2025-02-04 11:41 -0500 (Tue, 04 Feb 2025).
Hostname | OS | Arch (*) | R version | Installed pkgs |
---|---|---|---|---|
nebbiolo1 | Linux (Ubuntu 24.04.1 LTS) | x86_64 | R Under development (unstable) (2025-01-20 r87609) -- "Unsuffered Consequences" | 4716 |
palomino7 | Windows Server 2022 Datacenter | x64 | R Under development (unstable) (2025-01-21 r87610 ucrt) -- "Unsuffered Consequences" | 4478 |
lconway | macOS 12.7.1 Monterey | x86_64 | R Under development (unstable) (2025-01-22 r87618) -- "Unsuffered Consequences" | 4489 |
kjohnson3 | macOS 13.7.1 Ventura | arm64 | R Under development (unstable) (2025-01-20 r87609) -- "Unsuffered Consequences" | 4442 |
Click on any hostname to see more info about the system (e.g. compilers) (*) as reported by 'uname -p', except on Windows and Mac OS X |
Package 1370/2295 | Hostname | OS / Arch | INSTALL | BUILD | CHECK | BUILD BIN | ||||||||
multicrispr 1.17.1 (landing page) Aditya Bhagwat
| nebbiolo1 | Linux (Ubuntu 24.04.1 LTS) / x86_64 | OK | OK | OK | |||||||||
palomino7 | Windows Server 2022 Datacenter / x64 | OK | OK | OK | OK | |||||||||
lconway | macOS 12.7.1 Monterey / x86_64 | OK | OK | OK | OK | |||||||||
kjohnson3 | macOS 13.7.1 Ventura / arm64 | OK | OK | OK | OK | |||||||||
To the developers/maintainers of the multicrispr package: - Allow up to 24 hours (and sometimes 48 hours) for your latest push to git@git.bioconductor.org:packages/multicrispr.git to reflect on this report. See Troubleshooting Build Report for more information. - Use the following Renviron settings to reproduce errors and warnings. - If 'R CMD check' started to fail recently on the Linux builder(s) over a missing dependency, add the missing dependency to 'Suggests:' in your DESCRIPTION file. See Renviron.bioc for more information. |
Package: multicrispr |
Version: 1.17.1 |
Command: E:\biocbuild\bbs-3.21-bioc\R\bin\R.exe CMD check --no-multiarch --install=check:multicrispr.install-out.txt --library=E:\biocbuild\bbs-3.21-bioc\R\library --no-vignettes --timings multicrispr_1.17.1.tar.gz |
StartedAt: 2025-02-04 03:54:11 -0500 (Tue, 04 Feb 2025) |
EndedAt: 2025-02-04 04:02:00 -0500 (Tue, 04 Feb 2025) |
EllapsedTime: 468.1 seconds |
RetCode: 0 |
Status: OK |
CheckDir: multicrispr.Rcheck |
Warnings: 0 |
############################################################################## ############################################################################## ### ### Running command: ### ### E:\biocbuild\bbs-3.21-bioc\R\bin\R.exe CMD check --no-multiarch --install=check:multicrispr.install-out.txt --library=E:\biocbuild\bbs-3.21-bioc\R\library --no-vignettes --timings multicrispr_1.17.1.tar.gz ### ############################################################################## ############################################################################## * using log directory 'E:/biocbuild/bbs-3.21-bioc/meat/multicrispr.Rcheck' * using R Under development (unstable) (2025-01-21 r87610 ucrt) * using platform: x86_64-w64-mingw32 * R was compiled by gcc.exe (GCC) 13.3.0 GNU Fortran (GCC) 13.3.0 * running under: Windows Server 2022 x64 (build 20348) * using session charset: UTF-8 * using option '--no-vignettes' * checking for file 'multicrispr/DESCRIPTION' ... OK * this is package 'multicrispr' version '1.17.1' * package encoding: UTF-8 * checking package namespace information ... OK * checking package dependencies ... OK * checking if this is a source package ... OK * checking if there is a namespace ... OK * checking for hidden files and directories ... OK * checking for portable file names ... OK * checking whether package 'multicrispr' can be installed ... OK * checking installed package size ... OK * checking package directory ... OK * checking 'build' directory ... OK * checking DESCRIPTION meta-information ... OK * checking top-level files ... OK * checking for left-over files ... OK * checking index information ... OK * checking package subdirectories ... OK * checking code files for non-ASCII characters ... OK * checking R files for syntax errors ... OK * checking whether the package can be loaded ... OK * checking whether the package can be loaded with stated dependencies ... OK * checking whether the package can be unloaded cleanly ... OK * checking whether the namespace can be loaded with stated dependencies ... OK * checking whether the namespace can be unloaded cleanly ... OK * checking dependencies in R code ... OK * checking S3 generic/method consistency ... OK * checking replacement functions ... OK * checking foreign function calls ... OK * checking R code for possible problems ... OK * checking Rd files ... OK * checking Rd metadata ... OK * checking Rd cross-references ... NOTE Found the following Rd file(s) with Rd \link{} targets missing package anchors: extract_matchranges.Rd: BSgenome Please provide package anchors for all Rd \link{} targets not in the package itself and the base packages. * checking for missing documentation entries ... OK * checking for code/documentation mismatches ... OK * checking Rd \usage sections ... OK * checking Rd contents ... OK * checking for unstated dependencies in examples ... OK * checking files in 'vignettes' ... OK * checking examples ... OK Examples with CPU (user + system) or elapsed time > 5s user system elapsed find_primespacers 19.14 1.64 20.78 score_ontargets 18.30 1.39 19.69 add_genome_matches 12.49 2.43 15.31 find_spacers 12.69 1.19 13.88 up_flank 12.51 0.23 12.75 plot_intervals 10.14 0.87 11.02 extend_for_pe 9.72 1.05 10.80 add_target_matches 8.79 0.84 14.81 index_genome 1.06 0.12 20.39 * checking for unstated dependencies in 'tests' ... OK * checking tests ... Running 'testthat.R' OK * checking for unstated dependencies in vignettes ... OK * checking package vignettes ... OK * checking running R code from vignettes ... SKIPPED * checking re-building of vignette outputs ... SKIPPED * checking PDF version of manual ... OK * DONE Status: 1 NOTE See 'E:/biocbuild/bbs-3.21-bioc/meat/multicrispr.Rcheck/00check.log' for details.
multicrispr.Rcheck/00install.out
############################################################################## ############################################################################## ### ### Running command: ### ### E:\biocbuild\bbs-3.21-bioc\R\bin\R.exe CMD INSTALL multicrispr ### ############################################################################## ############################################################################## * installing to library 'E:/biocbuild/bbs-3.21-bioc/R/library' * installing *source* package 'multicrispr' ... ** this is package 'multicrispr' version '1.17.1' ** using staged installation ** R ** inst ** byte-compile and prepare package for lazy loading ** help *** installing help indices ** building package indices ** installing vignettes ** testing if installed package can be loaded from temporary location ** testing if installed package can be loaded from final location ** testing if installed package keeps a record of temporary installation path * DONE (multicrispr)
multicrispr.Rcheck/tests/testthat.Rout
R Under development (unstable) (2025-01-21 r87610 ucrt) -- "Unsuffered Consequences" Copyright (C) 2025 The R Foundation for Statistical Computing Platform: x86_64-w64-mingw32/x64 R is free software and comes with ABSOLUTELY NO WARRANTY. You are welcome to redistribute it under certain conditions. Type 'license()' or 'licence()' for distribution details. R is a collaborative project with many contributors. Type 'contributors()' for more information and 'citation()' on how to cite R or R packages in publications. Type 'demo()' for some demos, 'help()' for on-line help, or 'help.start()' for an HTML browser interface to help. Type 'q()' to quit R. > library(testthat) > library(multicrispr) > > test_check("multicrispr") [ FAIL 0 | WARN 0 | SKIP 0 | PASS 13 ] > > proc.time() user system elapsed 17.79 2.54 20.28
multicrispr.Rcheck/multicrispr-Ex.timings
name | user | system | elapsed | |
add_genome_matches | 12.49 | 2.43 | 15.31 | |
add_inverse_strand | 2.39 | 0.11 | 2.50 | |
add_seq | 2.80 | 0.51 | 4.01 | |
add_target_matches | 8.79 | 0.84 | 14.81 | |
bed_to_granges | 2.07 | 0.08 | 2.14 | |
char_to_granges | 1.18 | 0.00 | 1.18 | |
double_flank | 3.24 | 0.09 | 3.35 | |
extend_for_pe | 9.72 | 1.05 | 10.80 | |
extend_pe_to_gg | 0.5 | 0.0 | 0.5 | |
extract_matchranges | 3.27 | 0.23 | 3.50 | |
extract_subranges | 0.59 | 0.03 | 0.63 | |
find_gg | 1.33 | 0.11 | 1.43 | |
find_primespacers | 19.14 | 1.64 | 20.78 | |
find_spacers | 12.69 | 1.19 | 13.88 | |
genes_to_granges | 4.11 | 0.19 | 4.37 | |
gr2dt | 0.31 | 0.00 | 0.32 | |
has_been_indexed | 0 | 0 | 0 | |
index_genome | 1.06 | 0.12 | 20.39 | |
index_targets | 1.99 | 0.18 | 3.06 | |
plot_intervals | 10.14 | 0.87 | 11.02 | |
plot_karyogram | 1.40 | 0.16 | 1.56 | |
score_ontargets | 18.30 | 1.39 | 19.69 | |
up_flank | 12.51 | 0.23 | 12.75 | |
write_ranges | 0.17 | 0.00 | 0.19 | |