Back to Multiple platform build/check report for BioC 3.21:   simplified   long
ABCDEFGHIJKL[M]NOPQRSTUVWXYZ

This page was generated on 2025-02-13 11:41 -0500 (Thu, 13 Feb 2025).

HostnameOSArch (*)R versionInstalled pkgs
nebbiolo1Linux (Ubuntu 24.04.1 LTS)x86_64R Under development (unstable) (2025-01-20 r87609) -- "Unsuffered Consequences" 4719
palomino7Windows Server 2022 Datacenterx64R Under development (unstable) (2025-01-21 r87610 ucrt) -- "Unsuffered Consequences" 4481
lconwaymacOS 12.7.1 Montereyx86_64R Under development (unstable) (2025-01-22 r87618) -- "Unsuffered Consequences" 4492
kjohnson3macOS 13.7.1 Venturaarm64R Under development (unstable) (2025-01-20 r87609) -- "Unsuffered Consequences" 4445
Click on any hostname to see more info about the system (e.g. compilers)      (*) as reported by 'uname -p', except on Windows and Mac OS X

Package 1386/2295HostnameOS / ArchINSTALLBUILDCHECKBUILD BIN
musicatk 2.1.0  (landing page)
Joshua D. Campbell
Snapshot Date: 2025-02-12 13:40 -0500 (Wed, 12 Feb 2025)
git_url: https://git.bioconductor.org/packages/musicatk
git_branch: devel
git_last_commit: 45539aa
git_last_commit_date: 2024-10-29 10:52:22 -0500 (Tue, 29 Oct 2024)
nebbiolo1Linux (Ubuntu 24.04.1 LTS) / x86_64  OK    OK    OK  UNNEEDED, same version is already published
palomino7Windows Server 2022 Datacenter / x64  OK    OK    OK    OK  UNNEEDED, same version is already published
lconwaymacOS 12.7.1 Monterey / x86_64  OK    OK    OK    OK  UNNEEDED, same version is already published
kjohnson3macOS 13.7.1 Ventura / arm64  OK    OK    OK    OK  UNNEEDED, same version is already published


CHECK results for musicatk on palomino7

To the developers/maintainers of the musicatk package:
- Allow up to 24 hours (and sometimes 48 hours) for your latest push to git@git.bioconductor.org:packages/musicatk.git to reflect on this report. See Troubleshooting Build Report for more information.
- Use the following Renviron settings to reproduce errors and warnings.
- If 'R CMD check' started to fail recently on the Linux builder(s) over a missing dependency, add the missing dependency to 'Suggests:' in your DESCRIPTION file. See Renviron.bioc for more information.

raw results


Summary

Package: musicatk
Version: 2.1.0
Command: E:\biocbuild\bbs-3.21-bioc\R\bin\R.exe CMD check --no-multiarch --install=check:musicatk.install-out.txt --library=E:\biocbuild\bbs-3.21-bioc\R\library --no-vignettes --timings musicatk_2.1.0.tar.gz
StartedAt: 2025-02-13 03:38:26 -0500 (Thu, 13 Feb 2025)
EndedAt: 2025-02-13 03:51:33 -0500 (Thu, 13 Feb 2025)
EllapsedTime: 786.9 seconds
RetCode: 0
Status:   OK  
CheckDir: musicatk.Rcheck
Warnings: 0

Command output

##############################################################################
##############################################################################
###
### Running command:
###
###   E:\biocbuild\bbs-3.21-bioc\R\bin\R.exe CMD check --no-multiarch --install=check:musicatk.install-out.txt --library=E:\biocbuild\bbs-3.21-bioc\R\library --no-vignettes --timings musicatk_2.1.0.tar.gz
###
##############################################################################
##############################################################################


* using log directory 'E:/biocbuild/bbs-3.21-bioc/meat/musicatk.Rcheck'
* using R Under development (unstable) (2025-01-21 r87610 ucrt)
* using platform: x86_64-w64-mingw32
* R was compiled by
    gcc.exe (GCC) 13.3.0
    GNU Fortran (GCC) 13.3.0
* running under: Windows Server 2022 x64 (build 20348)
* using session charset: UTF-8
* using option '--no-vignettes'
* checking for file 'musicatk/DESCRIPTION' ... OK
* checking extension type ... Package
* this is package 'musicatk' version '2.1.0'
* package encoding: UTF-8
* checking package namespace information ... OK
* checking package dependencies ... OK
* checking if this is a source package ... OK
* checking if there is a namespace ... OK
* checking for hidden files and directories ... OK
* checking for portable file names ... OK
* checking whether package 'musicatk' can be installed ... OK
* checking installed package size ... OK
* checking package directory ... OK
* checking 'build' directory ... OK
* checking DESCRIPTION meta-information ... OK
* checking top-level files ... OK
* checking for left-over files ... OK
* checking index information ... OK
* checking package subdirectories ... OK
* checking code files for non-ASCII characters ... OK
* checking R files for syntax errors ... OK
* checking whether the package can be loaded ... OK
* checking whether the package can be loaded with stated dependencies ... OK
* checking whether the package can be unloaded cleanly ... OK
* checking whether the namespace can be loaded with stated dependencies ... OK
* checking whether the namespace can be unloaded cleanly ... OK
* checking dependencies in R code ... OK
* checking S3 generic/method consistency ... OK
* checking replacement functions ... OK
* checking foreign function calls ... OK
* checking R code for possible problems ... OK
* checking Rd files ... OK
* checking Rd metadata ... OK
* checking Rd cross-references ... NOTE
Found the following Rd file(s) with Rd \link{} targets missing package
anchors:
  add_flank_to_variants.Rd: BSgenome-class
  build_standard_table.Rd: BSgenome-class
  create_musica_from_variants.Rd: BSgenome-class
  create_sbs192_table.Rd: BSgenome-class
  create_sbs96_table.Rd: BSgenome-class
  extract_variants.Rd: CollapsedVCF-class, ExpandedVCF-class, MAF-class
  variants.Rd: data.table-class
Please provide package anchors for all Rd \link{} targets not in the
package itself and the base packages.
* checking for missing documentation entries ... OK
* checking for code/documentation mismatches ... OK
* checking Rd \usage sections ... OK
* checking Rd contents ... OK
* checking for unstated dependencies in examples ... OK
* checking contents of 'data' directory ... OK
* checking data for non-ASCII characters ... OK
* checking LazyData ... OK
* checking data for ASCII and uncompressed saves ... OK
* checking files in 'vignettes' ... OK
* checking examples ... OK
Examples with CPU (user + system) or elapsed time > 5s
                      user system elapsed
plot_k_comparison    81.08   0.56  177.41
compare_k_vals       71.25   1.17  161.93
build_standard_table  8.70   1.59   10.33
plot_cluster          5.97   0.15    6.19
extract_variants      5.61   0.11    5.72
create_umap           5.55   0.14    5.89
plot_umap             5.08   0.06    5.19
* checking for unstated dependencies in 'tests' ... OK
* checking tests ...
  Running 'testthat.R'
 OK
* checking for unstated dependencies in vignettes ... OK
* checking package vignettes ... OK
* checking running R code from vignettes ... SKIPPED
* checking re-building of vignette outputs ... SKIPPED
* checking PDF version of manual ... OK
* DONE

Status: 1 NOTE
See
  'E:/biocbuild/bbs-3.21-bioc/meat/musicatk.Rcheck/00check.log'
for details.


Installation output

musicatk.Rcheck/00install.out

##############################################################################
##############################################################################
###
### Running command:
###
###   E:\biocbuild\bbs-3.21-bioc\R\bin\R.exe CMD INSTALL musicatk
###
##############################################################################
##############################################################################


* installing to library 'E:/biocbuild/bbs-3.21-bioc/R/library'
* installing *source* package 'musicatk' ...
** this is package 'musicatk' version '2.1.0'
** using staged installation
** R
** data
*** moving datasets to lazyload DB
** inst
** byte-compile and prepare package for lazy loading
** help
*** installing help indices
** building package indices
** installing vignettes
** testing if installed package can be loaded from temporary location
** testing if installed package can be loaded from final location
** testing if installed package keeps a record of temporary installation path
* DONE (musicatk)

Tests output

musicatk.Rcheck/tests/testthat.Rout


R Under development (unstable) (2025-01-21 r87610 ucrt) -- "Unsuffered Consequences"
Copyright (C) 2025 The R Foundation for Statistical Computing
Platform: x86_64-w64-mingw32/x64

R is free software and comes with ABSOLUTELY NO WARRANTY.
You are welcome to redistribute it under certain conditions.
Type 'license()' or 'licence()' for distribution details.

R is a collaborative project with many contributors.
Type 'contributors()' for more information and
'citation()' on how to cite R or R packages in publications.

Type 'demo()' for some demos, 'help()' for on-line help, or
'help.start()' for an HTML browser interface to help.
Type 'q()' to quit R.

> library("testthat")
> library("musicatk")
Loading required package: NMF
Loading required package: registry
Loading required package: rngtools
Loading required package: cluster
NMF - BioConductor layer [OK] | Shared memory capabilities [NO: windows] | Cores 2/2

Attaching package: 'NMF'

The following object is masked from 'package:generics':

    fit

The following object is masked from 'package:testthat':

    compare

> 
> test_check("musicatk")
[ FAIL 0 | WARN 1 | SKIP 0 | PASS 41 ]

[ FAIL 0 | WARN 1 | SKIP 0 | PASS 41 ]
> 
> proc.time()
   user  system elapsed 
  24.62    2.12   27.32 

Example timings

musicatk.Rcheck/musicatk-Ex.timings

nameusersystemelapsed
add_flank_to_variants3.360.353.71
add_variant_type0.010.010.03
annotate_replication_strand0.100.020.11
annotate_transcript_strand2.590.042.64
annotate_variant_length0.030.000.03
annotate_variant_type000
auto_predict_grid2.550.132.79
build_custom_table1.140.031.15
build_standard_table 8.70 1.5910.33
built_tables0.020.000.02
cluster_exposure0.000.020.01
combine_count_tables3.390.413.80
combine_predict_grid0.640.030.67
compare_cosmic_v23.390.143.58
compare_cosmic_v32.260.032.29
compare_k_vals 71.25 1.17161.93
compare_results2.150.022.15
cosmic_v2_subtype_map000
create_musica_from_counts0.010.000.02
create_musica_from_variants1.080.371.62
create_result_model000
create_umap5.550.145.89
credible_intervals0.000.020.02
discover_signatures1.010.231.25
drop_annotation000
exposure_differential_analysis0.020.020.03
exposures0.040.000.05
extract_count_tables0.020.000.01
extract_variants5.610.115.72
extract_variants_from_maf0.120.000.13
extract_variants_from_maf_file0.110.000.11
extract_variants_from_matrix0.140.000.14
extract_variants_from_vcf0.950.071.03
extract_variants_from_vcf_file0.470.020.49
generate_result_grid0.630.000.62
get_modality0.010.000.02
get_model0.000.020.01
get_result_list_entry0.020.000.02
hyperparameter000
k_select1.040.031.08
metrics0.020.000.01
modality0.020.000.02
model_id000
musicatk000
name_signatures0.040.000.05
num_signatures000
other_parameters0.020.000.01
parameter000
pipe000
plot_cluster5.970.156.19
plot_differential_analysis0.230.020.25
plot_exposures0.410.000.41
plot_heatmap1.170.560.95
plot_k_comparison 81.08 0.56177.41
plot_sample_counts0.760.000.79
plot_sample_reconstruction_error1.080.021.09
plot_signatures0.780.020.80
plot_umap5.080.065.19
predict_exposure1.390.201.59
rc000
result_list000
samp_annot0.010.020.03
sample_names000
select_genome000
signatures0.030.010.05
subset_musica_by_annotation0.000.000.03
subset_musica_by_counts0.020.000.01
subset_variant_by_type0.000.020.02
subset_variants_by_samples0.000.010.02
table_selected000
tables000
umap000
variants000