Back to Multiple platform build/check report for BioC 3.21:   simplified   long
ABCDEFGHIJKLM[N]OPQRSTUVWXYZ

This page was generated on 2025-02-04 11:41 -0500 (Tue, 04 Feb 2025).

HostnameOSArch (*)R versionInstalled pkgs
nebbiolo1Linux (Ubuntu 24.04.1 LTS)x86_64R Under development (unstable) (2025-01-20 r87609) -- "Unsuffered Consequences" 4716
palomino7Windows Server 2022 Datacenterx64R Under development (unstable) (2025-01-21 r87610 ucrt) -- "Unsuffered Consequences" 4478
lconwaymacOS 12.7.1 Montereyx86_64R Under development (unstable) (2025-01-22 r87618) -- "Unsuffered Consequences" 4489
kjohnson3macOS 13.7.1 Venturaarm64R Under development (unstable) (2025-01-20 r87609) -- "Unsuffered Consequences" 4442
Click on any hostname to see more info about the system (e.g. compilers)      (*) as reported by 'uname -p', except on Windows and Mac OS X

Package 1435/2295HostnameOS / ArchINSTALLBUILDCHECKBUILD BIN
nucleR 2.39.0  (landing page)
Alba Sala
Snapshot Date: 2025-02-03 13:40 -0500 (Mon, 03 Feb 2025)
git_url: https://git.bioconductor.org/packages/nucleR
git_branch: devel
git_last_commit: 242e3bb
git_last_commit_date: 2024-10-29 09:37:44 -0500 (Tue, 29 Oct 2024)
nebbiolo1Linux (Ubuntu 24.04.1 LTS) / x86_64  OK    OK    WARNINGS  UNNEEDED, same version is already published
palomino7Windows Server 2022 Datacenter / x64  OK    OK    WARNINGS    OK  UNNEEDED, same version is already published
lconwaymacOS 12.7.1 Monterey / x86_64  OK    OK    WARNINGS    OK  UNNEEDED, same version is already published
kjohnson3macOS 13.7.1 Ventura / arm64  OK    OK    WARNINGS    OK  UNNEEDED, same version is already published


INSTALL results for nucleR on palomino7

To the developers/maintainers of the nucleR package:
- Allow up to 24 hours (and sometimes 48 hours) for your latest push to git@git.bioconductor.org:packages/nucleR.git to reflect on this report. See Troubleshooting Build Report for more information.
- Use the following Renviron settings to reproduce errors and warnings.
- If 'R CMD check' started to fail recently on the Linux builder(s) over a missing dependency, add the missing dependency to 'Suggests:' in your DESCRIPTION file. See Renviron.bioc for more information.

raw results


Summary

Package: nucleR
Version: 2.39.0
Command: E:\biocbuild\bbs-3.21-bioc\R\bin\R.exe CMD INSTALL nucleR
StartedAt: 2025-02-03 17:05:05 -0500 (Mon, 03 Feb 2025)
EndedAt: 2025-02-03 17:06:13 -0500 (Mon, 03 Feb 2025)
EllapsedTime: 68.8 seconds
RetCode: 0
Status:   OK  

Command output

##############################################################################
##############################################################################
###
### Running command:
###
###   E:\biocbuild\bbs-3.21-bioc\R\bin\R.exe CMD INSTALL nucleR
###
##############################################################################
##############################################################################


* installing to library 'E:/biocbuild/bbs-3.21-bioc/R/library'
* installing *source* package 'nucleR' ...
** this is package 'nucleR' version '2.39.0'
** using staged installation
** R
** data
** inst
** byte-compile and prepare package for lazy loading
Loading required package: usethis

Welcome at Mon Feb  3 17:05:15 2025 

Goodbye at  Mon Feb  3 17:05:41 2025 
** help
*** installing help indices
** building package indices
Loading required package: usethis

Welcome at Mon Feb  3 17:05:51 2025 

Goodbye at  Mon Feb  3 17:05:51 2025 
** installing vignettes
** testing if installed package can be loaded from temporary location
Loading required package: usethis

Welcome at Mon Feb  3 17:05:52 2025 

Goodbye at  Mon Feb  3 17:06:01 2025 
** testing if installed package can be loaded from final location
Loading required package: usethis

Welcome at Mon Feb  3 17:06:02 2025 

Goodbye at  Mon Feb  3 17:06:11 2025 
** testing if installed package keeps a record of temporary installation path
* DONE (nucleR)