Back to Multiple platform build/check report for BioC 3.21: simplified long |
|
This page was generated on 2025-02-04 11:41 -0500 (Tue, 04 Feb 2025).
Hostname | OS | Arch (*) | R version | Installed pkgs |
---|---|---|---|---|
nebbiolo1 | Linux (Ubuntu 24.04.1 LTS) | x86_64 | R Under development (unstable) (2025-01-20 r87609) -- "Unsuffered Consequences" | 4716 |
palomino7 | Windows Server 2022 Datacenter | x64 | R Under development (unstable) (2025-01-21 r87610 ucrt) -- "Unsuffered Consequences" | 4478 |
lconway | macOS 12.7.1 Monterey | x86_64 | R Under development (unstable) (2025-01-22 r87618) -- "Unsuffered Consequences" | 4489 |
kjohnson3 | macOS 13.7.1 Ventura | arm64 | R Under development (unstable) (2025-01-20 r87609) -- "Unsuffered Consequences" | 4442 |
Click on any hostname to see more info about the system (e.g. compilers) (*) as reported by 'uname -p', except on Windows and Mac OS X |
Package 1448/2295 | Hostname | OS / Arch | INSTALL | BUILD | CHECK | BUILD BIN | ||||||||
omada 1.9.0 (landing page) Sokratis Kariotis
| nebbiolo1 | Linux (Ubuntu 24.04.1 LTS) / x86_64 | OK | OK | OK | |||||||||
palomino7 | Windows Server 2022 Datacenter / x64 | OK | OK | OK | OK | |||||||||
lconway | macOS 12.7.1 Monterey / x86_64 | OK | OK | OK | OK | |||||||||
kjohnson3 | macOS 13.7.1 Ventura / arm64 | OK | OK | OK | OK | |||||||||
To the developers/maintainers of the omada package: - Allow up to 24 hours (and sometimes 48 hours) for your latest push to git@git.bioconductor.org:packages/omada.git to reflect on this report. See Troubleshooting Build Report for more information. - Use the following Renviron settings to reproduce errors and warnings. - If 'R CMD check' started to fail recently on the Linux builder(s) over a missing dependency, add the missing dependency to 'Suggests:' in your DESCRIPTION file. See Renviron.bioc for more information. |
Package: omada |
Version: 1.9.0 |
Command: E:\biocbuild\bbs-3.21-bioc\R\bin\R.exe CMD check --no-multiarch --install=check:omada.install-out.txt --library=E:\biocbuild\bbs-3.21-bioc\R\library --no-vignettes --timings omada_1.9.0.tar.gz |
StartedAt: 2025-02-04 04:10:22 -0500 (Tue, 04 Feb 2025) |
EndedAt: 2025-02-04 04:22:59 -0500 (Tue, 04 Feb 2025) |
EllapsedTime: 756.9 seconds |
RetCode: 0 |
Status: OK |
CheckDir: omada.Rcheck |
Warnings: 0 |
############################################################################## ############################################################################## ### ### Running command: ### ### E:\biocbuild\bbs-3.21-bioc\R\bin\R.exe CMD check --no-multiarch --install=check:omada.install-out.txt --library=E:\biocbuild\bbs-3.21-bioc\R\library --no-vignettes --timings omada_1.9.0.tar.gz ### ############################################################################## ############################################################################## * using log directory 'E:/biocbuild/bbs-3.21-bioc/meat/omada.Rcheck' * using R Under development (unstable) (2025-01-21 r87610 ucrt) * using platform: x86_64-w64-mingw32 * R was compiled by gcc.exe (GCC) 13.3.0 GNU Fortran (GCC) 13.3.0 * running under: Windows Server 2022 x64 (build 20348) * using session charset: UTF-8 * using option '--no-vignettes' * checking for file 'omada/DESCRIPTION' ... OK * checking extension type ... Package * this is package 'omada' version '1.9.0' * package encoding: UTF-8 * checking package namespace information ... OK * checking package dependencies ... INFO Depends: includes the non-default packages: 'pdfCluster', 'kernlab', 'fpc', 'Rcpp', 'diceR', 'ggplot2', 'reshape', 'genieclust', 'clValid', 'glmnet', 'dplyr' Adding so many packages to the search path is excessive and importing selectively is preferable. * checking if this is a source package ... OK * checking if there is a namespace ... OK * checking for hidden files and directories ... OK * checking for portable file names ... OK * checking whether package 'omada' can be installed ... OK * checking installed package size ... OK * checking package directory ... OK * checking 'build' directory ... OK * checking DESCRIPTION meta-information ... OK * checking top-level files ... NOTE File LICENSE is not mentioned in the DESCRIPTION file. * checking for left-over files ... OK * checking index information ... OK * checking package subdirectories ... OK * checking code files for non-ASCII characters ... OK * checking R files for syntax errors ... OK * checking whether the package can be loaded ... OK * checking whether the package can be loaded with stated dependencies ... OK * checking whether the package can be unloaded cleanly ... OK * checking whether the namespace can be loaded with stated dependencies ... OK * checking whether the namespace can be unloaded cleanly ... OK * checking dependencies in R code ... NOTE Packages in Depends field not imported from: 'Rcpp' 'dplyr' 'genieclust' 'glmnet' 'kernlab' 'reshape' These packages need to be imported from (in the NAMESPACE file) for when this namespace is loaded but not attached. * checking S3 generic/method consistency ... OK * checking replacement functions ... OK * checking foreign function calls ... OK * checking R code for possible problems ... NOTE Index.15and28: no visible global function definition for 'dist' Index.15and28: no visible global function definition for 'as.dist' Index.sPlussMoins: no visible global function definition for 'dist' Index.sPlussMoins: no visible global function definition for 'as.dist' Index.sPlussMoins: no visible global function definition for 'median' Indice.cindex: no visible global function definition for 'dist' clusterVoting: no visible global function definition for 'calinhara' clusterVoting: no visible global function definition for 'generalised_dunn_index' clusterVoting: no visible global function definition for 'silhouette_index' clusterVoting: no visible global function definition for 'negated_davies_bouldin_index' clusterVoting: no visible binding for global variable 'k' clusterVoting: no visible binding for global variable 'Frequency' clusteringMethodSelection: no visible binding for global variable 'value' clusteringMethodSelection: no visible binding for global variable 'methods' featureSelection: no visible binding for global variable 'featureSet' featureSelection: no visible binding for global variable 'means' Undefined global functions or variables: Frequency as.dist calinhara dist featureSet generalised_dunn_index k means median methods negated_davies_bouldin_index silhouette_index value Consider adding importFrom("stats", "as.dist", "dist", "median") importFrom("utils", "methods") to your NAMESPACE file. * checking Rd files ... OK * checking Rd metadata ... OK * checking Rd cross-references ... OK * checking for missing documentation entries ... OK * checking for code/documentation mismatches ... OK * checking Rd \usage sections ... OK * checking Rd contents ... OK * checking for unstated dependencies in examples ... OK * checking contents of 'data' directory ... OK * checking data for non-ASCII characters ... OK * checking LazyData ... OK * checking data for ASCII and uncompressed saves ... OK * checking files in 'vignettes' ... OK * checking examples ... OK Examples with CPU (user + system) or elapsed time > 5s user system elapsed get_feature_selection_optimal_number_of_features 47.72 2.33 50.06 get_feature_selection_scores 46.21 2.15 48.36 plot_partition_agreement 38.44 2.15 41.65 plot_feature_selection 35.30 2.10 37.89 get_cluster_voting_memberships 33.36 1.89 35.28 get_cluster_voting_scores 32.64 1.50 34.14 get_feature_selection_optimal_features 32.25 1.72 33.97 get_sample_memberships 31.76 1.51 33.33 get_cluster_voting_k_votes 31.19 1.74 32.92 get_cluster_voting_metric_votes 30.76 2.06 32.86 get_partition_agreement_scores 30.50 1.60 32.11 omada 24.42 0.89 25.33 plot_cluster_voting 22.79 1.28 24.08 plot_average_stabilities 10.49 0.51 11.00 get_optimal_features 10.53 0.46 11.00 get_optimal_number_of_features 10.26 0.44 10.70 get_optimal_parameter_used 9.42 0.52 9.94 get_optimal_stability_score 9.49 0.43 9.92 get_optimal_memberships 9.24 0.33 9.56 featureSelection 7.56 0.32 7.88 get_average_feature_k_stabilities 5.92 0.25 6.17 * checking for unstated dependencies in 'tests' ... OK * checking tests ... Running 'testthat.R' OK * checking for unstated dependencies in vignettes ... OK * checking package vignettes ... OK * checking running R code from vignettes ... SKIPPED * checking re-building of vignette outputs ... SKIPPED * checking PDF version of manual ... OK * DONE Status: 3 NOTEs See 'E:/biocbuild/bbs-3.21-bioc/meat/omada.Rcheck/00check.log' for details.
omada.Rcheck/00install.out
############################################################################## ############################################################################## ### ### Running command: ### ### E:\biocbuild\bbs-3.21-bioc\R\bin\R.exe CMD INSTALL omada ### ############################################################################## ############################################################################## * installing to library 'E:/biocbuild/bbs-3.21-bioc/R/library' * installing *source* package 'omada' ... ** this is package 'omada' version '1.9.0' ** using staged installation ** R ** data *** moving datasets to lazyload DB ** inst ** byte-compile and prepare package for lazy loading ** help *** installing help indices ** building package indices ** installing vignettes ** testing if installed package can be loaded from temporary location ** testing if installed package can be loaded from final location ** testing if installed package keeps a record of temporary installation path * DONE (omada)
omada.Rcheck/tests/testthat.Rout
R Under development (unstable) (2025-01-21 r87610 ucrt) -- "Unsuffered Consequences" Copyright (C) 2025 The R Foundation for Statistical Computing Platform: x86_64-w64-mingw32/x64 R is free software and comes with ABSOLUTELY NO WARRANTY. You are welcome to redistribute it under certain conditions. Type 'license()' or 'licence()' for distribution details. R is a collaborative project with many contributors. Type 'contributors()' for more information and 'citation()' on how to cite R or R packages in publications. Type 'demo()' for some demos, 'help()' for on-line help, or 'help.start()' for an HTML browser interface to help. Type 'q()' to quit R. > library(testthat) > library(omada) Loading required package: pdfCluster pdfCluster 1.0-4 Loading required package: kernlab Loading required package: fpc Loading required package: Rcpp Loading required package: diceR Loading required package: ggplot2 Attaching package: 'ggplot2' The following object is masked from 'package:kernlab': alpha Loading required package: reshape Loading required package: genieclust Loading required package: clValid Loading required package: cluster Loading required package: glmnet Loading required package: Matrix Attaching package: 'Matrix' The following object is masked from 'package:reshape': expand Loaded glmnet 4.1-8 Loading required package: dplyr Attaching package: 'dplyr' The following object is masked from 'package:reshape': rename The following object is masked from 'package:pdfCluster': groups The following object is masked from 'package:testthat': matches The following objects are masked from 'package:stats': filter, lag The following objects are masked from 'package:base': intersect, setdiff, setequal, union > > test_check("omada") [ FAIL 0 | WARN 1 | SKIP 0 | PASS 38 ] [ FAIL 0 | WARN 1 | SKIP 0 | PASS 38 ] > > proc.time() user system elapsed 95.96 6.06 106.46
omada.Rcheck/omada-Ex.timings
name | user | system | elapsed | |
clusterVoting | 4.29 | 0.39 | 4.68 | |
clusteringMethodSelection | 1.85 | 0.07 | 1.91 | |
feasibilityAnalysis | 1.60 | 0.03 | 1.63 | |
feasibilityAnalysisDataBased | 3.47 | 0.15 | 3.62 | |
featureSelection | 7.56 | 0.32 | 7.88 | |
get_agreement_scores | 0.17 | 0.01 | 0.19 | |
get_average_feature_k_stabilities | 5.92 | 0.25 | 6.17 | |
get_average_stabilities_per_k | 1 | 0 | 1 | |
get_average_stability | 0.96 | 0.03 | 0.98 | |
get_cluster_memberships_k | 0.90 | 0.14 | 1.05 | |
get_cluster_voting_k_votes | 31.19 | 1.74 | 32.92 | |
get_cluster_voting_memberships | 33.36 | 1.89 | 35.28 | |
get_cluster_voting_metric_votes | 30.76 | 2.06 | 32.86 | |
get_cluster_voting_scores | 32.64 | 1.50 | 34.14 | |
get_feature_selection_optimal_features | 32.25 | 1.72 | 33.97 | |
get_feature_selection_optimal_number_of_features | 47.72 | 2.33 | 50.06 | |
get_feature_selection_scores | 46.21 | 2.15 | 48.36 | |
get_generated_dataset | 3.78 | 0.10 | 3.88 | |
get_internal_metric_scores | 1.06 | 0.26 | 1.33 | |
get_max_stability | 1.02 | 0.00 | 1.01 | |
get_metric_votes_k | 1.62 | 0.18 | 1.80 | |
get_optimal_features | 10.53 | 0.46 | 11.00 | |
get_optimal_memberships | 9.24 | 0.33 | 9.56 | |
get_optimal_number_of_features | 10.26 | 0.44 | 10.70 | |
get_optimal_parameter_used | 9.42 | 0.52 | 9.94 | |
get_optimal_stability_score | 9.49 | 0.43 | 9.92 | |
get_partition_agreement_scores | 30.50 | 1.60 | 32.11 | |
get_sample_memberships | 31.76 | 1.51 | 33.33 | |
get_vote_frequencies_k | 1.07 | 0.17 | 1.23 | |
omada | 24.42 | 0.89 | 25.33 | |
optimalClustering | 0.11 | 0.02 | 0.13 | |
partitionAgreement | 0.34 | 0.02 | 0.36 | |
plot_average_stabilities | 10.49 | 0.51 | 11.00 | |
plot_cluster_voting | 22.79 | 1.28 | 24.08 | |
plot_feature_selection | 35.30 | 2.10 | 37.89 | |
plot_partition_agreement | 38.44 | 2.15 | 41.65 | |
plot_vote_frequencies | 1.43 | 0.21 | 1.64 | |
toy_gene_memberships | 0.04 | 0.00 | 0.05 | |
toy_genes | 0.00 | 0.01 | 0.02 | |