Back to Multiple platform build/check report for BioC 3.21:   simplified   long
ABCDEFGHIJKLMN[O]PQRSTUVWXYZ

This page was generated on 2025-02-04 11:44 -0500 (Tue, 04 Feb 2025).

HostnameOSArch (*)R versionInstalled pkgs
nebbiolo1Linux (Ubuntu 24.04.1 LTS)x86_64R Under development (unstable) (2025-01-20 r87609) -- "Unsuffered Consequences" 4716
palomino7Windows Server 2022 Datacenterx64R Under development (unstable) (2025-01-21 r87610 ucrt) -- "Unsuffered Consequences" 4478
lconwaymacOS 12.7.1 Montereyx86_64R Under development (unstable) (2025-01-22 r87618) -- "Unsuffered Consequences" 4489
kjohnson3macOS 13.7.1 Venturaarm64R Under development (unstable) (2025-01-20 r87609) -- "Unsuffered Consequences" 4442
Click on any hostname to see more info about the system (e.g. compilers)      (*) as reported by 'uname -p', except on Windows and Mac OS X

Package 1474/2295HostnameOS / ArchINSTALLBUILDCHECKBUILD BIN
optimalFlow 1.19.0  (landing page)
Hristo Inouzhe
Snapshot Date: 2025-02-03 13:40 -0500 (Mon, 03 Feb 2025)
git_url: https://git.bioconductor.org/packages/optimalFlow
git_branch: devel
git_last_commit: 3518f15
git_last_commit_date: 2024-10-29 10:46:57 -0500 (Tue, 29 Oct 2024)
nebbiolo1Linux (Ubuntu 24.04.1 LTS) / x86_64  OK    OK    OK  UNNEEDED, same version is already published
palomino7Windows Server 2022 Datacenter / x64  OK    OK    OK    OK  UNNEEDED, same version is already published
lconwaymacOS 12.7.1 Monterey / x86_64  OK    OK    OK    OK  UNNEEDED, same version is already published
kjohnson3macOS 13.7.1 Ventura / arm64  OK    OK    OK    OK  UNNEEDED, same version is already published


CHECK results for optimalFlow on kjohnson3

To the developers/maintainers of the optimalFlow package:
- Allow up to 24 hours (and sometimes 48 hours) for your latest push to git@git.bioconductor.org:packages/optimalFlow.git to reflect on this report. See Troubleshooting Build Report for more information.
- Use the following Renviron settings to reproduce errors and warnings.
- If 'R CMD check' started to fail recently on the Linux builder(s) over a missing dependency, add the missing dependency to 'Suggests:' in your DESCRIPTION file. See Renviron.bioc for more information.

raw results


Summary

Package: optimalFlow
Version: 1.19.0
Command: /Library/Frameworks/R.framework/Resources/bin/R CMD check --install=check:optimalFlow.install-out.txt --library=/Library/Frameworks/R.framework/Resources/library --no-vignettes --timings optimalFlow_1.19.0.tar.gz
StartedAt: 2025-02-03 21:07:37 -0500 (Mon, 03 Feb 2025)
EndedAt: 2025-02-03 21:09:09 -0500 (Mon, 03 Feb 2025)
EllapsedTime: 92.2 seconds
RetCode: 0
Status:   OK  
CheckDir: optimalFlow.Rcheck
Warnings: 0

Command output

##############################################################################
##############################################################################
###
### Running command:
###
###   /Library/Frameworks/R.framework/Resources/bin/R CMD check --install=check:optimalFlow.install-out.txt --library=/Library/Frameworks/R.framework/Resources/library --no-vignettes --timings optimalFlow_1.19.0.tar.gz
###
##############################################################################
##############################################################################


* using log directory ‘/Users/biocbuild/bbs-3.21-bioc/meat/optimalFlow.Rcheck’
* using R Under development (unstable) (2025-01-20 r87609)
* using platform: aarch64-apple-darwin20
* R was compiled by
    Apple clang version 14.0.0 (clang-1400.0.29.202)
    GNU Fortran (GCC) 14.2.0
* running under: macOS Ventura 13.7.1
* using session charset: UTF-8
* using option ‘--no-vignettes’
* checking for file ‘optimalFlow/DESCRIPTION’ ... OK
* checking extension type ... Package
* this is package ‘optimalFlow’ version ‘1.19.0’
* package encoding: UTF-8
* checking package namespace information ... OK
* checking package dependencies ... OK
* checking if this is a source package ... OK
* checking if there is a namespace ... OK
* checking for hidden files and directories ... OK
* checking for portable file names ... OK
* checking for sufficient/correct file permissions ... OK
* checking whether package ‘optimalFlow’ can be installed ... OK
* checking installed package size ... OK
* checking package directory ... OK
* checking ‘build’ directory ... OK
* checking DESCRIPTION meta-information ... OK
* checking top-level files ... OK
* checking for left-over files ... OK
* checking index information ... OK
* checking package subdirectories ... OK
* checking code files for non-ASCII characters ... OK
* checking R files for syntax errors ... OK
* checking whether the package can be loaded ... OK
* checking whether the package can be loaded with stated dependencies ... OK
* checking whether the package can be unloaded cleanly ... OK
* checking whether the namespace can be loaded with stated dependencies ... OK
* checking whether the namespace can be unloaded cleanly ... OK
* checking dependencies in R code ... NOTE
There are ::: calls to the package's namespace in its code. A package
  almost never needs to use ::: for its own objects:
  ‘GaussianBarycenters’ ‘distGaussianCov’ ‘distGaussianMean’
  ‘wassersteinKBarycenter’
* checking S3 generic/method consistency ... OK
* checking replacement functions ... OK
* checking foreign function calls ... OK
* checking R code for possible problems ... NOTE
voteLabelTransfer: no visible binding for global variable ‘cell’
voteLabelTransfer: no visible binding for global variable
  ‘compound.proportion’
voteLabelTransfer: no visible binding for global variable
  ‘vote.proportion’
voteTransformation : <anonymous>: no visible binding for global
  variable ‘cell’
voteTransformation : <anonymous>: no visible binding for global
  variable ‘simple.proportion’
voteTransformation : <anonymous>: no visible binding for global
  variable ‘compound.proportion’
Undefined global functions or variables:
  cell compound.proportion simple.proportion vote.proportion
* checking Rd files ... OK
* checking Rd metadata ... OK
* checking Rd cross-references ... OK
* checking for missing documentation entries ... OK
* checking for code/documentation mismatches ... OK
* checking Rd \usage sections ... OK
* checking Rd contents ... OK
* checking for unstated dependencies in examples ... OK
* checking files in ‘vignettes’ ... OK
* checking examples ... OK
Examples with CPU (user + system) or elapsed time > 5s
                           user system elapsed
f1ScoreVoting             1.818  0.636   5.647
optimalFlowClassification 1.658  0.584   5.470
cytoPlot                  1.499  0.410   5.403
cytoPlotDatabase          1.117  0.618   5.398
* checking for unstated dependencies in vignettes ... OK
* checking package vignettes ... OK
* checking running R code from vignettes ... SKIPPED
* checking re-building of vignette outputs ... SKIPPED
* checking PDF version of manual ... OK
* DONE

Status: 2 NOTEs
See
  ‘/Users/biocbuild/bbs-3.21-bioc/meat/optimalFlow.Rcheck/00check.log’
for details.


Installation output

optimalFlow.Rcheck/00install.out

##############################################################################
##############################################################################
###
### Running command:
###
###   /Library/Frameworks/R.framework/Resources/bin/R CMD INSTALL optimalFlow
###
##############################################################################
##############################################################################


* installing to library ‘/Library/Frameworks/R.framework/Versions/4.5-arm64/Resources/library’
* installing *source* package ‘optimalFlow’ ...
** this is package ‘optimalFlow’ version ‘1.19.0’
** using staged installation
** R
** byte-compile and prepare package for lazy loading
** help
*** installing help indices
** building package indices
** installing vignettes
** testing if installed package can be loaded from temporary location
** testing if installed package can be loaded from final location
** testing if installed package keeps a record of temporary installation path
* DONE (optimalFlow)

Tests output


Example timings

optimalFlow.Rcheck/optimalFlow-Ex.timings

nameusersystemelapsed
costWasserMatchingEllipse0.0640.0640.151
cytoPlot1.4990.4105.403
cytoPlot3d1.0620.3324.220
cytoPlotDatabase1.1170.6185.398
cytoPlotDatabase3d0.9480.3954.559
estimCovCellGeneral0.0070.0020.010
estimationCellBarycenter0.0010.0000.001
f1Score0.0500.0070.057
f1ScoreVoting1.8180.6365.647
labelTransfer000
labelTransferEllipse0.0020.0010.005
optimalFlowClassification1.6580.5845.470
optimalFlowTemplates0.9400.3774.054
qdaClassification0.0000.0010.000
tclustWithInitialization0.5300.1840.788
tclust_H0.4930.1460.669
trimmedKBarycenter0.0190.0080.028
voteLabelTransfer000
w2dist0.0010.0000.001
wasserCostFunction0.9040.3044.078