Back to Multiple platform build/check report for BioC 3.21:   simplified   long
ABCDEFGHIJKLMNOPQR[S]TUVWXYZ

This page was generated on 2025-02-06 11:42 -0500 (Thu, 06 Feb 2025).

HostnameOSArch (*)R versionInstalled pkgs
nebbiolo1Linux (Ubuntu 24.04.1 LTS)x86_64R Under development (unstable) (2025-01-20 r87609) -- "Unsuffered Consequences" 4719
palomino7Windows Server 2022 Datacenterx64R Under development (unstable) (2025-01-21 r87610 ucrt) -- "Unsuffered Consequences" 4480
lconwaymacOS 12.7.1 Montereyx86_64R Under development (unstable) (2025-01-22 r87618) -- "Unsuffered Consequences" 4491
kjohnson3macOS 13.7.1 Venturaarm64R Under development (unstable) (2025-01-20 r87609) -- "Unsuffered Consequences" 4444
Click on any hostname to see more info about the system (e.g. compilers)      (*) as reported by 'uname -p', except on Windows and Mac OS X

Package 1938/2295HostnameOS / ArchINSTALLBUILDCHECKBUILD BIN
sesame 1.25.3  (landing page)
Wanding Zhou
Snapshot Date: 2025-02-05 13:48 -0500 (Wed, 05 Feb 2025)
git_url: https://git.bioconductor.org/packages/sesame
git_branch: devel
git_last_commit: 715da26
git_last_commit_date: 2025-01-04 11:02:51 -0500 (Sat, 04 Jan 2025)
nebbiolo1Linux (Ubuntu 24.04.1 LTS) / x86_64  OK    OK    OK  UNNEEDED, same version is already published
palomino7Windows Server 2022 Datacenter / x64  OK    OK    OK    OK  UNNEEDED, same version is already published
lconwaymacOS 12.7.1 Monterey / x86_64  OK    OK    OK    OK  UNNEEDED, same version is already published
kjohnson3macOS 13.7.1 Ventura / arm64  OK    OK    OK    OK  UNNEEDED, same version is already published


CHECK results for sesame on lconway

To the developers/maintainers of the sesame package:
- Allow up to 24 hours (and sometimes 48 hours) for your latest push to git@git.bioconductor.org:packages/sesame.git to reflect on this report. See Troubleshooting Build Report for more information.
- Use the following Renviron settings to reproduce errors and warnings.
- If 'R CMD check' started to fail recently on the Linux builder(s) over a missing dependency, add the missing dependency to 'Suggests:' in your DESCRIPTION file. See Renviron.bioc for more information.

raw results


Summary

Package: sesame
Version: 1.25.3
Command: /Library/Frameworks/R.framework/Resources/bin/R CMD check --install=check:sesame.install-out.txt --library=/Library/Frameworks/R.framework/Resources/library --no-vignettes --timings sesame_1.25.3.tar.gz
StartedAt: 2025-02-05 23:14:03 -0500 (Wed, 05 Feb 2025)
EndedAt: 2025-02-05 23:27:19 -0500 (Wed, 05 Feb 2025)
EllapsedTime: 795.8 seconds
RetCode: 0
Status:   OK  
CheckDir: sesame.Rcheck
Warnings: 0

Command output

##############################################################################
##############################################################################
###
### Running command:
###
###   /Library/Frameworks/R.framework/Resources/bin/R CMD check --install=check:sesame.install-out.txt --library=/Library/Frameworks/R.framework/Resources/library --no-vignettes --timings sesame_1.25.3.tar.gz
###
##############################################################################
##############################################################################


* using log directory ‘/Users/biocbuild/bbs-3.21-bioc/meat/sesame.Rcheck’
* using R Under development (unstable) (2025-01-22 r87618)
* using platform: x86_64-apple-darwin20
* R was compiled by
    Apple clang version 14.0.0 (clang-1400.0.29.202)
    GNU Fortran (GCC) 14.2.0
* running under: macOS Monterey 12.7.6
* using session charset: UTF-8
* using option ‘--no-vignettes’
* checking for file ‘sesame/DESCRIPTION’ ... OK
* checking extension type ... Package
* this is package ‘sesame’ version ‘1.25.3’
* package encoding: UTF-8
* checking package namespace information ... OK
* checking package dependencies ... OK
* checking if this is a source package ... OK
* checking if there is a namespace ... OK
* checking for hidden files and directories ... OK
* checking for portable file names ... OK
* checking for sufficient/correct file permissions ... OK
* checking whether package ‘sesame’ can be installed ... OK
* checking installed package size ... OK
* checking package directory ... OK
* checking ‘build’ directory ... OK
* checking DESCRIPTION meta-information ... OK
* checking top-level files ... OK
* checking for left-over files ... OK
* checking index information ... OK
* checking package subdirectories ... OK
* checking code files for non-ASCII characters ... OK
* checking R files for syntax errors ... OK
* checking whether the package can be loaded ... OK
* checking whether the package can be loaded with stated dependencies ... OK
* checking whether the package can be unloaded cleanly ... OK
* checking whether the namespace can be loaded with stated dependencies ... OK
* checking whether the namespace can be unloaded cleanly ... OK
* checking whether startup messages can be suppressed ... OK
* checking dependencies in R code ... OK
* checking S3 generic/method consistency ... OK
* checking replacement functions ... OK
* checking foreign function calls ... OK
* checking R code for possible problems ... OK
* checking Rd files ... OK
* checking Rd metadata ... OK
* checking Rd cross-references ... OK
* checking for missing documentation entries ... OK
* checking for code/documentation mismatches ... OK
* checking Rd \usage sections ... OK
* checking Rd contents ... OK
* checking for unstated dependencies in examples ... OK
* checking files in ‘vignettes’ ... OK
* checking examples ... OK
Examples with CPU (user + system) or elapsed time > 5s
                                user system elapsed
imputeBetasByGenomicNeighbors 36.731  1.438  38.376
inferSex                      24.697  1.188  25.986
sesameQC_calcStats            22.092  1.892  24.104
imputeBetas                   19.605  1.604  21.295
sesameQC_plotHeatSNPs         19.109  1.632  20.878
ELBAR                         16.740  3.237  20.119
diffRefSet                    15.760  0.722  16.576
inferSpecies                  15.354  0.618  16.043
sesameQC_plotBar              13.743  0.460  14.299
getRefSet                     12.658  0.512  13.231
compareMouseStrainReference   12.549  0.441  13.087
sesameQC_plotBetaByDesign     11.373  1.586  13.058
matchDesign                   11.275  0.733  12.085
compareReference              11.145  0.551  11.773
DML                            9.327  1.260  10.738
visualizeGene                  9.240  0.725  10.043
sdf_read_table                 9.084  0.391   9.538
inferTissue                    7.282  1.406   8.717
inferStrain                    7.913  0.568   8.533
DMR                            7.997  0.274   8.325
deidentify                     7.283  0.426   7.783
estimateLeukocyte              7.122  0.537   7.703
dyeBiasNL                      6.943  0.575   7.571
getMask                        6.581  0.563   7.188
dyeBiasCorrMostBalanced        6.696  0.297   7.039
openSesame                     5.507  0.851   6.402
createUCSCtrack                5.984  0.342   6.376
probeSuccessRate               5.544  0.500   6.101
reIdentify                     5.006  0.361   5.396
* checking for unstated dependencies in ‘tests’ ... OK
* checking tests ...
  Running ‘testthat.R’
 OK
* checking for unstated dependencies in vignettes ... OK
* checking package vignettes ... OK
* checking running R code from vignettes ... SKIPPED
* checking re-building of vignette outputs ... SKIPPED
* checking PDF version of manual ... OK
* DONE

Status: OK


Installation output

sesame.Rcheck/00install.out

##############################################################################
##############################################################################
###
### Running command:
###
###   /Library/Frameworks/R.framework/Resources/bin/R CMD INSTALL sesame
###
##############################################################################
##############################################################################


* installing to library ‘/Library/Frameworks/R.framework/Versions/4.5-x86_64/Resources/library’
* installing *source* package ‘sesame’ ...
** this is package ‘sesame’ version ‘1.25.3’
** using staged installation
** R
** inst
** byte-compile and prepare package for lazy loading
** help
*** installing help indices
** building package indices
** installing vignettes
** testing if installed package can be loaded from temporary location
** testing if installed package can be loaded from final location
** testing if installed package keeps a record of temporary installation path
* DONE (sesame)

Tests output

sesame.Rcheck/tests/testthat.Rout


R Under development (unstable) (2025-01-22 r87618) -- "Unsuffered Consequences"
Copyright (C) 2025 The R Foundation for Statistical Computing
Platform: x86_64-apple-darwin20

R is free software and comes with ABSOLUTELY NO WARRANTY.
You are welcome to redistribute it under certain conditions.
Type 'license()' or 'licence()' for distribution details.

R is a collaborative project with many contributors.
Type 'contributors()' for more information and
'citation()' on how to cite R or R packages in publications.

Type 'demo()' for some demos, 'help()' for on-line help, or
'help.start()' for an HTML browser interface to help.
Type 'q()' to quit R.

> library(testthat)
> library(sesame)
Loading required package: sesameData
Loading required package: ExperimentHub
Loading required package: BiocGenerics
Loading required package: generics

Attaching package: 'generics'

The following objects are masked from 'package:base':

    as.difftime, as.factor, as.ordered, intersect, is.element, setdiff,
    setequal, union


Attaching package: 'BiocGenerics'

The following objects are masked from 'package:stats':

    IQR, mad, sd, var, xtabs

The following objects are masked from 'package:base':

    Filter, Find, Map, Position, Reduce, anyDuplicated, aperm, append,
    as.data.frame, basename, cbind, colnames, dirname, do.call,
    duplicated, eval, evalq, get, grep, grepl, is.unsorted, lapply,
    mapply, match, mget, order, paste, pmax, pmax.int, pmin, pmin.int,
    rank, rbind, rownames, sapply, saveRDS, table, tapply, unique,
    unsplit, which.max, which.min

Loading required package: AnnotationHub
Loading required package: BiocFileCache
Loading required package: dbplyr
Loading sesameData.

----------------------------------------------------------
| SEnsible Step-wise Analysis of DNA MEthylation (SeSAMe)
| --------------------------------------------------------
| Please cache auxiliary data by "sesameDataCache()".
| This needs to be done only once per SeSAMe installation.
----------------------------------------------------------

> 
> test_check("sesame")
[ FAIL 0 | WARN 0 | SKIP 0 | PASS 5 ]
> 
> proc.time()
   user  system elapsed 
 22.153   1.958  24.274 

Example timings

sesame.Rcheck/sesame-Ex.timings

nameusersystemelapsed
BetaValueToMValue0.0000.0010.000
DML 9.327 1.26010.738
DMLpredict1.3160.1101.435
DMR7.9970.2748.325
ELBAR16.740 3.23720.119
MValueToBetaValue000
SigDF0.2860.0870.379
addMask0.0820.0010.084
betasCollapseToPfx0.0130.0000.013
bisConversionControl4.6080.2484.889
calcEffectSize1.3580.1671.541
checkLevels3.9160.2554.229
cnSegmentation0.2880.0640.356
compareMouseStrainReference12.549 0.44113.087
compareMouseTissueReference0.0010.0000.001
compareReference11.145 0.55111.773
controls2.1170.2832.422
createUCSCtrack5.9840.3426.376
deidentify7.2830.4267.783
detectionPnegEcdf1.1760.0071.190
diffRefSet15.760 0.72216.576
dmContrasts1.9560.2422.207
dyeBiasCorr2.7530.2142.986
dyeBiasCorrMostBalanced6.6960.2977.039
dyeBiasL2.5330.1512.699
dyeBiasNL6.9430.5757.571
estimateLeukocyte7.1220.5377.703
formatVCF2.1390.2682.417
getAFTypeIbySumAlleles1.7420.2131.966
getAFs1.2420.1581.405
getBetas0.8840.1030.991
getMask6.5810.5637.188
getRefSet12.658 0.51213.231
imputeBetas19.605 1.60421.295
imputeBetasByGenomicNeighbors36.731 1.43838.376
imputeBetasMatrixByMean0.0010.0000.002
inferEthnicity0.0010.0000.001
inferInfiniumIChannel0.4090.5520.977
inferSex24.697 1.18825.986
inferSpecies15.354 0.61816.043
inferStrain7.9130.5688.533
inferTissue7.2821.4068.717
initFileSet1.1440.2771.429
listAvailableMasks1.2750.1921.477
mLiftOver0.0010.0020.002
mapFileSet0.0380.0030.041
mapToMammal402.6400.3423.003
matchDesign11.275 0.73312.085
meanIntensity2.7520.1902.965
medianTotalIntensity0.8590.0570.923
noMasked3.7600.5764.362
noob2.0250.0342.072
openSesame5.5070.8516.402
openSesameToFile1.6540.1531.819
pOOBAH1.4780.0081.497
palgen0.0500.0130.066
parseGEOsignalMU3.0360.1593.213
predictAge2.5690.4643.052
predictAgeHorvath3530.0000.0010.000
predictAgeSkinBlood0.0000.0000.001
predictMouseAgeInMonth000
prefixMask0.7640.0060.778
prefixMaskButC0.1990.0020.202
prefixMaskButCG0.0880.0010.089
prepSesame3.9680.1694.154
prepSesameList0.0010.0010.002
print.DMLSummary3.1060.6123.747
print.fileSet1.2670.2591.541
probeID_designType0.0000.0010.000
probeSuccessRate5.5440.5006.101
qualityMask1.8490.2042.065
reIdentify5.0060.3615.396
readFileSet0.0560.0100.066
readIDATpair0.1380.0020.140
recommendedMaskNames0.0000.0000.001
resetMask0.3600.0640.430
scrub2.2030.0342.244
scrubSoft3.3431.2104.588
sdfPlatform0.3010.0840.387
sdf_read_table9.0840.3919.538
sdf_write_table2.5430.1572.730
searchIDATprefixes0.0030.0020.006
sesame-package2.3630.6092.999
sesameAnno_attachManifest000
sesameAnno_buildAddressFile0.0000.0000.001
sesameAnno_buildManifestGRanges0.0000.0010.000
sesameAnno_download000
sesameAnno_readManifestTSV000
sesameQC_calcStats22.092 1.89224.104
sesameQC_getStats2.0710.0152.099
sesameQC_plotBar13.743 0.46014.299
sesameQC_plotBetaByDesign11.373 1.58613.058
sesameQC_plotHeatSNPs19.109 1.63220.878
sesameQC_plotIntensVsBetas2.2730.2312.530
sesameQC_plotRedGrnQQ1.3920.2031.615
sesameQC_rankStats3.9020.7484.700
sesameQCtoDF2.1180.0132.140
sesame_checkVersion0.0040.0010.005
sesamize000
setMask0.1000.0010.101
signalMU1.0850.4051.510
sliceFileSet0.0350.0110.045
summaryExtractTest2.9740.7023.726
totalIntensities2.5490.3622.948
updateSigDF3.2550.5923.902
visualizeGene 9.240 0.72510.043
visualizeProbes1.2120.0281.244
visualizeRegion0.3550.0070.364
visualizeSegments1.9320.5212.473