Back to Multiple platform build/check report for BioC 3.21:   simplified   long
ABCDEFGHIJKLMNOPQR[S]TUVWXYZ

This page was generated on 2025-02-04 11:40 -0500 (Tue, 04 Feb 2025).

HostnameOSArch (*)R versionInstalled pkgs
nebbiolo1Linux (Ubuntu 24.04.1 LTS)x86_64R Under development (unstable) (2025-01-20 r87609) -- "Unsuffered Consequences" 4716
palomino7Windows Server 2022 Datacenterx64R Under development (unstable) (2025-01-21 r87610 ucrt) -- "Unsuffered Consequences" 4478
lconwaymacOS 12.7.1 Montereyx86_64R Under development (unstable) (2025-01-22 r87618) -- "Unsuffered Consequences" 4489
kjohnson3macOS 13.7.1 Venturaarm64R Under development (unstable) (2025-01-20 r87609) -- "Unsuffered Consequences" 4442
Click on any hostname to see more info about the system (e.g. compilers)      (*) as reported by 'uname -p', except on Windows and Mac OS X

Package 2021/2295HostnameOS / ArchINSTALLBUILDCHECKBUILD BIN
spatialFDA 0.99.7  (landing page)
Martin Emons
Snapshot Date: 2025-02-03 13:40 -0500 (Mon, 03 Feb 2025)
git_url: https://git.bioconductor.org/packages/spatialFDA
git_branch: devel
git_last_commit: 88593da
git_last_commit_date: 2025-02-03 08:59:19 -0500 (Mon, 03 Feb 2025)
nebbiolo1Linux (Ubuntu 24.04.1 LTS) / x86_64  OK    OK    OK  YES
palomino7Windows Server 2022 Datacenter / x64  OK    OK    OK    OK  YES
lconwaymacOS 12.7.1 Monterey / x86_64  OK    OK    OK    OK  YES
kjohnson3macOS 13.7.1 Ventura / arm64  OK    OK    OK    OK  YES


CHECK results for spatialFDA on nebbiolo1

To the developers/maintainers of the spatialFDA package:
- Allow up to 24 hours (and sometimes 48 hours) for your latest push to git@git.bioconductor.org:packages/spatialFDA.git to reflect on this report. See Troubleshooting Build Report for more information.
- Use the following Renviron settings to reproduce errors and warnings.
- If 'R CMD check' started to fail recently on the Linux builder(s) over a missing dependency, add the missing dependency to 'Suggests:' in your DESCRIPTION file. See Renviron.bioc for more information.

raw results


Summary

Package: spatialFDA
Version: 0.99.7
Command: /home/biocbuild/bbs-3.21-bioc/R/bin/R CMD check --install=check:spatialFDA.install-out.txt --library=/home/biocbuild/bbs-3.21-bioc/R/site-library --timings spatialFDA_0.99.7.tar.gz
StartedAt: 2025-02-04 02:59:53 -0500 (Tue, 04 Feb 2025)
EndedAt: 2025-02-04 03:19:52 -0500 (Tue, 04 Feb 2025)
EllapsedTime: 1198.4 seconds
RetCode: 0
Status:   OK  
CheckDir: spatialFDA.Rcheck
Warnings: 0

Command output

##############################################################################
##############################################################################
###
### Running command:
###
###   /home/biocbuild/bbs-3.21-bioc/R/bin/R CMD check --install=check:spatialFDA.install-out.txt --library=/home/biocbuild/bbs-3.21-bioc/R/site-library --timings spatialFDA_0.99.7.tar.gz
###
##############################################################################
##############################################################################


* using log directory ‘/home/biocbuild/bbs-3.21-bioc/meat/spatialFDA.Rcheck’
* using R Under development (unstable) (2025-01-20 r87609)
* using platform: x86_64-pc-linux-gnu
* R was compiled by
    gcc (Ubuntu 13.3.0-6ubuntu2~24.04) 13.3.0
    GNU Fortran (Ubuntu 13.3.0-6ubuntu2~24.04) 13.3.0
* running under: Ubuntu 24.04.1 LTS
* using session charset: UTF-8
* checking for file ‘spatialFDA/DESCRIPTION’ ... OK
* this is package ‘spatialFDA’ version ‘0.99.7’
* package encoding: UTF-8
* checking package namespace information ... OK
* checking package dependencies ... OK
* checking if this is a source package ... OK
* checking if there is a namespace ... OK
* checking for hidden files and directories ... OK
* checking for portable file names ... OK
* checking for sufficient/correct file permissions ... OK
* checking whether package ‘spatialFDA’ can be installed ... OK
* checking installed package size ... OK
* checking package directory ... OK
* checking ‘build’ directory ... OK
* checking DESCRIPTION meta-information ... OK
* checking top-level files ... OK
* checking for left-over files ... OK
* checking index information ... OK
* checking package subdirectories ... OK
* checking code files for non-ASCII characters ... OK
* checking R files for syntax errors ... OK
* checking whether the package can be loaded ... OK
* checking whether the package can be loaded with stated dependencies ... OK
* checking whether the package can be unloaded cleanly ... OK
* checking whether the namespace can be loaded with stated dependencies ... OK
* checking whether the namespace can be unloaded cleanly ... OK
* checking loading without being on the library search path ... OK
* checking dependencies in R code ... OK
* checking S3 generic/method consistency ... OK
* checking replacement functions ... OK
* checking foreign function calls ... OK
* checking R code for possible problems ... OK
* checking Rd files ... OK
* checking Rd metadata ... OK
* checking Rd cross-references ... OK
* checking for missing documentation entries ... OK
* checking for code/documentation mismatches ... OK
* checking Rd \usage sections ... OK
* checking Rd contents ... OK
* checking for unstated dependencies in examples ... OK
* checking files in ‘vignettes’ ... OK
* checking examples ... OK
Examples with CPU (user + system) or elapsed time > 5s
                        user system elapsed
calcCrossMetricPerFov 30.538  1.113  31.934
plotCrossMetricPerFov 16.366  0.363  16.989
functionalGam         13.852  0.425  14.517
plotMdl               13.777  0.445  14.461
plotMetricPerFov       8.660  0.451   9.360
plotFpca               8.707  0.403   9.388
functionalPCA          8.387  0.434   9.057
print.fpca             8.471  0.336   9.047
plotFbPlot             8.225  0.511   8.973
calcMetricPerFov       8.181  0.453   8.870
prepData               8.094  0.366   8.705
dot-extractMetric      7.165  0.405   7.852
dot-dfToppp            6.938  0.465   7.639
dot-speToDf            6.959  0.368   7.566
* checking for unstated dependencies in ‘tests’ ... OK
* checking tests ...
  Running ‘testthat.R’
 OK
* checking for unstated dependencies in vignettes ... OK
* checking package vignettes ... OK
* checking re-building of vignette outputs ... OK
* checking PDF version of manual ... OK
* DONE

Status: OK


Installation output

spatialFDA.Rcheck/00install.out

##############################################################################
##############################################################################
###
### Running command:
###
###   /home/biocbuild/bbs-3.21-bioc/R/bin/R CMD INSTALL spatialFDA
###
##############################################################################
##############################################################################


* installing to library ‘/home/biocbuild/bbs-3.21-bioc/R/site-library’
* installing *source* package ‘spatialFDA’ ...
** this is package ‘spatialFDA’ version ‘0.99.7’
** using staged installation
** R
** byte-compile and prepare package for lazy loading
** help
*** installing help indices
** building package indices
** installing vignettes
** testing if installed package can be loaded from temporary location
** testing if installed package can be loaded from final location
** testing if installed package keeps a record of temporary installation path
* DONE (spatialFDA)

Tests output

spatialFDA.Rcheck/tests/testthat.Rout


R Under development (unstable) (2025-01-20 r87609) -- "Unsuffered Consequences"
Copyright (C) 2025 The R Foundation for Statistical Computing
Platform: x86_64-pc-linux-gnu

R is free software and comes with ABSOLUTELY NO WARRANTY.
You are welcome to redistribute it under certain conditions.
Type 'license()' or 'licence()' for distribution details.

R is a collaborative project with many contributors.
Type 'contributors()' for more information and
'citation()' on how to cite R or R packages in publications.

Type 'demo()' for some demos, 'help()' for on-line help, or
'help.start()' for an HTML browser interface to help.
Type 'q()' to quit R.

> # This file is part of the standard setup for testthat.
> # It is recommended that you do not modify it.
> #
> # Where should you do additional test configuration?
> # Learn more about the roles of various files in:
> # * https://r-pkgs.org/testing-design.html#sec-tests-files-overview
> # * https://testthat.r-lib.org/articles/special-files.html
> 
> library(testthat)
> library(spatialFDA)
> 
> test_check("spatialFDA")
see ?imcdatasets and browseVignettes('imcdatasets') for documentation
loading from cache
[1] "alpha"
[1] "beta"
[1] "delta"

Attaching package: 'tidyr'

The following object is masked from 'package:S4Vectors':

    expand

The following object is masked from 'package:testthat':

    matches


Attaching package: 'dplyr'

The following object is masked from 'package:EBImage':

    combine

The following object is masked from 'package:Biobase':

    combine

The following objects are masked from 'package:GenomicRanges':

    intersect, setdiff, union

The following object is masked from 'package:GenomeInfoDb':

    intersect

The following objects are masked from 'package:IRanges':

    collapse, desc, intersect, setdiff, slice, union

The following objects are masked from 'package:S4Vectors':

    first, intersect, rename, setdiff, setequal, union

The following objects are masked from 'package:BiocGenerics':

    combine, intersect, setdiff, setequal, union

The following object is masked from 'package:generics':

    explain

The following object is masked from 'package:matrixStats':

    count

The following object is masked from 'package:testthat':

    matches

The following objects are masked from 'package:stats':

    filter, lag

The following objects are masked from 'package:base':

    intersect, setdiff, setequal, union

see ?imcdatasets and browseVignettes('imcdatasets') for documentation
loading from cache
see ?imcdatasets and browseVignettes('imcdatasets') for documentation
loading from cache
[ FAIL 0 | WARN 2 | SKIP 0 | PASS 39 ]

[ FAIL 0 | WARN 2 | SKIP 0 | PASS 39 ]
> 
> proc.time()
   user  system elapsed 
 99.547   3.433 103.799 

Example timings

spatialFDA.Rcheck/spatialFDA-Ex.timings

nameusersystemelapsed
calcCrossMetricPerFov30.538 1.11331.934
calcMetricPerFov8.1810.4538.870
dot-dfToppp6.9380.4657.639
dot-extractMetric7.1650.4057.852
dot-speToDf6.9590.3687.566
functionalGam13.852 0.42514.517
functionalPCA8.3870.4349.057
plotCrossMetricPerFov16.366 0.36316.989
plotFbPlot8.2250.5118.973
plotFpca8.7070.4039.388
plotMdl13.777 0.44514.461
plotMetricPerFov8.6600.4519.360
prepData8.0940.3668.705
print.fpca8.4710.3369.047