Back to Multiple platform build/check report for BioC 3.21:   simplified   long
ABCDEFGHIJKLMNOPQRS[T]UVWXYZ

This page was generated on 2025-02-06 11:41 -0500 (Thu, 06 Feb 2025).

HostnameOSArch (*)R versionInstalled pkgs
nebbiolo1Linux (Ubuntu 24.04.1 LTS)x86_64R Under development (unstable) (2025-01-20 r87609) -- "Unsuffered Consequences" 4719
palomino7Windows Server 2022 Datacenterx64R Under development (unstable) (2025-01-21 r87610 ucrt) -- "Unsuffered Consequences" 4480
lconwaymacOS 12.7.1 Montereyx86_64R Under development (unstable) (2025-01-22 r87618) -- "Unsuffered Consequences" 4491
kjohnson3macOS 13.7.1 Venturaarm64R Under development (unstable) (2025-01-20 r87609) -- "Unsuffered Consequences" 4444
Click on any hostname to see more info about the system (e.g. compilers)      (*) as reported by 'uname -p', except on Windows and Mac OS X

Package 2142/2295HostnameOS / ArchINSTALLBUILDCHECKBUILD BIN
tidybulk 1.19.0  (landing page)
Stefano Mangiola
Snapshot Date: 2025-02-05 13:48 -0500 (Wed, 05 Feb 2025)
git_url: https://git.bioconductor.org/packages/tidybulk
git_branch: devel
git_last_commit: 1a18995
git_last_commit_date: 2024-10-29 10:44:10 -0500 (Tue, 29 Oct 2024)
nebbiolo1Linux (Ubuntu 24.04.1 LTS) / x86_64  OK    OK    OK  UNNEEDED, same version is already published
palomino7Windows Server 2022 Datacenter / x64  OK    OK    ERROR    OK  
lconwaymacOS 12.7.1 Monterey / x86_64  OK    OK    ERROR    OK  
kjohnson3macOS 13.7.1 Ventura / arm64  OK    OK    ERROR    OK  


BUILD BIN results for tidybulk on palomino7

To the developers/maintainers of the tidybulk package:
- Allow up to 24 hours (and sometimes 48 hours) for your latest push to git@git.bioconductor.org:packages/tidybulk.git to reflect on this report. See Troubleshooting Build Report for more information.
- Use the following Renviron settings to reproduce errors and warnings.
- If 'R CMD check' started to fail recently on the Linux builder(s) over a missing dependency, add the missing dependency to 'Suggests:' in your DESCRIPTION file. See Renviron.bioc for more information.

raw results


Summary

Package: tidybulk
Version: 1.19.0
Command: rm -rf tidybulk.buildbin-libdir && mkdir tidybulk.buildbin-libdir && E:\biocbuild\bbs-3.21-bioc\R\bin\R.exe CMD INSTALL --build --library=tidybulk.buildbin-libdir tidybulk_1.19.0.tar.gz
StartedAt: 2025-02-06 09:12:27 -0500 (Thu, 06 Feb 2025)
EndedAt: 2025-02-06 09:14:07 -0500 (Thu, 06 Feb 2025)
EllapsedTime: 99.3 seconds
RetCode: 0
Status:   OK  
PackageFile: tidybulk_1.19.0.zip
PackageFileSize: 3.297 MiB

Command output

##############################################################################
##############################################################################
###
### Running command:
###
###   rm -rf tidybulk.buildbin-libdir && mkdir tidybulk.buildbin-libdir && E:\biocbuild\bbs-3.21-bioc\R\bin\R.exe CMD INSTALL --build --library=tidybulk.buildbin-libdir tidybulk_1.19.0.tar.gz
###
##############################################################################
##############################################################################


* installing *source* package 'tidybulk' ...
** this is package 'tidybulk' version '1.19.0'
** using staged installation
** R
** data
*** moving datasets to lazyload DB
** inst
** byte-compile and prepare package for lazy loading
Note: wrong number of arguments to 'expm1' 
Note: wrong number of arguments to 'expm1' 
Note: wrong number of arguments to 'expm1' 
Note: wrong number of arguments to 'expm1' 
Note: wrong number of arguments to 'expm1' 
Note: wrong number of arguments to 'expm1' 
Note: wrong number of arguments to 'expm1' 
Note: wrong number of arguments to 'floor' 
Note: wrong number of arguments to 'floor' 
** help
*** installing help indices
*** copying figures
** building package indices
** installing vignettes
** testing if installed package can be loaded from temporary location
** testing if installed package can be loaded from final location
** testing if installed package keeps a record of temporary installation path
* MD5 sums
packaged installation of 'tidybulk' as tidybulk_1.19.0.zip
* DONE (tidybulk)