Welcome to mirrors.dotsrc.org

All our mirrors of open source software are available via http, https, ftp and an onion service. More information about our mirrors including statistics and contact information is available on our mirror info pages.

For information about dotsrc.org and our other services please go to our website.

Index of /bioconductor/checkResults/devel/bioc-rapid-LATEST/

File Name  ↓ File Size  ↓ Date  ↓ 
Parent directory/--
DESeq2/-2025-02-04 20:49:46
EnhancedVolcano/-2025-02-04 20:49:46
DEXSeq/-2025-02-04 20:49:46
rtracklayer/-2025-02-04 20:49:47
supraHex/-2025-02-04 20:49:47
BSgenome/-2025-02-04 20:49:46
SingleCellExperiment/-2025-02-04 20:49:47
bamsignals/-2025-02-04 20:49:46
Rgraphviz/-2025-02-04 20:49:47
gage/-2025-02-04 20:49:46
BiocSingular/-2025-02-04 20:49:46
AnnotationHub/-2025-02-04 20:49:46
BiocNeighbors/-2025-02-04 20:49:46
MsCoreUtils/-2025-02-04 20:49:46
SpatialExperiment/-2025-02-04 20:49:47
rpx/-2025-02-04 20:49:47
alabaster.schemas/-2025-02-04 20:49:46
DirichletMultinomial/-2025-02-04 20:49:46
flowClust/-2025-02-04 20:49:46
limma/-2025-02-04 20:49:46
DNAcopy/-2025-02-04 20:49:46
VariantAnnotation/-2025-02-04 20:49:47
affxparser/-2025-02-04 20:49:46
h5mread/-2025-02-04 20:49:46
lpsymphony/-2025-02-04 20:49:46
interactiveDisplay/-2025-02-04 20:49:46
LoomExperiment/-2025-02-04 20:49:46
geneplotter/-2025-02-04 20:49:46
BiocFileCache/-2025-02-04 20:49:46
treeio/-2025-02-04 20:49:47
AnnotationHubData/-2025-02-04 20:49:46
flowWorkspace/-2025-02-04 20:49:46
MsBackendMgf/-2025-02-04 20:49:46
assorthead/-2025-02-04 20:49:46
affyio/-2025-02-04 20:49:46
S4Arrays/-2025-02-04 20:49:47
ProtGenerics/-2025-02-04 20:49:47
ggtree/-2025-02-04 20:49:46
SummarizedExperiment/-2025-02-04 20:49:47
scran/-2025-02-04 20:49:47
gypsum/-2025-02-04 20:49:46
GenomicAlignments/-2025-02-04 20:49:46
SingleR/-2025-02-04 20:49:47
UCSC.utils/-2025-02-04 20:49:47
bluster/-2025-02-04 20:49:46
AnnotationForge/-2025-02-04 20:49:46
SparseArray/-2025-02-04 20:49:47
BiocParallel/-2025-02-04 20:49:46
GenomicFeatures/-2025-02-04 20:49:46
biovizBase/-2025-02-04 20:49:46
sesame/-2025-02-04 20:49:47
ChemmineR/-2025-02-04 20:49:46
biomaRt/-2025-02-04 20:49:46
eds/-2025-02-04 20:49:46
flowStats/-2025-02-04 20:49:46
DOSE/-2025-02-04 20:49:46
Rsubread/-2025-02-04 20:49:47
RBGL/-2025-02-04 20:49:47
alabaster.base/-2025-02-04 20:49:46
AnnotationDbi/-2025-02-04 20:49:46
Gviz/-2025-02-04 20:49:46
csaw/-2025-02-04 20:49:46
alabaster.sce/-2025-02-04 20:49:46
GenomeInfoDb/-2025-02-04 20:49:46
alabaster.matrix/-2025-02-04 20:49:46
seqLogo/-2025-02-04 20:49:47
txdbmaker/-2025-02-04 20:49:47
Rhtslib/-2025-02-04 20:49:47
clusterProfiler/-2025-02-04 20:49:46
sparseMatrixStats/-2025-02-04 20:49:47
ROC/-2025-02-04 20:49:47
mzR/-2025-02-04 20:49:46
MatrixGenerics/-2025-02-04 20:49:46
batchelor/-2025-02-04 20:49:46
biocthis/-2025-02-04 20:49:46
DelayedArray/-2025-02-04 20:49:46
qvalue/-2025-02-04 20:49:47
graph/-2025-02-04 20:49:46
TCGAbiolinks/-2025-02-04 20:49:47
affy/-2025-02-04 20:49:46
scuttle/-2025-02-04 20:49:47
Category/-2025-02-04 20:49:46
mzID/-2025-02-04 20:49:46
edgeR/-2025-02-04 20:49:46
EBarrays/-2025-02-04 20:49:46
basilisk.utils/-2025-02-04 20:49:46
openCyto/-2025-02-04 20:49:46
gdsfmt/-2025-02-04 20:49:46
pcaMethods/-2025-02-04 20:49:46
scater/-2025-02-04 20:49:47
chihaya/-2025-02-04 20:49:46
preprocessCore/-2025-02-04 20:49:47
ggcyto/-2025-02-04 20:49:46
MLInterfaces/-2025-02-04 20:49:46
MassSpecWavelet/-2025-02-04 20:49:46
RaggedExperiment/-2025-02-04 20:49:47
BiocVersion/-2025-02-04 20:49:46
sva/-2025-02-04 20:49:47
alabaster.ranges/-2025-02-04 20:49:46
enrichplot/-2025-02-04 20:49:46
BumpyMatrix/-2025-02-04 20:49:46
alabaster.se/-2025-02-04 20:49:46
GSEABase/-2025-02-04 20:49:46
zlibbioc/-2025-02-04 20:49:47
HubPub/-2025-02-04 20:49:46
tximeta/-2025-02-04 20:49:47
MsBackendSql/-2025-02-04 20:49:46
ShortRead/-2025-02-04 20:49:47
RProtoBufLib/-2025-02-04 20:49:47
snifter/-2025-02-04 20:49:47
ggbio/-2025-02-04 20:49:46
PSMatch/-2025-02-04 20:49:47
genefilter/-2025-02-04 20:49:46
GEOquery/-2025-02-04 20:49:46
phyloseq/-2025-02-04 20:49:47
fgsea/-2025-02-04 20:49:46
ncdfFlow/-2025-02-04 20:49:46
fishpond/-2025-02-04 20:49:46
gcrma/-2025-02-04 20:49:46
rhdf5/-2025-02-04 20:49:47
DropletUtils/-2025-02-04 20:49:46
DynDoc/-2025-02-04 20:49:46
ComplexHeatmap/-2025-02-04 20:49:46
hpar/-2025-02-04 20:49:46
Rdisop/-2025-02-04 20:49:47
widgetTools/-2025-02-04 20:49:47
BiocStyle/-2025-02-04 20:49:46
dir.expiry/-2025-02-04 20:49:46
zellkonverter/-2025-02-04 20:49:47
GOSemSim/-2025-02-04 20:49:46
KEGGREST/-2025-02-04 20:49:46
IHW/-2025-02-04 20:49:46
BiocBaseUtils/-2025-02-04 20:49:46
ggtreeExtra/-2025-02-04 20:49:46
QFeatures/-2025-02-04 20:49:47
biocViews/-2025-02-04 20:49:46
snpStats/-2025-02-04 20:49:47
metapod/-2025-02-04 20:49:46
GenomicRanges/-2025-02-04 20:49:46
annotate/-2025-02-04 20:49:46
XVector/-2025-02-04 20:49:47
S4Vectors/-2025-02-04 20:49:47
apeglm/-2025-02-04 20:49:46
ensembldb/-2025-02-04 20:49:46
ExperimentHub/-2025-02-04 20:49:46
pathview/-2025-02-04 20:49:46
Spectra/-2025-02-04 20:49:47
beachmat/-2025-02-04 20:49:46
CytoML/-2025-02-04 20:49:46
metagenomeSeq/-2025-02-04 20:49:46
tkWidgets/-2025-02-04 20:49:47
regioneR/-2025-02-04 20:49:47
Rhdf5lib/-2025-02-04 20:49:47
MsFeatures/-2025-02-04 20:49:46
minet/-2025-02-04 20:49:46
densvis/-2025-02-04 20:49:46
pRoloc/-2025-02-04 20:49:47
impute/-2025-02-04 20:49:46
ChemmineOB/-2025-02-04 20:49:46
affyPLM/-2025-02-04 20:49:46
pwalign/-2025-02-04 20:49:47
maftools/-2025-02-04 20:49:46
aroma.light/-2025-02-04 20:49:46
rBiopaxParser/-2025-02-04 20:49:47
OrganismDbi/-2025-02-04 20:49:46
cytolib/-2025-02-04 20:49:46
ReportingTools/-2025-02-04 20:49:47
keggorthology/-2025-02-04 20:49:46
GSVA/-2025-02-04 20:49:46
Wrench/-2025-02-04 20:49:47
mbkmeans/-2025-02-04 20:49:46
biomformat/-2025-02-04 20:49:46
IRanges/-2025-02-04 20:49:46
Rsamtools/-2025-02-04 20:49:47
microRNA/-2025-02-04 20:49:46
xcms/-2025-02-04 20:49:47
CompoundDb/-2025-02-04 20:49:46
BiocIO/-2025-02-04 20:49:46
SPIA/-2025-02-04 20:49:47
MsExperiment/-2025-02-04 20:49:46
ConsensusClusterPlus/-2025-02-04 20:49:46
tximport/-2025-02-04 20:49:47
KEGGgraph/-2025-02-04 20:49:46
karyoploteR/-2025-02-04 20:49:46
HDF5Array/-2025-02-04 20:49:46
illuminaio/-2025-02-04 20:49:46
EnrichedHeatmap/-2025-02-04 20:49:46
MSnbase/-2025-02-04 20:49:46
BiocGenerics/-2025-02-04 20:49:46
basilisk/-2025-02-04 20:49:46
MsDataHub/-2025-02-04 20:49:46
beachmat.hdf5/-2025-02-04 20:49:46
interactiveDisplayBase/-2025-02-04 20:49:46
glmGamPoi/-2025-02-04 20:49:46
ScaledMatrix/-2025-02-04 20:49:47
ExperimentHubData/-2025-02-04 20:49:46
MetaboCoreUtils/-2025-02-04 20:49:46
rhdf5filters/-2025-02-04 20:49:47
MultiAssayExperiment/-2025-02-04 20:49:46
EDASeq/-2025-02-04 20:49:46
BSgenomeForge/-2025-02-04 20:49:46
DECIPHER/-2025-02-04 20:49:46
BiocCheck/-2025-02-04 20:49:46
multtest/-2025-02-04 20:49:46
DelayedMatrixStats/-2025-02-04 20:49:46
Biobase/-2025-02-04 20:49:46
AnnotationFilter/-2025-02-04 20:49:46
gpls/-2025-02-04 20:49:46
flowViz/-2025-02-04 20:49:46
Biostrings/-2025-02-04 20:49:46
ResidualMatrix/-2025-02-04 20:49:47
scrapper/-2025-02-04 20:49:47
fmcsR/-2025-02-04 20:49:46
EBImage/-2025-02-04 20:49:46
GOstats/-2025-02-04 20:49:46
flowCore/-2025-02-04 20:49:46
vsn/-2025-02-04 20:49:47
skipped-index.dcf0 B2025-02-04 20:49:45
DEVEL3b.png2.6 KiB2025-02-04 20:49:45
Renviron.bioc3.3 KiB2025-02-04 20:49:45
report.js6.0 KiB2025-02-04 20:49:45
120px-Red_Light_Icon.svg.png7.0 KiB2025-02-04 20:49:45
teran2-NodeInfo.html7.0 KiB2025-02-04 20:49:45
120px-Green_Light_Icon.svg.png7.1 KiB2025-02-04 20:49:45
120px-Blue_Light_Icon.svg.png7.1 KiB2025-02-04 20:49:45
report.css11.0 KiB2025-02-04 20:49:45
BUILD_STATUS_DB.txt19.7 KiB2025-02-04 20:49:45
meat-index.dcf23.6 KiB2025-02-04 20:49:45
teran2-R-instpkgs.html113.7 KiB2025-02-04 20:49:45
index.html230.9 KiB2025-02-04 20:49:47
report.tgz4.0 MiB2025-02-04 20:49:50