Back to Rapid builds (Linux only) of a subset of BioC 3.21
Report updated every 6 hours

This page was generated on 2025-02-09 10:19 -0500 (Sun, 09 Feb 2025).

HostnameOSArch (*)R versionInstalled pkgs
teran2Linux (Ubuntu 24.04.1 LTS)x86_64R Under development (unstable) (2025-01-20 r87609) -- "Unsuffered Consequences" 869
Click on any hostname to see more info about the system (e.g. compilers)      (*) as reported by 'uname -p', except on Windows and Mac OS X

Package 161/217HostnameOS / ArchINSTALLBUILDCHECK
QFeatures 1.17.2  (landing page)
Laurent Gatto
Snapshot Date: 2025-02-09 06:00 -0500 (Sun, 09 Feb 2025)
git_url: https://git.bioconductor.org/packages/QFeatures
git_branch: devel
git_last_commit: 84d3099
git_last_commit_date: 2025-02-07 14:29:19 -0500 (Fri, 07 Feb 2025)
teran2Linux (Ubuntu 24.04.1 LTS) / x86_64  OK    OK    OK  


BUILD results for QFeatures on teran2

To the developers/maintainers of the QFeatures package:
- Use the following Renviron settings to reproduce errors and warnings.
- If 'R CMD check' started to fail recently on the Linux builder(s) over a missing dependency, add the missing dependency to 'Suggests:' in your DESCRIPTION file. See Renviron.bioc for more information.

raw results


Summary

Package: QFeatures
Version: 1.17.2
Command: /home/rapidbuild/bbs-3.21-bioc-rapid/R/bin/R CMD build --keep-empty-dirs --no-resave-data QFeatures
StartedAt: 2025-02-09 07:25:25 -0500 (Sun, 09 Feb 2025)
EndedAt: 2025-02-09 07:27:00 -0500 (Sun, 09 Feb 2025)
EllapsedTime: 94.6 seconds
RetCode: 0
Status:   OK  
PackageFile: QFeatures_1.17.2.tar.gz
PackageFileSize: 5.438 MiB

Command output

##############################################################################
##############################################################################
###
### Running command:
###
###   /home/rapidbuild/bbs-3.21-bioc-rapid/R/bin/R CMD build --keep-empty-dirs --no-resave-data QFeatures
###
##############################################################################
##############################################################################


* checking for file ‘QFeatures/DESCRIPTION’ ... OK
* preparing ‘QFeatures’:
* checking DESCRIPTION meta-information ... OK
* installing the package to build vignettes
* creating vignettes ... OK
* checking for LF line-endings in source and make files and shell scripts
* checking for empty or unneeded directories
* looking to see if a ‘data/datalist’ file should be added
* building ‘QFeatures_1.17.2.tar.gz’