Back to Rapid builds (Linux only) of a subset of BioC 3.21
Report updated every 6 hours

This page was generated on 2025-02-10 10:12 -0500 (Mon, 10 Feb 2025).

HostnameOSArch (*)R versionInstalled pkgs
teran2Linux (Ubuntu 24.04.1 LTS)x86_64R Under development (unstable) (2025-01-20 r87609) -- "Unsuffered Consequences" 869
Click on any hostname to see more info about the system (e.g. compilers)      (*) as reported by 'uname -p', except on Windows and Mac OS X

All results for package rpx


To the developers/maintainers of the rpx package:
- Use the following Renviron settings to reproduce errors and warnings.
- If 'R CMD check' started to fail recently on the Linux builder(s) over a missing dependency, add the missing dependency to 'Suggests:' in your DESCRIPTION file. See Renviron.bioc for more information.

raw results

Package 177/217HostnameOS / ArchINSTALLBUILDCHECK
rpx 2.15.1  (landing page)
Laurent Gatto
Snapshot Date: 2025-02-10 06:00 -0500 (Mon, 10 Feb 2025)
git_url: https://git.bioconductor.org/packages/rpx
git_branch: devel
git_last_commit: ca86c88
git_last_commit_date: 2025-02-07 10:47:02 -0500 (Fri, 07 Feb 2025)
teran2Linux (Ubuntu 24.04.1 LTS) / x86_64  OK    OK    OK