Back to Rapid builds (Linux only) of a subset of BioC 3.21 Report updated every 6 hours |
This page was generated on 2025-02-13 15:44 -0500 (Thu, 13 Feb 2025).
Hostname | OS | Arch (*) | R version | Installed pkgs |
---|---|---|---|---|
teran2 | Linux (Ubuntu 24.04.1 LTS) | x86_64 | R Under development (unstable) (2025-01-20 r87609) -- "Unsuffered Consequences" | 869 |
Click on any hostname to see more info about the system (e.g. compilers) (*) as reported by 'uname -p', except on Windows and Mac OS X |
Package 177/217 | Hostname | OS / Arch | INSTALL | BUILD | CHECK | |||||||
rpx 2.15.1 (landing page) Laurent Gatto
| teran2 | Linux (Ubuntu 24.04.1 LTS) / x86_64 | OK | OK | ERROR | |||||||
To the developers/maintainers of the rpx package: - Use the following Renviron settings to reproduce errors and warnings. - If 'R CMD check' started to fail recently on the Linux builder(s) over a missing dependency, add the missing dependency to 'Suggests:' in your DESCRIPTION file. See Renviron.bioc for more information. |
Package: rpx |
Version: 2.15.1 |
Command: /home/rapidbuild/bbs-3.21-bioc-rapid/R/bin/R CMD check --install=check:rpx.install-out.txt --library=/home/rapidbuild/bbs-3.21-bioc-rapid/R/site-library --timings rpx_2.15.1.tar.gz |
StartedAt: 2025-02-13 14:59:15 -0500 (Thu, 13 Feb 2025) |
EndedAt: 2025-02-13 15:00:07 -0500 (Thu, 13 Feb 2025) |
EllapsedTime: 52.3 seconds |
RetCode: 1 |
Status: ERROR |
CheckDir: rpx.Rcheck |
Warnings: NA |
############################################################################## ############################################################################## ### ### Running command: ### ### /home/rapidbuild/bbs-3.21-bioc-rapid/R/bin/R CMD check --install=check:rpx.install-out.txt --library=/home/rapidbuild/bbs-3.21-bioc-rapid/R/site-library --timings rpx_2.15.1.tar.gz ### ############################################################################## ############################################################################## * using log directory ‘/media/volume/teran2_disk/rapidbuild/bbs-3.21-bioc-rapid/meat/rpx.Rcheck’ * using R Under development (unstable) (2025-01-20 r87609) * using platform: x86_64-pc-linux-gnu * R was compiled by gcc (Ubuntu 13.3.0-6ubuntu2~24.04) 13.3.0 GNU Fortran (Ubuntu 13.3.0-6ubuntu2~24.04) 13.3.0 * running under: Ubuntu 24.04.1 LTS * using session charset: UTF-8 * checking for file ‘rpx/DESCRIPTION’ ... OK * checking extension type ... Package * this is package ‘rpx’ version ‘2.15.1’ * package encoding: UTF-8 * checking package namespace information ... OK * checking package dependencies ... OK * checking if this is a source package ... OK * checking if there is a namespace ... OK * checking for hidden files and directories ... OK * checking for portable file names ... OK * checking for sufficient/correct file permissions ... OK * checking whether package ‘rpx’ can be installed ... OK * checking installed package size ... OK * checking package directory ... OK * checking ‘build’ directory ... OK * checking DESCRIPTION meta-information ... OK * checking top-level files ... OK * checking for left-over files ... OK * checking index information ... OK * checking package subdirectories ... OK * checking code files for non-ASCII characters ... OK * checking R files for syntax errors ... OK * checking whether the package can be loaded ... OK * checking whether the package can be loaded with stated dependencies ... OK * checking whether the package can be unloaded cleanly ... OK * checking whether the namespace can be loaded with stated dependencies ... OK * checking whether the namespace can be unloaded cleanly ... OK * checking loading without being on the library search path ... OK * checking dependencies in R code ... OK * checking S3 generic/method consistency ... OK * checking replacement functions ... OK * checking foreign function calls ... OK * checking R code for possible problems ... OK * checking Rd files ... OK * checking Rd metadata ... OK * checking Rd cross-references ... OK * checking for missing documentation entries ... OK * checking for code/documentation mismatches ... OK * checking Rd \usage sections ... OK * checking Rd contents ... OK * checking for unstated dependencies in examples ... OK * checking files in ‘vignettes’ ... OK * checking examples ... OK * checking for unstated dependencies in ‘tests’ ... OK * checking tests ... Running ‘testthat.R’ ERROR Running the tests in ‘tests/testthat.R’ failed. Last 13 lines of output: ── Error ('test_px2.R:59:5'): PXD022816: valid URLs and files (v2) ───────────── Error in `open.connection(con, open = mode)`: cannot open the connection Backtrace: ▆ 1. └─rpx::PXDataset2("PXD022816") at test_px2.R:59:5 2. └─rpx:::list_files(ftp_url) 3. └─curl::curl(url = ftp_url, "r", handle = list_files) 4. └─curl:::curl_connection(url, open, handle) 5. ├─base::withCallingHandlers(...) 6. ├─base::open(con, open = mode) 7. └─base::open.connection(con, open = mode) [ FAIL 1 | WARN 1 | SKIP 1 | PASS 9 ] Error: Test failures Execution halted * checking for unstated dependencies in vignettes ... OK * checking package vignettes ... OK * checking re-building of vignette outputs ... OK * checking PDF version of manual ... OK * DONE Status: 1 ERROR See ‘/media/volume/teran2_disk/rapidbuild/bbs-3.21-bioc-rapid/meat/rpx.Rcheck/00check.log’ for details.
rpx.Rcheck/00install.out
############################################################################## ############################################################################## ### ### Running command: ### ### /home/rapidbuild/bbs-3.21-bioc-rapid/R/bin/R CMD INSTALL rpx ### ############################################################################## ############################################################################## * installing to library ‘/media/volume/teran2_disk/rapidbuild/bbs-3.21-bioc-rapid/R/site-library’ * installing *source* package ‘rpx’ ... ** this is package ‘rpx’ version ‘2.15.1’ ** using staged installation ** R ** inst ** byte-compile and prepare package for lazy loading ** help *** installing help indices ** building package indices ** installing vignettes ** testing if installed package can be loaded from temporary location ** testing if installed package can be loaded from final location ** testing if installed package keeps a record of temporary installation path * DONE (rpx)
rpx.Rcheck/tests/testthat.Rout.fail
R Under development (unstable) (2025-01-20 r87609) -- "Unsuffered Consequences" Copyright (C) 2025 The R Foundation for Statistical Computing Platform: x86_64-pc-linux-gnu R is free software and comes with ABSOLUTELY NO WARRANTY. You are welcome to redistribute it under certain conditions. Type 'license()' or 'licence()' for distribution details. R is a collaborative project with many contributors. Type 'contributors()' for more information and 'citation()' on how to cite R or R packages in publications. Type 'demo()' for some demos, 'help()' for on-line help, or 'help.start()' for an HTML browser interface to help. Type 'q()' to quit R. > # setting R_TESTS to empty string because of > # https://github.com/hadley/testthat/issues/144 > # revert this when that issue in R is fixed. > Sys.setenv("R_TESTS" = "") > library(testthat) > library(rpx) > > test_check("rpx") Project PXD000001 with 11 files [1] 'F063721.dat' ... [11] 'erwinia_carotovora.fasta' Use 'pxfiles(.)' to see all files. [ FAIL 1 | WARN 1 | SKIP 1 | PASS 9 ] ══ Skipped tests (1) ═══════════════════════════════════════════════════════════ • empty test (1): 'test_px2.R:44:1' ══ Failed tests ════════════════════════════════════════════════════════════════ ── Error ('test_px2.R:59:5'): PXD022816: valid URLs and files (v2) ───────────── Error in `open.connection(con, open = mode)`: cannot open the connection Backtrace: ▆ 1. └─rpx::PXDataset2("PXD022816") at test_px2.R:59:5 2. └─rpx:::list_files(ftp_url) 3. └─curl::curl(url = ftp_url, "r", handle = list_files) 4. └─curl:::curl_connection(url, open, handle) 5. ├─base::withCallingHandlers(...) 6. ├─base::open(con, open = mode) 7. └─base::open.connection(con, open = mode) [ FAIL 1 | WARN 1 | SKIP 1 | PASS 9 ] Error: Test failures Execution halted
rpx.Rcheck/rpx-Ex.timings
name | user | system | elapsed | |
PXDataset2 | 2.389 | 0.161 | 3.067 | |
cache | 0.075 | 0.002 | 0.077 | |
pxFileTypes | 0.034 | 0.003 | 0.037 | |
pxannounced | 0.001 | 0.000 | 0.001 | |