Back to Build/check report for BioC 3.21 experimental data
ABCDEFGHIJ[K]LMNOPQRSTUVWXYZ

This page was generated on 2025-02-06 15:01 -0500 (Thu, 06 Feb 2025).

HostnameOSArch (*)R versionInstalled pkgs
nebbiolo1Linux (Ubuntu 24.04.1 LTS)x86_64R Under development (unstable) (2025-01-20 r87609) -- "Unsuffered Consequences" 4719
Click on any hostname to see more info about the system (e.g. compilers)      (*) as reported by 'uname -p', except on Windows and Mac OS X

Package 208/430HostnameOS / ArchINSTALLBUILDCHECK
KEGGdzPathwaysGEO 1.45.0  (landing page)
Gaurav Bhatti
Snapshot Date: 2025-02-06 07:30 -0500 (Thu, 06 Feb 2025)
git_url: https://git.bioconductor.org/packages/KEGGdzPathwaysGEO
git_branch: devel
git_last_commit: 4e8f0d5
git_last_commit_date: 2024-10-29 09:30:06 -0500 (Tue, 29 Oct 2024)
nebbiolo1Linux (Ubuntu 24.04.1 LTS) / x86_64  OK    OK    OK  UNNEEDED, same version is already published


CHECK results for KEGGdzPathwaysGEO on nebbiolo1

To the developers/maintainers of the KEGGdzPathwaysGEO package:
- Use the following Renviron settings to reproduce errors and warnings.
- If 'R CMD check' started to fail recently on the Linux builder(s) over a missing dependency, add the missing dependency to 'Suggests:' in your DESCRIPTION file. See Renviron.bioc for more information.

raw results


Summary

Package: KEGGdzPathwaysGEO
Version: 1.45.0
Command: /home/biocbuild/bbs-3.21-bioc/R/bin/R CMD check --install=check:KEGGdzPathwaysGEO.install-out.txt --library=/home/biocbuild/bbs-3.21-bioc/R/site-library --timings KEGGdzPathwaysGEO_1.45.0.tar.gz
StartedAt: 2025-02-06 12:16:21 -0500 (Thu, 06 Feb 2025)
EndedAt: 2025-02-06 12:21:14 -0500 (Thu, 06 Feb 2025)
EllapsedTime: 292.2 seconds
RetCode: 0
Status:   OK  
CheckDir: KEGGdzPathwaysGEO.Rcheck
Warnings: 0

Command output

##############################################################################
##############################################################################
###
### Running command:
###
###   /home/biocbuild/bbs-3.21-bioc/R/bin/R CMD check --install=check:KEGGdzPathwaysGEO.install-out.txt --library=/home/biocbuild/bbs-3.21-bioc/R/site-library --timings KEGGdzPathwaysGEO_1.45.0.tar.gz
###
##############################################################################
##############################################################################


* using log directory ‘/home/biocbuild/bbs-3.21-data-experiment/meat/KEGGdzPathwaysGEO.Rcheck’
* using R Under development (unstable) (2025-01-20 r87609)
* using platform: x86_64-pc-linux-gnu
* R was compiled by
    gcc (Ubuntu 13.3.0-6ubuntu2~24.04) 13.3.0
    GNU Fortran (Ubuntu 13.3.0-6ubuntu2~24.04) 13.3.0
* running under: Ubuntu 24.04.1 LTS
* using session charset: UTF-8
* checking for file ‘KEGGdzPathwaysGEO/DESCRIPTION’ ... OK
* checking extension type ... Package
* this is package ‘KEGGdzPathwaysGEO’ version ‘1.45.0’
* checking package namespace information ... OK
* checking package dependencies ... OK
* checking if this is a source package ... OK
* checking if there is a namespace ... OK
* checking for hidden files and directories ... OK
* checking for portable file names ... OK
* checking for sufficient/correct file permissions ... OK
* checking whether package ‘KEGGdzPathwaysGEO’ can be installed ... OK
* checking installed package size ... INFO
  installed size is 301.0Mb
  sub-directories of 1Mb or more:
    data  300.8Mb
* checking package directory ... OK
* checking DESCRIPTION meta-information ... OK
* checking top-level files ... OK
* checking for left-over files ... OK
* checking index information ... OK
* checking package subdirectories ... OK
* checking code files for non-ASCII characters ... OK
* checking R files for syntax errors ... OK
* checking whether the package can be loaded ... OK
* checking whether the package can be loaded with stated dependencies ... OK
* checking whether the package can be unloaded cleanly ... OK
* checking whether the namespace can be loaded with stated dependencies ... OK
* checking whether the namespace can be unloaded cleanly ... OK
* checking loading without being on the library search path ... OK
* checking dependencies in R code ... NOTE
Namespaces in Imports field not imported from:
  ‘Biobase’ ‘BiocGenerics’
  All declared Imports should be used.
* checking S3 generic/method consistency ... OK
* checking replacement functions ... OK
* checking foreign function calls ... OK
* checking R code for possible problems ... OK
* checking Rd files ... OK
* checking Rd metadata ... OK
* checking Rd cross-references ... OK
* checking for missing documentation entries ... OK
* checking for code/documentation mismatches ... OK
* checking Rd \usage sections ... OK
* checking Rd contents ... OK
* checking for unstated dependencies in examples ... OK
* checking contents of ‘data’ directory ... OK
* checking data for non-ASCII characters ... OK
* checking data for ASCII and uncompressed saves ... OK
* checking examples ... OK
* checking PDF version of manual ... OK
* DONE

Status: 1 NOTE
See
  ‘/home/biocbuild/bbs-3.21-data-experiment/meat/KEGGdzPathwaysGEO.Rcheck/00check.log’
for details.


Installation output

KEGGdzPathwaysGEO.Rcheck/00install.out

##############################################################################
##############################################################################
###
### Running command:
###
###   /home/biocbuild/bbs-3.21-bioc/R/bin/R CMD INSTALL KEGGdzPathwaysGEO
###
##############################################################################
##############################################################################


* installing to library ‘/home/biocbuild/bbs-3.21-bioc/R/site-library’
* installing *source* package ‘KEGGdzPathwaysGEO’ ...
** this is package ‘KEGGdzPathwaysGEO’ version ‘1.45.0’
** using staged installation
** R
** data
** byte-compile and prepare package for lazy loading
** help
*** installing help indices
** building package indices
** testing if installed package can be loaded from temporary location
** testing if installed package can be loaded from final location
** testing if installed package keeps a record of temporary installation path
* DONE (KEGGdzPathwaysGEO)

Tests output


Example timings

KEGGdzPathwaysGEO.Rcheck/KEGGdzPathwaysGEO-Ex.timings

nameusersystemelapsed
GSE12970.0490.0080.059
GSE147620.1150.0060.123
GSE154710.2550.0340.289
GSE165150.1470.0140.162
GSE188420.3190.0340.353
GSE191880.5760.0740.650
GSE197280.1130.0040.118
GSE201530.0970.0030.100
GSE202910.0610.0080.068
GSE213540.1040.0050.109
GSE34670.1010.0070.108
GSE35850.0370.0010.038
GSE36780.0870.0070.095
GSE41070.1230.0050.128
GSE5281_EC0.1130.0080.121
GSE5281_HIP0.1250.0090.133
GSE5281_VCX0.1420.0070.149
GSE6956AA0.0330.0020.034
GSE6956C0.0750.0070.083
GSE7810.0400.0020.042
GSE86710.2470.0120.259
GSE87620.1150.0090.124
GSE93480.3050.0120.318
GSE94760.1000.0090.109
KEGGdzPathwaysGEO-package0.2970.0120.308