Back to Build/check report for BioC 3.21 experimental data
ABCDEFGHIJKLMN[O]PQRSTUVWXYZ

This page was generated on 2025-02-06 15:01 -0500 (Thu, 06 Feb 2025).

HostnameOSArch (*)R versionInstalled pkgs
nebbiolo1Linux (Ubuntu 24.04.1 LTS)x86_64R Under development (unstable) (2025-01-20 r87609) -- "Unsuffered Consequences" 4719
Click on any hostname to see more info about the system (e.g. compilers)      (*) as reported by 'uname -p', except on Windows and Mac OS X

Package 283/430HostnameOS / ArchINSTALLBUILDCHECK
optimalFlowData 1.19.0  (landing page)
Hristo Inouzhe
Snapshot Date: 2025-02-06 07:30 -0500 (Thu, 06 Feb 2025)
git_url: https://git.bioconductor.org/packages/optimalFlowData
git_branch: devel
git_last_commit: 780c0d1
git_last_commit_date: 2024-10-29 09:51:11 -0500 (Tue, 29 Oct 2024)
nebbiolo1Linux (Ubuntu 24.04.1 LTS) / x86_64  OK    OK    WARNINGS  UNNEEDED, same version is already published


CHECK results for optimalFlowData on nebbiolo1

To the developers/maintainers of the optimalFlowData package:
- Use the following Renviron settings to reproduce errors and warnings.
- If 'R CMD check' started to fail recently on the Linux builder(s) over a missing dependency, add the missing dependency to 'Suggests:' in your DESCRIPTION file. See Renviron.bioc for more information.

raw results


Summary

Package: optimalFlowData
Version: 1.19.0
Command: /home/biocbuild/bbs-3.21-bioc/R/bin/R CMD check --install=check:optimalFlowData.install-out.txt --library=/home/biocbuild/bbs-3.21-bioc/R/site-library --timings optimalFlowData_1.19.0.tar.gz
StartedAt: 2025-02-06 12:30:06 -0500 (Thu, 06 Feb 2025)
EndedAt: 2025-02-06 12:31:08 -0500 (Thu, 06 Feb 2025)
EllapsedTime: 62.3 seconds
RetCode: 0
Status:   WARNINGS  
CheckDir: optimalFlowData.Rcheck
Warnings: 1

Command output

##############################################################################
##############################################################################
###
### Running command:
###
###   /home/biocbuild/bbs-3.21-bioc/R/bin/R CMD check --install=check:optimalFlowData.install-out.txt --library=/home/biocbuild/bbs-3.21-bioc/R/site-library --timings optimalFlowData_1.19.0.tar.gz
###
##############################################################################
##############################################################################


* using log directory ‘/home/biocbuild/bbs-3.21-data-experiment/meat/optimalFlowData.Rcheck’
* using R Under development (unstable) (2025-01-20 r87609)
* using platform: x86_64-pc-linux-gnu
* R was compiled by
    gcc (Ubuntu 13.3.0-6ubuntu2~24.04) 13.3.0
    GNU Fortran (Ubuntu 13.3.0-6ubuntu2~24.04) 13.3.0
* running under: Ubuntu 24.04.1 LTS
* using session charset: UTF-8
* checking for file ‘optimalFlowData/DESCRIPTION’ ... OK
* checking extension type ... Package
* this is package ‘optimalFlowData’ version ‘1.19.0’
* package encoding: UTF-8
* checking package namespace information ... OK
* checking package dependencies ... OK
* checking if this is a source package ... OK
* checking if there is a namespace ... OK
* checking for hidden files and directories ... OK
* checking for portable file names ... OK
* checking for sufficient/correct file permissions ... OK
* checking whether package ‘optimalFlowData’ can be installed ... OK
* checking installed package size ... INFO
  installed size is 97.4Mb
  sub-directories of 1Mb or more:
    data  97.2Mb
* checking package directory ... OK
* checking ‘build’ directory ... OK
* checking DESCRIPTION meta-information ... OK
* checking top-level files ... OK
* checking for left-over files ... OK
* checking index information ... OK
* checking package subdirectories ... OK
* checking code files for non-ASCII characters ... OK
* checking R files for syntax errors ... OK
* checking whether the package can be loaded ... OK
* checking whether the package can be loaded with stated dependencies ... OK
* checking whether the package can be unloaded cleanly ... OK
* checking whether the namespace can be loaded with stated dependencies ... OK
* checking whether the namespace can be unloaded cleanly ... OK
* checking loading without being on the library search path ... OK
* checking dependencies in R code ... OK
* checking S3 generic/method consistency ... OK
* checking replacement functions ... OK
* checking foreign function calls ... OK
* checking R code for possible problems ... OK
* checking Rd files ... OK
* checking Rd metadata ... OK
* checking Rd cross-references ... OK
* checking for missing documentation entries ... OK
* checking for code/documentation mismatches ... OK
* checking Rd \usage sections ... OK
* checking Rd contents ... OK
* checking for unstated dependencies in examples ... OK
* checking contents of ‘data’ directory ... OK
* checking data for non-ASCII characters ... OK
* checking LazyData ... WARNING
  LazyData DB of 97.2 MB without LazyDataCompression set
  See §1.1.6 of 'Writing R Extensions'
* checking data for ASCII and uncompressed saves ... OK
* checking files in ‘vignettes’ ... OK
* checking examples ... OK
* checking for unstated dependencies in vignettes ... OK
* checking package vignettes ... OK
* checking re-building of vignette outputs ... OK
* checking PDF version of manual ... OK
* DONE

Status: 1 WARNING
See
  ‘/home/biocbuild/bbs-3.21-data-experiment/meat/optimalFlowData.Rcheck/00check.log’
for details.


Installation output

optimalFlowData.Rcheck/00install.out

##############################################################################
##############################################################################
###
### Running command:
###
###   /home/biocbuild/bbs-3.21-bioc/R/bin/R CMD INSTALL optimalFlowData
###
##############################################################################
##############################################################################


* installing to library ‘/home/biocbuild/bbs-3.21-bioc/R/site-library’
* installing *source* package ‘optimalFlowData’ ...
** this is package ‘optimalFlowData’ version ‘1.19.0’
** using staged installation
** R
** data
*** moving datasets to lazyload DB
** byte-compile and prepare package for lazy loading
** help
*** installing help indices
** building package indices
** installing vignettes
** testing if installed package can be loaded from temporary location
** testing if installed package can be loaded from final location
** testing if installed package keeps a record of temporary installation path
* DONE (optimalFlowData)

Tests output


Example timings

optimalFlowData.Rcheck/optimalFlowData-Ex.timings

nameusersystemelapsed
Cytometry10.0290.0120.040
Cytometry100.0190.0080.027
Cytometry110.0200.0090.029
Cytometry120.0210.0080.028
Cytometry130.0240.0050.028
Cytometry140.0290.0080.037
Cytometry150.0130.0020.016
Cytometry160.0120.0040.015
Cytometry170.0480.0160.064
Cytometry180.0400.0160.055
Cytometry190.0230.0020.025
Cytometry20.0580.0040.062
Cytometry200.0380.0020.040
Cytometry210.0500.0010.052
Cytometry220.0230.0010.024
Cytometry230.0250.0050.030
Cytometry240.0210.0080.029
Cytometry250.0180.0100.029
Cytometry260.0220.0030.026
Cytometry270.0600.0120.071
Cytometry280.0890.0210.110
Cytometry290.0550.0130.069
Cytometry30.0120.0000.013
Cytometry300.0440.0050.049
Cytometry310.0450.0070.052
Cytometry320.0520.0020.054
Cytometry330.0640.0020.066
Cytometry340.0600.0030.063
Cytometry350.0420.0030.046
Cytometry360.0110.0020.013
Cytometry370.0110.0020.012
Cytometry380.0100.0020.012
Cytometry390.0130.0020.014
Cytometry40.0120.0000.012
Cytometry400.0280.0030.031
Cytometry50.0110.0010.013
Cytometry60.0110.0010.013
Cytometry70.0140.0000.015
Cytometry80.0120.0000.012
Cytometry90.0200.0010.022
buildDatabase0.4840.0390.524
cytometry.diagnosis0.0020.0010.002
noise.types0.0000.0010.002