Welcome to mirrors.dotsrc.org

All our mirrors of open source software are available via http, https, ftp and an onion service. More information about our mirrors including statistics and contact information is available on our mirror info pages.

For information about dotsrc.org and our other services please go to our website.

Index of /bioconductor/checkResults/release/bioc-LATEST/

File Name  ↓ File Size  ↓ Date  ↓ 
Parent directory/--
BiocHail/-2025-02-03 17:11:23
Rcollectl/-2025-02-03 17:12:15
HilbertVisGUI/-2025-02-03 17:11:50
DEGraph/-2025-02-03 17:11:34
NCIgraph/-2025-02-03 17:12:05
HTSeqGenie/-2025-02-03 17:11:50
netDx/-2025-02-03 17:12:05
nanotatoR/-2025-02-03 17:12:04
SummarizedBenchmark/-2025-02-03 17:12:28
RandomWalkRestartMH/-2025-02-03 17:12:13
netOmics/-2025-02-03 17:12:05
rsbml/-2025-02-03 17:12:19
BiGGR/-2025-02-03 17:11:22
RGMQL/-2025-02-03 17:12:16
CellaRepertorium/-2025-02-03 17:11:27
HTqPCR/-2025-02-03 17:11:50
MQmetrics/-2025-02-03 17:12:02
Pi/-2025-02-03 17:12:10
HiCool/-2025-02-03 17:11:50
staRank/-2025-02-03 17:12:28
scviR/-2025-02-03 17:12:23
BiocOncoTK/-2025-02-03 17:11:23
RNAinteract/-2025-02-03 17:12:18
iBMQ/-2025-02-03 17:11:51
ADAPT/-2025-02-03 17:11:17
runibic/-2025-02-03 17:12:20
R3CPET/-2025-02-03 17:12:13
gespeR/-2025-02-03 17:11:46
MetMashR/-2025-02-03 17:11:59
GeneGA/-2025-02-03 17:11:44
VariantExperiment/-2025-02-03 17:12:34
TypeInfo/-2025-02-03 17:12:33
netboost/-2025-02-03 17:12:05
ExCluster/-2025-02-03 17:11:40
dupRadar/-2025-02-03 17:11:37
NetPathMiner/-2025-02-03 17:12:05
ChIPXpress/-2025-02-03 17:11:28
CoverageView/-2025-02-03 17:11:32
SICtools/-2025-02-03 17:12:24
hiReadsProcessor/-2025-02-03 17:11:50
gmapR/-2025-02-03 17:11:47
rifiComparative/-2025-02-03 17:12:17
rDGIdb/-2025-02-03 17:12:15
crisprBwa/-2025-02-03 17:11:32
EnrichDO/-2025-02-03 17:11:38
TVTB/-2025-02-03 17:12:33
MACSr/-2025-02-03 17:11:56
FLAMES/-2025-02-03 17:11:41
conumee/-2025-02-03 17:11:31
rifi/-2025-02-03 17:12:17
RcwlPipelines/-2025-02-03 17:12:15
ReUseData/-2025-02-03 17:12:16
annmap/-2025-02-03 17:11:19
Rcwl/-2025-02-03 17:12:15
Rbwa/-2025-02-03 17:12:15
NeuCA/-2025-02-03 17:12:05
DeProViR/-2025-02-03 17:11:35
waddR/-2025-02-03 17:12:35
immApex/-2025-02-03 17:11:52
biobtreeR/-2025-02-03 17:11:22
xenLite/-2025-02-03 17:12:35
plyxp/-2025-02-03 17:12:10
ccfindR/-2025-02-03 17:11:26
MutationalPatterns/-2025-02-03 17:12:04
PRONE/-2025-02-03 17:12:12
AnVILAz/-2025-02-03 17:11:19
scoup/-2025-02-03 17:12:22
CoSIA/-2025-02-03 17:11:31
rhinotypeR/-2025-02-03 17:12:17
OmicsMLRepoR/-2025-02-03 17:12:06
immunogenViewer/-2025-02-03 17:11:52
StabMap/-2025-02-03 17:12:28
TMSig/-2025-02-03 17:12:31
TnT/-2025-02-03 17:12:31
tidysbml/-2025-02-03 17:12:31
PepSetTest/-2025-02-03 17:12:09
slalom/-2025-02-03 17:12:25
tidytof/-2025-02-03 17:12:31
MsBackendMetaboLights/-2025-02-03 17:12:02
CatsCradle/-2025-02-03 17:11:26
cliqueMS/-2025-02-03 17:11:29
EpipwR/-2025-02-03 17:11:39
AnVILBase/-2025-02-03 17:11:19
DNABarcodes/-2025-02-03 17:11:37
dominoSignal/-2025-02-03 17:11:37
TENxIO/-2025-02-03 17:12:30
HuBMAPR/-2025-02-03 17:11:50
geomeTriD/-2025-02-03 17:11:45
DFplyr/-2025-02-03 17:11:36
iSEEtree/-2025-02-03 17:11:53
kmcut/-2025-02-03 17:11:54
assorthead/-2025-02-03 17:11:20
koinar/-2025-02-03 17:11:54
omXplore/-2025-02-03 17:12:07
scrapper/-2025-02-03 17:12:22
SpectraQL/-2025-02-03 17:12:27
MOSClip/-2025-02-03 17:12:02
AnVILGCP/-2025-02-03 17:11:19
CleanUpRNAseq/-2025-02-03 17:11:29
scDiagnostics/-2025-02-03 17:12:21
DuplexDiscovereR/-2025-02-03 17:11:37
casper/-2025-02-03 17:11:26
SpaNorm/-2025-02-03 17:12:26
spatialSimGP/-2025-02-03 17:12:26
seahtrue/-2025-02-03 17:12:23
PolySTest/-2025-02-03 17:12:11
methodical/-2025-02-03 17:11:59
paxtoolsr/-2025-02-03 17:12:08
Pirat/-2025-02-03 17:12:10
Risa/-2025-02-03 17:12:17
MAIT/-2025-02-03 17:11:56
CHRONOS/-2025-02-03 17:11:28
CluMSID/-2025-02-03 17:11:29
qckitfastq/-2025-02-03 17:12:12
Rbec/-2025-02-03 17:12:14
STdeconvolve/-2025-02-03 17:12:28
IPO/-2025-02-03 17:11:53
iPath/-2025-02-03 17:11:53
plotGrouper/-2025-02-03 17:12:10
SPLINTER/-2025-02-03 17:12:27
microSTASIS/-2025-02-03 17:12:00
ATACCoGAPS/-2025-02-03 17:11:20
pareg/-2025-02-03 17:12:08
SNPediaR/-2025-02-03 17:12:26
SingleCellAlleleExperiment/-2025-02-03 17:12:25
ChemmineOB/-2025-02-03 17:11:28
GenProSeq/-2025-02-03 17:11:45
DeepPINCS/-2025-02-03 17:11:34
cfTools/-2025-02-03 17:11:27
ttgsea/-2025-02-03 17:12:33
gpuMagic/-2025-02-03 17:11:47
VAExprs/-2025-02-03 17:12:34
BioGA/-2025-02-03 17:11:24
globaltest/-2025-02-03 17:11:47
rmspc/-2025-02-03 17:12:18
HoloFoodR/-2025-02-03 17:11:50
velociraptor/-2025-02-03 17:12:34
msgbsR/-2025-02-03 17:12:03
phyloseq/-2025-02-03 17:12:10
scDotPlot/-2025-02-03 17:12:21
DNABarcodeCompatibility/-2025-02-03 17:11:37
DeepTarget/-2025-02-03 17:11:34
tenXplore/-2025-02-03 17:12:30
UMI4Cats/-2025-02-03 17:12:33
beadarray/-2025-02-03 17:11:21
bioassayR/-2025-02-03 17:11:22
DMRScan/-2025-02-03 17:11:37
decompTumor2Sig/-2025-02-03 17:11:34
rqt/-2025-02-03 17:12:19
orthos/-2025-02-03 17:12:07
CircSeqAlignTk/-2025-02-03 17:11:29
igvShiny/-2025-02-03 17:11:52
esATAC/-2025-02-03 17:11:39
easyRNASeq/-2025-02-03 17:11:38
megadepth/-2025-02-03 17:11:57
onlineFDR/-2025-02-03 17:12:07
squallms/-2025-02-03 17:12:27
Rbowtie2/-2025-02-03 17:12:15
rawrr/-2025-02-03 17:12:14
TCGAbiolinks/-2025-02-03 17:12:30
rawDiag/-2025-02-03 17:12:14
MsBackendRawFileReader/-2025-02-03 17:12:02
FELLA/-2025-02-03 17:11:41
GBScleanR/-2025-02-03 17:11:43
AlphaMissenseR/-2025-02-03 17:11:18
genefu/-2025-02-03 17:11:44
multiGSEA/-2025-02-03 17:12:03
PDATK/-2025-02-03 17:12:09
MetaPhOR/-2025-02-03 17:11:58
GEOmetadb/-2025-02-03 17:11:45
OncoSimulR/-2025-02-03 17:12:07
sketchR/-2025-02-03 17:12:25
ASURAT/-2025-02-03 17:11:20
gatom/-2025-02-03 17:11:43
signifinder/-2025-02-03 17:12:24
TileDBArray/-2025-02-03 17:12:31
profileScoreDist/-2025-02-03 17:12:11
Cepo/-2025-02-03 17:11:27
musicatk/-2025-02-03 17:12:04
SANTA/-2025-02-03 17:12:20
GSgalgoR/-2025-02-03 17:11:48
Director/-2025-02-03 17:11:36
SurfR/-2025-02-03 17:12:29
SGCP/-2025-02-03 17:12:24
REMP/-2025-02-03 17:12:16
omicRexposome/-2025-02-03 17:12:06
consensusOV/-2025-02-03 17:11:31
xcms/-2025-02-03 17:12:35
benchdamic/-2025-02-03 17:11:22
hdxmsqc/-2025-02-03 17:11:49
geva/-2025-02-03 17:11:46
ontoProc/-2025-02-03 17:12:07
APL/-2025-02-03 17:11:19
flowPloidy/-2025-02-03 17:11:42
gDNAx/-2025-02-03 17:11:43
slingshot/-2025-02-03 17:12:25
randRotation/-2025-02-03 17:12:13
MIRit/-2025-02-03 17:12:00
swfdr/-2025-02-03 17:12:29
concordexR/-2025-02-03 17:11:31
MoleculeExperiment/-2025-02-03 17:12:01
MANOR/-2025-02-03 17:11:56
infercnv/-2025-02-03 17:11:52
celda/-2025-02-03 17:11:26
oppti/-2025-02-03 17:12:07
metabinR/-2025-02-03 17:11:58
MAGeCKFlute/-2025-02-03 17:11:56
Statial/-2025-02-03 17:12:28
imcRtools/-2025-02-03 17:11:52
chromstaR/-2025-02-03 17:11:28
motifbreakR/-2025-02-03 17:12:02
beer/-2025-02-03 17:11:22
cytomapper/-2025-02-03 17:11:33
cTRAP/-2025-02-03 17:11:33
scTensor/-2025-02-03 17:12:22
scGPS/-2025-02-03 17:12:21
MBCB/-2025-02-03 17:11:57
scDDboost/-2025-02-03 17:12:21
TDbasedUFEadv/-2025-02-03 17:12:30
cytoviewer/-2025-02-03 17:11:33
HiContacts/-2025-02-03 17:11:50
decontX/-2025-02-03 17:11:34
epiregulon/-2025-02-03 17:11:39
SRAdb/-2025-02-03 17:12:27
ChIPseqR/-2025-02-03 17:11:28
SpotSweeper/-2025-02-03 17:12:27
SpatialFeatureExperiment/-2025-02-03 17:12:26
stJoincount/-2025-02-03 17:12:28
lisaClust/-2025-02-03 17:11:55
spicyR/-2025-02-03 17:12:27
mosbi/-2025-02-03 17:12:02
segmentSeq/-2025-02-03 17:12:23
bgx/-2025-02-03 17:11:22
dce/-2025-02-03 17:11:34
HiLDA/-2025-02-03 17:11:50
CNVrd2/-2025-02-03 17:11:30
broadSeq/-2025-02-03 17:11:25
bandle/-2025-02-03 17:11:21
bambu/-2025-02-03 17:11:21
HERON/-2025-02-03 17:11:49
schex/-2025-02-03 17:12:21
cisPath/-2025-02-03 17:11:29
MADSEQ/-2025-02-03 17:11:56
biodbNci/-2025-02-03 17:11:23
MethReg/-2025-02-03 17:11:59
HilbertVis/-2025-02-03 17:11:50
metaseqR2/-2025-02-03 17:11:58
Dune/-2025-02-03 17:11:37
basilisk/-2025-02-03 17:11:21
MungeSumstats/-2025-02-03 17:12:04
metahdep/-2025-02-03 17:11:58
Voyager/-2025-02-03 17:12:35
DEsubs/-2025-02-03 17:11:35
MsExperiment/-2025-02-03 17:12:02
ILoReg/-2025-02-03 17:11:52
infinityFlow/-2025-02-03 17:11:52
simpleSeg/-2025-02-03 17:12:25
ppcseq/-2025-02-03 17:12:11
PROPS/-2025-02-03 17:12:12
supraHex/-2025-02-03 17:12:29
CONFESS/-2025-02-03 17:11:31
TBSignatureProfiler/-2025-02-03 17:12:30
rTRM/-2025-02-03 17:12:19
miRSM/-2025-02-03 17:12:01
scider/-2025-02-03 17:12:21
SPIAT/-2025-02-03 17:12:27
RegEnrich/-2025-02-03 17:12:16
rGADEM/-2025-02-03 17:12:16
GEOexplorer/-2025-02-03 17:11:45
selectKSigs/-2025-02-03 17:12:23
mariner/-2025-02-03 17:11:56
MsDataHub/-2025-02-03 17:12:02
graper/-2025-02-03 17:11:47
ALDEx2/-2025-02-03 17:11:18
immunoClust/-2025-02-03 17:11:52
PIUMA/-2025-02-03 17:12:10
granulator/-2025-02-03 17:11:47
ACME/-2025-02-03 17:11:17
singleCellTK/-2025-02-03 17:12:25
diffuStats/-2025-02-03 17:11:36
pogos/-2025-02-03 17:12:11
SpatialOmicsOverlay/-2025-02-03 17:12:26
TCGAutils/-2025-02-03 17:12:30
dada2/-2025-02-03 17:11:33
Oscope/-2025-02-03 17:12:07
DESpace/-2025-02-03 17:11:35
mina/-2025-02-03 17:12:00
lmdme/-2025-02-03 17:11:55
ANF/-2025-02-03 17:11:19
PanViz/-2025-02-03 17:12:08
SparseArray/-2025-02-03 17:12:26
scDD/-2025-02-03 17:12:21
COTAN/-2025-02-03 17:11:32
BatchQC/-2025-02-03 17:11:21
basecallQC/-2025-02-03 17:11:21
CNVRanger/-2025-02-03 17:11:30
adductomicsR/-2025-02-03 17:11:17
smoothclust/-2025-02-03 17:12:25
TransView/-2025-02-03 17:12:32
scTGIF/-2025-02-03 17:12:22
groHMM/-2025-02-03 17:11:48
psygenet2r/-2025-02-03 17:12:12
synergyfinder/-2025-02-03 17:12:29
AlpsNMR/-2025-02-03 17:11:18
crisprBowtie/-2025-02-03 17:11:32
QTLExperiment/-2025-02-03 17:12:13
minet/-2025-02-03 17:12:00
OTUbase/-2025-02-03 17:12:07
pathifier/-2025-02-03 17:12:08
DEWSeq/-2025-02-03 17:11:35
tpSVG/-2025-02-03 17:12:32
daMA/-2025-02-03 17:11:33
BicARE/-2025-02-03 17:11:22
PICS/-2025-02-03 17:12:10
coRdon/-2025-02-03 17:11:31
ProteoMM/-2025-02-03 17:12:12
SMITE/-2025-02-03 17:12:25
NPARC/-2025-02-03 17:12:06
fastseg/-2025-02-03 17:11:40
mnem/-2025-02-03 17:12:01
RCyjs/-2025-02-03 17:12:15
HIBAG/-2025-02-03 17:11:49
iSEEu/-2025-02-03 17:11:53
GOstats/-2025-02-03 17:11:47
GPA/-2025-02-03 17:11:47
crossmeta/-2025-02-03 17:11:32
GARS/-2025-02-03 17:11:43
singscore/-2025-02-03 17:12:25
EBImage/-2025-02-03 17:11:38
tomoseqr/-2025-02-03 17:12:31
OLINgui/-2025-02-03 17:12:06
diggit/-2025-02-03 17:11:36
ABSSeq/-2025-02-03 17:11:17
globalSeq/-2025-02-03 17:11:47
NoRCE/-2025-02-03 17:12:05
CNORdt/-2025-02-03 17:11:30
BiocSet/-2025-02-03 17:11:23
Rvisdiff/-2025-02-03 17:12:20
mzID/-2025-02-03 17:12:04
MetaboAnnotation/-2025-02-03 17:11:58
marray/-2025-02-03 17:11:56
eudysbiome/-2025-02-03 17:11:40
clusterStab/-2025-02-03 17:11:29
messina/-2025-02-03 17:11:58
BRGenomics/-2025-02-03 17:11:25
Icens/-2025-02-03 17:11:51
Pigengene/-2025-02-03 17:12:10
biocthis/-2025-02-03 17:11:23
mCSEA/-2025-02-03 17:11:57
DelayedArray/-2025-02-03 17:11:35
ideal/-2025-02-03 17:11:51
gDRimport/-2025-02-03 17:11:43
tidySpatialExperiment/-2025-02-03 17:12:31
MGFR/-2025-02-03 17:11:59
SummarizedExperiment/-2025-02-03 17:12:29
EmpiricalBrownsMethod/-2025-02-03 17:11:38
bcSeq/-2025-02-03 17:11:21
topGO/-2025-02-03 17:12:31
mBPCR/-2025-02-03 17:11:57
CellBench/-2025-02-03 17:11:27
ChIPanalyser/-2025-02-03 17:11:28
alabaster.files/-2025-02-03 17:11:18
CODEX/-2025-02-03 17:11:30
PhyloProfile/-2025-02-03 17:12:10
openCyto/-2025-02-03 17:12:07
BindingSiteFinder/-2025-02-03 17:11:22
CellTrails/-2025-02-03 17:11:27
sangeranalyseR/-2025-02-03 17:12:20
DMCFB/-2025-02-03 17:11:36
GeDi/-2025-02-03 17:11:43
ADaCGH2/-2025-02-03 17:11:17
flowViz/-2025-02-03 17:11:42
affy/-2025-02-03 17:11:17
miRNAtap/-2025-02-03 17:12:01
MultiBaC/-2025-02-03 17:12:03
oligo/-2025-02-03 17:12:06
occugene/-2025-02-03 17:12:06
BiocBook/-2025-02-03 17:11:22
frenchFISH/-2025-02-03 17:11:42
animalcules/-2025-02-03 17:11:19
PepsNMR/-2025-02-03 17:12:09
GenomicTuples/-2025-02-03 17:11:45
OMICsPCA/-2025-02-03 17:12:06
EBarrays/-2025-02-03 17:11:38
Biobase/-2025-02-03 17:11:22
GENIE3/-2025-02-03 17:11:44
iBBiG/-2025-02-03 17:11:51
psichomics/-2025-02-03 17:12:12
flowClust/-2025-02-03 17:11:41
atena/-2025-02-03 17:11:20
TissueEnrich/-2025-02-03 17:12:31
ggkegg/-2025-02-03 17:11:46
AgiMicroRna/-2025-02-03 17:11:18
karyoploteR/-2025-02-03 17:11:54
Rqc/-2025-02-03 17:12:19
Rcpi/-2025-02-03 17:12:15
SDAMS/-2025-02-03 17:12:23
nucleR/-2025-02-03 17:12:06
SCnorm/-2025-02-03 17:12:22
Category/-2025-02-03 17:11:26
DelayedMatrixStats/-2025-02-03 17:11:35
cosmiq/-2025-02-03 17:11:31
STATegRa/-2025-02-03 17:12:28
miRNApath/-2025-02-03 17:12:01
BiocIO/-2025-02-03 17:11:23
RBM/-2025-02-03 17:12:15
BOBaFIT/-2025-02-03 17:11:24
octad/-2025-02-03 17:12:06
mapscape/-2025-02-03 17:11:56
signeR/-2025-02-03 17:12:24
stepNorm/-2025-02-03 17:12:28
proActiv/-2025-02-03 17:12:11
EventPointer/-2025-02-03 17:11:40
INPower/-2025-02-03 17:11:52
CNVfilteR/-2025-02-03 17:11:30
chromPlot/-2025-02-03 17:11:28
phenopath/-2025-02-03 17:12:09
Motif2Site/-2025-02-03 17:12:02
SigCheck/-2025-02-03 17:12:24
NBAMSeq/-2025-02-03 17:12:04
tadar/-2025-02-03 17:12:30
Summix/-2025-02-03 17:12:29
MSstatsConvert/-2025-02-03 17:12:03
garfield/-2025-02-03 17:11:43
AneuFinder/-2025-02-03 17:11:19
CAGEr/-2025-02-03 17:11:25
INSPEcT/-2025-02-03 17:11:52
Informeasure/-2025-02-03 17:11:52
M3Drop/-2025-02-03 17:11:56
BiocFHIR/-2025-02-03 17:11:22
ASICS/-2025-02-03 17:11:20
frma/-2025-02-03 17:11:42
atSNP/-2025-02-03 17:11:20
scds/-2025-02-03 17:12:21
rGREAT/-2025-02-03 17:12:17
RPA/-2025-02-03 17:12:19
a4Base/-2025-02-03 17:11:16
IVAS/-2025-02-03 17:11:54
Rarr/-2025-02-03 17:12:14
GenomeInfoDb/-2025-02-03 17:11:45
NetSAM/-2025-02-03 17:12:05
MCbiclust/-2025-02-03 17:11:57
scBubbletree/-2025-02-03 17:12:21
TEQC/-2025-02-03 17:12:30
RcisTarget/-2025-02-03 17:12:15
diffcyt/-2025-02-03 17:11:36
ADAMgui/-2025-02-03 17:11:17
MsFeatures/-2025-02-03 17:12:02
ExperimentHubData/-2025-02-03 17:11:40
scRepertoire/-2025-02-03 17:12:22
goseq/-2025-02-03 17:11:47
GraphPAC/-2025-02-03 17:11:48
BiSeq/-2025-02-03 17:11:24
kebabs/-2025-02-03 17:11:54
MGnifyR/-2025-02-03 17:11:59
scPCA/-2025-02-03 17:12:22
alevinQC/-2025-02-03 17:11:18
IMPCdata/-2025-02-03 17:11:52
SingleCellExperiment/-2025-02-03 17:12:25
CONSTANd/-2025-02-03 17:11:31
RAIDS/-2025-02-03 17:12:13
ProteoDisco/-2025-02-03 17:12:12
cn.farms/-2025-02-03 17:11:30
DEScan2/-2025-02-03 17:11:35
genomicInstability/-2025-02-03 17:11:45
DirichletMultinomial/-2025-02-03 17:11:36
fcScan/-2025-02-03 17:11:40
rtracklayer/-2025-02-03 17:12:19
GeneSelectMMD/-2025-02-03 17:11:44
iasva/-2025-02-03 17:11:51
DART/-2025-02-03 17:11:34
scMultiSim/-2025-02-03 17:12:22
iASeq/-2025-02-03 17:11:51
anota2seq/-2025-02-03 17:11:19
ASAFE/-2025-02-03 17:11:20
gcapc/-2025-02-03 17:11:43
MEDIPS/-2025-02-03 17:11:57
FRGEpistasis/-2025-02-03 17:11:42
seqPattern/-2025-02-03 17:12:23
ompBAM/-2025-02-03 17:12:07
netZooR/-2025-02-03 17:12:05
cydar/-2025-02-03 17:11:33
katdetectr/-2025-02-03 17:11:54
DeMAND/-2025-02-03 17:11:35
UNDO/-2025-02-03 17:12:34
TreeSummarizedExperiment/-2025-02-03 17:12:32
padma/-2025-02-03 17:12:08
rgoslin/-2025-02-03 17:12:17
r3Cseq/-2025-02-03 17:12:13
iterativeBMAsurv/-2025-02-03 17:11:54
flowDensity/-2025-02-03 17:11:42
netprioR/-2025-02-03 17:12:05
getDEE2/-2025-02-03 17:11:46
anota/-2025-02-03 17:11:19
microbiome/-2025-02-03 17:12:00
QUBIC/-2025-02-03 17:12:13
SELEX/-2025-02-03 17:12:23
FamAgg/-2025-02-03 17:11:40
GOpro/-2025-02-03 17:11:47
maser/-2025-02-03 17:11:56
alabaster.spatial/-2025-02-03 17:11:18
plier/-2025-02-03 17:12:10
Rgraphviz/-2025-02-03 17:12:17
nnNorm/-2025-02-03 17:12:05
CytoMDS/-2025-02-03 17:11:33
pairkat/-2025-02-03 17:12:08
tRNA/-2025-02-03 17:12:33
scTreeViz/-2025-02-03 17:12:23
TargetDecoy/-2025-02-03 17:12:30
netresponse/-2025-02-03 17:12:05
seqTools/-2025-02-03 17:12:23
scReClassify/-2025-02-03 17:12:22
RIVER/-2025-02-03 17:12:17
metaSeq/-2025-02-03 17:11:58
DominoEffect/-2025-02-03 17:11:37
RNAdecay/-2025-02-03 17:12:18
BiRewire/-2025-02-03 17:11:24
microbiomeExplorer/-2025-02-03 17:12:00
HicAggR/-2025-02-03 17:11:49
npGSEA/-2025-02-03 17:12:06
Rtpca/-2025-02-03 17:12:19
cogena/-2025-02-03 17:11:30
vissE/-2025-02-03 17:12:35
TrajectoryGeometry/-2025-02-03 17:12:32
oncoscanR/-2025-02-03 17:12:07
syntenet/-2025-02-03 17:12:29
GeneExpressionSignature/-2025-02-03 17:11:44
crisprViz/-2025-02-03 17:11:32
PECA/-2025-02-03 17:12:09
RTN/-2025-02-03 17:12:19
PAA/-2025-02-03 17:12:07
SIMD/-2025-02-03 17:12:24
coGPS/-2025-02-03 17:11:30
MSstatsTMT/-2025-02-03 17:12:03
VennDetail/-2025-02-03 17:12:34
CNViz/-2025-02-03 17:11:30
GNET2/-2025-02-03 17:11:47
tigre/-2025-02-03 17:12:31
VDJdive/-2025-02-03 17:12:34
customProDB/-2025-02-03 17:11:33
tidySummarizedExperiment/-2025-02-03 17:12:31
GeomxTools/-2025-02-03 17:11:45
RedisParam/-2025-02-03 17:12:16
ncdfFlow/-2025-02-03 17:12:04
blima/-2025-02-03 17:11:24
escheR/-2025-02-03 17:11:40
qPLEXanalyzer/-2025-02-03 17:12:13
NormalyzerDE/-2025-02-03 17:12:05
fishpond/-2025-02-03 17:11:41
hpar/-2025-02-03 17:11:50
SimFFPE/-2025-02-03 17:12:24
REBET/-2025-02-03 17:12:15
GENESIS/-2025-02-03 17:11:44
AMARETTO/-2025-02-03 17:11:18
ELMER/-2025-02-03 17:11:38
ccmap/-2025-02-03 17:11:26
spaSim/-2025-02-03 17:12:26
rnaseqcomp/-2025-02-03 17:12:18
SparseSignatures/-2025-02-03 17:12:26
sitePath/-2025-02-03 17:12:25
hicVennDiagram/-2025-02-03 17:11:50
transomics2cytoscape/-2025-02-03 17:12:32
missMethyl/-2025-02-03 17:12:01
flowBin/-2025-02-03 17:11:41
SCBN/-2025-02-03 17:12:21
gaga/-2025-02-03 17:11:43
beachmat.hdf5/-2025-02-03 17:11:21
shinyMethyl/-2025-02-03 17:12:24
RepViz/-2025-02-03 17:12:16
RTCGAToolbox/-2025-02-03 17:12:19
BioNERO/-2025-02-03 17:11:24
cBioPortalData/-2025-02-03 17:11:26
nuCpos/-2025-02-03 17:12:06
MAGAR/-2025-02-03 17:11:56
RolDE/-2025-02-03 17:12:18
EGAD/-2025-02-03 17:11:38
qsea/-2025-02-03 17:12:13
MOFA2/-2025-02-03 17:12:01
rRDP/-2025-02-03 17:12:19
Qtlizer/-2025-02-03 17:12:13
DEFormats/-2025-02-03 17:11:34
wavClusteR/-2025-02-03 17:12:35
BioNet/-2025-02-03 17:11:24
flowGraph/-2025-02-03 17:11:42
decontam/-2025-02-03 17:11:34
barcodetrackR/-2025-02-03 17:11:21
scruff/-2025-02-03 17:12:22
brainflowprobes/-2025-02-03 17:11:25
chipseq/-2025-02-03 17:11:28
ACE/-2025-02-03 17:11:17
MSnbase/-2025-02-03 17:12:03
ecolitk/-2025-02-03 17:11:38
BioCartaImage/-2025-02-03 17:11:22
ROntoTools/-2025-02-03 17:12:18
ternarynet/-2025-02-03 17:12:30
MLP/-2025-02-03 17:12:01
SingleCellSignalR/-2025-02-03 17:12:25
flowStats/-2025-02-03 17:11:42
iCARE/-2025-02-03 17:11:51
SeqSQC/-2025-02-03 17:12:23
miaSim/-2025-02-03 17:11:59
IHW/-2025-02-03 17:11:52
MBQN/-2025-02-03 17:11:57
pepStat/-2025-02-03 17:12:09
msqrob2/-2025-02-03 17:12:03
monaLisa/-2025-02-03 17:12:01
MetaboSignal/-2025-02-03 17:11:58
AIMS/-2025-02-03 17:11:18
scBFA/-2025-02-03 17:12:21
GenomicFeatures/-2025-02-03 17:11:45
IWTomics/-2025-02-03 17:11:54
CAEN/-2025-02-03 17:11:25
soGGi/-2025-02-03 17:12:26
lemur/-2025-02-03 17:11:55
findIPs/-2025-02-03 17:11:41
CNAnorm/-2025-02-03 17:11:30
ChemmineR/-2025-02-03 17:11:28
peakPantheR/-2025-02-03 17:12:09
HIPPO/-2025-02-03 17:11:50
ggseqalign/-2025-02-03 17:11:46
pathRender/-2025-02-03 17:12:08
nullranges/-2025-02-03 17:12:06
chromDraw/-2025-02-03 17:11:28
SynExtend/-2025-02-03 17:12:29
xcore/-2025-02-03 17:12:35
specL/-2025-02-03 17:12:27
flowClean/-2025-02-03 17:11:41
esetVis/-2025-02-03 17:11:40
gtrellis/-2025-02-03 17:11:48
dagLogo/-2025-02-03 17:11:33
GateFinder/-2025-02-03 17:11:43
RbcBook1/-2025-02-03 17:12:14
HiCDCPlus/-2025-02-03 17:11:49
GeneTonic/-2025-02-03 17:11:44
lineagespot/-2025-02-03 17:11:55
sechm/-2025-02-03 17:12:23
GNOSIS/-2025-02-03 17:11:47
logicFS/-2025-02-03 17:11:55
VariantTools/-2025-02-03 17:12:34
semisup/-2025-02-03 17:12:23
intansv/-2025-02-03 17:11:52
ORFhunteR/-2025-02-03 17:12:07
chopsticks/-2025-02-03 17:11:28
fCI/-2025-02-03 17:11:40
ssviz/-2025-02-03 17:12:28
MPFE/-2025-02-03 17:12:02
CTdata/-2025-02-03 17:11:32
CCPROMISE/-2025-02-03 17:11:26
spillR/-2025-02-03 17:12:27
BSgenomeForge/-2025-02-03 17:11:25
SCFA/-2025-02-03 17:12:21
DropletUtils/-2025-02-03 17:11:37
philr/-2025-02-03 17:12:09
rTRMui/-2025-02-03 17:12:19
appreci8R/-2025-02-03 17:11:19
sampleClassifier/-2025-02-03 17:12:20
AnnotationForge/-2025-02-03 17:11:19
safe/-2025-02-03 17:12:20
tLOH/-2025-02-03 17:12:31
geneRxCluster/-2025-02-03 17:11:44
seqsetvis/-2025-02-03 17:12:23
alabaster.se/-2025-02-03 17:11:18
ReportingTools/-2025-02-03 17:12:16
MethylAid/-2025-02-03 17:11:59
RiboDiPA/-2025-02-03 17:12:17
ggmanh/-2025-02-03 17:11:46
rBLAST/-2025-02-03 17:12:14
branchpointer/-2025-02-03 17:11:25
calm/-2025-02-03 17:11:26
erma/-2025-02-03 17:11:39
SBMLR/-2025-02-03 17:12:20
SMAD/-2025-02-03 17:12:25
methInheritSim/-2025-02-03 17:11:58
iCOBRA/-2025-02-03 17:11:51
glmSparseNet/-2025-02-03 17:11:46
goSorensen/-2025-02-03 17:11:47
BUSseq/-2025-02-03 17:11:25
COCOA/-2025-02-03 17:11:30
RMassBank/-2025-02-03 17:12:18
XNAString/-2025-02-03 17:12:35
miRspongeR/-2025-02-03 17:12:01
MIRA/-2025-02-03 17:12:00
iNETgrate/-2025-02-03 17:11:52
omicplotR/-2025-02-03 17:12:06
mosdef/-2025-02-03 17:12:02
Omixer/-2025-02-03 17:12:06
AssessORF/-2025-02-03 17:11:20
AllelicImbalance/-2025-02-03 17:11:18
planet/-2025-02-03 17:12:10
AnVILWorkflow/-2025-02-03 17:11:19
RUVSeq/-2025-02-03 17:12:20
BBCAnalyzer/-2025-02-03 17:11:21
qusage/-2025-02-03 17:12:13
NetActivity/-2025-02-03 17:12:05
clipper/-2025-02-03 17:11:29
DSS/-2025-02-03 17:11:37
biotmle/-2025-02-03 17:11:24
nethet/-2025-02-03 17:12:05
GLAD/-2025-02-03 17:11:46
MLInterfaces/-2025-02-03 17:12:01
ZygosityPredictor/-2025-02-03 17:12:36
ASEB/-2025-02-03 17:11:20
LRBaseDbi/-2025-02-03 17:11:55
polyester/-2025-02-03 17:12:11
geneplast/-2025-02-03 17:11:44
enrichViewNet/-2025-02-03 17:11:39
statTarget/-2025-02-03 17:12:28
factDesign/-2025-02-03 17:11:40
GOTHiC/-2025-02-03 17:11:47
MSstatsBig/-2025-02-03 17:12:03
derfinder/-2025-02-03 17:11:35
interacCircos/-2025-02-03 17:11:52
biodbKegg/-2025-02-03 17:11:23
epimutacions/-2025-02-03 17:11:39
TIN/-2025-02-03 17:12:31
bayNorm/-2025-02-03 17:11:21
geneRecommender/-2025-02-03 17:11:44
SpeCond/-2025-02-03 17:12:27
compSPOT/-2025-02-03 17:11:31
gmoviz/-2025-02-03 17:11:47
preciseTAD/-2025-02-03 17:12:11
omicsPrint/-2025-02-03 17:12:06
normalize450K/-2025-02-03 17:12:05
DEP/-2025-02-03 17:11:35
SOMNiBUS/-2025-02-03 17:12:26
tweeDEseq/-2025-02-03 17:12:33
RBioFormats/-2025-02-03 17:12:14
TargetScore/-2025-02-03 17:12:30
GEOquery/-2025-02-03 17:11:45
hapFabia/-2025-02-03 17:11:49
epigenomix/-2025-02-03 17:11:39
flowTime/-2025-02-03 17:11:42
structToolbox/-2025-02-03 17:12:28
QSutils/-2025-02-03 17:12:13
InPAS/-2025-02-03 17:11:52
dir.expiry/-2025-02-03 17:11:36
seqCAT/-2025-02-03 17:12:23
msPurity/-2025-02-03 17:12:03
GEM/-2025-02-03 17:11:43
flagme/-2025-02-03 17:11:41
cn.mops/-2025-02-03 17:11:30
MsBackendSql/-2025-02-03 17:12:02
chimeraviz/-2025-02-03 17:11:28
interactiveDisplayBase/-2025-02-03 17:11:53
srnadiff/-2025-02-03 17:12:28
TFARM/-2025-02-03 17:12:30
HybridExpress/-2025-02-03 17:11:50
Herper/-2025-02-03 17:11:49
UniProt.ws/-2025-02-03 17:12:34
RProtoBufLib/-2025-02-03 17:12:19
Trendy/-2025-02-03 17:12:32
iGC/-2025-02-03 17:11:51
crisprScore/-2025-02-03 17:11:32
regionReport/-2025-02-03 17:12:16
HGC/-2025-02-03 17:11:49
tidyFlowCore/-2025-02-03 17:12:30
SPONGE/-2025-02-03 17:12:27
rprimer/-2025-02-03 17:12:19
EasyCellType/-2025-02-03 17:11:38
GSEABenchmarkeR/-2025-02-03 17:11:48
SwathXtend/-2025-02-03 17:12:29
ginmappeR/-2025-02-03 17:11:46
biodbNcbi/-2025-02-03 17:11:23
gep2pep/-2025-02-03 17:11:46
EDASeq/-2025-02-03 17:11:38
qsmooth/-2025-02-03 17:12:13
IRanges/-2025-02-03 17:11:53
DeMixT/-2025-02-03 17:11:35
ClusterJudge/-2025-02-03 17:11:29
zitools/-2025-02-03 17:12:36
GSEAlm/-2025-02-03 17:11:48
tidySingleCellExperiment/-2025-02-03 17:12:31
ccImpute/-2025-02-03 17:11:26
sRACIPE/-2025-02-03 17:12:27
openPrimeR/-2025-02-03 17:12:07
pathlinkR/-2025-02-03 17:12:08
KEGGlincs/-2025-02-03 17:11:54
cancerclass/-2025-02-03 17:11:26
GSEABase/-2025-02-03 17:11:48
zlibbioc/-2025-02-03 17:12:36
PhIPData/-2025-02-03 17:12:09
cellbaseR/-2025-02-03 17:11:27
epivizrServer/-2025-02-03 17:11:39
VegaMC/-2025-02-03 17:12:34
hyperdraw/-2025-02-03 17:11:51
VisiumIO/-2025-02-03 17:12:34
methylMnM/-2025-02-03 17:11:59
ptairMS/-2025-02-03 17:12:12
flowMeans/-2025-02-03 17:11:42
metapone/-2025-02-03 17:11:58
GeneticsPed/-2025-02-03 17:11:44
MBASED/-2025-02-03 17:11:57
motifcounter/-2025-02-03 17:12:02
Macarron/-2025-02-03 17:11:56
apeglm/-2025-02-03 17:11:19
DELocal/-2025-02-03 17:11:35
MEAL/-2025-02-03 17:11:57
ldblock/-2025-02-03 17:11:54
ChIPseeker/-2025-02-03 17:11:28
CAMERA/-2025-02-03 17:11:26
biodbHmdb/-2025-02-03 17:11:23
consensusDE/-2025-02-03 17:11:31
countsimQC/-2025-02-03 17:11:32
proteinProfiles/-2025-02-03 17:12:12
EBSeq/-2025-02-03 17:11:38
divergence/-2025-02-03 17:11:36
hipathia/-2025-02-03 17:11:50
plgem/-2025-02-03 17:12:10
methylGSA/-2025-02-03 17:11:59
corral/-2025-02-03 17:11:31
ComPrAn/-2025-02-03 17:11:31
h5vc/-2025-02-03 17:11:49
TreeAndLeaf/-2025-02-03 17:12:32
SemDist/-2025-02-03 17:12:23
methylclock/-2025-02-03 17:11:59
vbmp/-2025-02-03 17:12:34
zellkonverter/-2025-02-03 17:12:36
bumphunter/-2025-02-03 17:11:25
deltaCaptureC/-2025-02-03 17:11:35
Clomial/-2025-02-03 17:11:29
sigsquared/-2025-02-03 17:12:24
methylKit/-2025-02-03 17:11:59
RCM/-2025-02-03 17:12:15
GeoTcgaData/-2025-02-03 17:11:45
ReactomePA/-2025-02-03 17:12:15
ModCon/-2025-02-03 17:12:01
sSNAPPY/-2025-02-03 17:12:28
GenomicSuperSignature/-2025-02-03 17:11:45
ASpli/-2025-02-03 17:11:20
SARC/-2025-02-03 17:12:20
synlet/-2025-02-03 17:12:29
phantasusLite/-2025-02-03 17:12:09
GrafGen/-2025-02-03 17:11:47
BLMA/-2025-02-03 17:11:24
InterCellar/-2025-02-03 17:11:53
hierinf/-2025-02-03 17:11:50
ARRmNormalization/-2025-02-03 17:11:20
BrowserViz/-2025-02-03 17:11:25
cbaf/-2025-02-03 17:11:26
pRolocGUI/-2025-02-03 17:12:11
BUMHMM/-2025-02-03 17:11:25
PharmacoGx/-2025-02-03 17:12:09
saseR/-2025-02-03 17:12:20
Maaslin2/-2025-02-03 17:11:56
borealis/-2025-02-03 17:11:24
ssize/-2025-02-03 17:12:28
RGSEA/-2025-02-03 17:12:17
DAPAR/-2025-02-03 17:11:34
AnVIL/-2025-02-03 17:11:19
HiCcompare/-2025-02-03 17:11:49
CytoML/-2025-02-03 17:11:33
GenomicOZone/-2025-02-03 17:11:45
BiocBaseUtils/-2025-02-03 17:11:22
VCFArray/-2025-02-03 17:12:34
single/-2025-02-03 17:12:25
sarks/-2025-02-03 17:12:20
Biostrings/-2025-02-03 17:11:24
methylCC/-2025-02-03 17:11:59
LRcell/-2025-02-03 17:11:55
IFAA/-2025-02-03 17:11:51
pwalign/-2025-02-03 17:12:12
vtpnet/-2025-02-03 17:12:35
coMethDMR/-2025-02-03 17:11:31
ctc/-2025-02-03 17:11:32
ENmix/-2025-02-03 17:11:38
LedPred/-2025-02-03 17:11:54
pram/-2025-02-03 17:12:11
affyPLM/-2025-02-03 17:11:17
timescape/-2025-02-03 17:12:31
cnvGSA/-2025-02-03 17:11:30
cytolib/-2025-02-03 17:11:33
SIAMCAT/-2025-02-03 17:12:24
MMDiff2/-2025-02-03 17:12:01
methylscaper/-2025-02-03 17:11:59
oncomix/-2025-02-03 17:12:07
ExperimentSubset/-2025-02-03 17:11:40
CRISPRseek/-2025-02-03 17:11:32
S4Arrays/-2025-02-03 17:12:20
ProtGenerics/-2025-02-03 17:12:12
TrajectoryUtils/-2025-02-03 17:12:32
stageR/-2025-02-03 17:12:28
LACE/-2025-02-03 17:11:54
AnnotationFilter/-2025-02-03 17:11:19
sizepower/-2025-02-03 17:12:25
ddPCRclust/-2025-02-03 17:11:34
MsBackendMgf/-2025-02-03 17:12:02
CNORfeeder/-2025-02-03 17:11:30
gCrisprTools/-2025-02-03 17:11:43
erccdashboard/-2025-02-03 17:11:39
standR/-2025-02-03 17:12:28
splineTimeR/-2025-02-03 17:12:27
batchelor/-2025-02-03 17:11:21
doseR/-2025-02-03 17:11:37
rnaEditr/-2025-02-03 17:12:18
RNAmodR.AlkAnilineSeq/-2025-02-03 17:12:18
pageRank/-2025-02-03 17:12:08
segmenter/-2025-02-03 17:12:23
RSVSim/-2025-02-03 17:12:19
immunotation/-2025-02-03 17:11:52
canceR/-2025-02-03 17:11:26
gemini/-2025-02-03 17:11:43
fmcsR/-2025-02-03 17:11:42
MSstatsShiny/-2025-02-03 17:12:03
cellscape/-2025-02-03 17:11:27
quantiseqr/-2025-02-03 17:12:13
POWSC/-2025-02-03 17:12:11
densvis/-2025-02-03 17:11:35
simplifyEnrichment/-2025-02-03 17:12:25
txcutr/-2025-02-03 17:12:33
GenomicRanges/-2025-02-03 17:11:45
RTCGA/-2025-02-03 17:12:19
ggtreeSpace/-2025-02-03 17:11:46
QuartPAC/-2025-02-03 17:12:13
ggtreeExtra/-2025-02-03 17:11:46
seqArchRplus/-2025-02-03 17:12:23
nipalsMCIA/-2025-02-03 17:12:05
proBAMr/-2025-02-03 17:12:11
msImpute/-2025-02-03 17:12:03
CFAssay/-2025-02-03 17:11:27
cleaver/-2025-02-03 17:11:29
BiocSingular/-2025-02-03 17:11:23
Heatplus/-2025-02-03 17:11:49
hermes/-2025-02-03 17:11:49
RNAmodR.RiboMethSeq/-2025-02-03 17:12:18
Damsel/-2025-02-03 17:11:34
cellxgenedp/-2025-02-03 17:11:27
RITAN/-2025-02-03 17:12:17
LPE/-2025-02-03 17:11:55
zenith/-2025-02-03 17:12:36
StructuralVariantAnnotation/-2025-02-03 17:12:28
treeclimbR/-2025-02-03 17:12:32
cellity/-2025-02-03 17:11:27
ExploreModelMatrix/-2025-02-03 17:11:40
miRcomp/-2025-02-03 17:12:00
ExperimentHub/-2025-02-03 17:11:40
LiquidAssociation/-2025-02-03 17:11:55
EpiCompare/-2025-02-03 17:11:39
ADAM/-2025-02-03 17:11:17
SpliceWiz/-2025-02-03 17:12:27
TPP2D/-2025-02-03 17:12:32
CellBarcode/-2025-02-03 17:11:27
fCCAC/-2025-02-03 17:11:40
CellNOptR/-2025-02-03 17:11:27
cliProfiler/-2025-02-03 17:11:29
switchBox/-2025-02-03 17:12:29
GWASTools/-2025-02-03 17:11:49
epivizr/-2025-02-03 17:11:39
tidyCoverage/-2025-02-03 17:12:30
comapr/-2025-02-03 17:11:30
TOP/-2025-02-03 17:12:31
DEqMS/-2025-02-03 17:11:35
GreyListChIP/-2025-02-03 17:11:48
CytoPipeline/-2025-02-03 17:11:33
GSCA/-2025-02-03 17:11:48
nearBynding/-2025-02-03 17:12:05
multiWGCNA/-2025-02-03 17:12:04
BSgenome/-2025-02-03 17:11:25
faers/-2025-02-03 17:11:40
cola/-2025-02-03 17:11:30
metaMS/-2025-02-03 17:11:58
MethylMix/-2025-02-03 17:11:59
txdbmaker/-2025-02-03 17:12:33
AHMassBank/-2025-02-03 17:11:18
CaDrA/-2025-02-03 17:11:25
clusterProfiler/-2025-02-03 17:11:29
DelayedDataFrame/-2025-02-03 17:11:35
matchBox/-2025-02-03 17:11:57
Rdisop/-2025-02-03 17:12:15
HDTD/-2025-02-03 17:11:49
SAIGEgds/-2025-02-03 17:12:20
GEWIST/-2025-02-03 17:11:46
receptLoss/-2025-02-03 17:12:15
maSigPro/-2025-02-03 17:11:56
convert/-2025-02-03 17:11:31
epivizrStandalone/-2025-02-03 17:11:39
mitch/-2025-02-03 17:12:01
metabolomicsWorkbenchR/-2025-02-03 17:11:58
sSeq/-2025-02-03 17:12:28
biosigner/-2025-02-03 17:11:24
CGHnormaliter/-2025-02-03 17:11:27
KBoost/-2025-02-03 17:11:54
PrInCE/-2025-02-03 17:12:11
TPP/-2025-02-03 17:12:32
EnhancedVolcano/-2025-02-03 17:11:38
riboSeqR/-2025-02-03 17:12:17
genomation/-2025-02-03 17:11:44
uSORT/-2025-02-03 17:12:34
DiffLogo/-2025-02-03 17:11:36
ORFik/-2025-02-03 17:12:07
omicsViewer/-2025-02-03 17:12:06
HTSFilter/-2025-02-03 17:11:50
CMA/-2025-02-03 17:11:29
enhancerHomologSearch/-2025-02-03 17:11:38
clippda/-2025-02-03 17:11:29
PathNet/-2025-02-03 17:12:08
survClust/-2025-02-03 17:12:29
MICSQTL/-2025-02-03 17:12:00
eiR/-2025-02-03 17:11:38
SVMDO/-2025-02-03 17:12:29
MSPrep/-2025-02-03 17:12:03
SNPRelate/-2025-02-03 17:12:26
rexposome/-2025-02-03 17:12:16
amplican/-2025-02-03 17:11:19
vsn/-2025-02-03 17:12:35
RiboCrypt/-2025-02-03 17:12:17
ribor/-2025-02-03 17:12:17
apComplex/-2025-02-03 17:11:19
DifferentialRegulation/-2025-02-03 17:11:36
SQLDataFrame/-2025-02-03 17:12:27
PANR/-2025-02-03 17:12:08
multicrispr/-2025-02-03 17:12:03
webbioc/-2025-02-03 17:12:35
compcodeR/-2025-02-03 17:11:31
flowGate/-2025-02-03 17:11:42
SUITOR/-2025-02-03 17:12:28
epiNEM/-2025-02-03 17:11:39
widgetTools/-2025-02-03 17:12:35
FitHiC/-2025-02-03 17:11:41
scry/-2025-02-03 17:12:22
HELP/-2025-02-03 17:11:49
AGDEX/-2025-02-03 17:11:18
Spaniel/-2025-02-03 17:12:26
MsBackendMsp/-2025-02-03 17:12:02
gage/-2025-02-03 17:11:43
SingleMoleculeFootprinting/-2025-02-03 17:12:25
PWMEnrich/-2025-02-03 17:12:12
epigraHMM/-2025-02-03 17:11:39
GEOfastq/-2025-02-03 17:11:45
DIAlignR/-2025-02-03 17:11:36
ndexr/-2025-02-03 17:12:05
seq2pathway/-2025-02-03 17:12:23
sevenbridges/-2025-02-03 17:12:24
ASGSCA/-2025-02-03 17:11:20
ggtreeDendro/-2025-02-03 17:11:46
Gviz/-2025-02-03 17:11:48
flowMerge/-2025-02-03 17:11:42
airpart/-2025-02-03 17:11:18
goSTAG/-2025-02-03 17:11:47
mitoClone2/-2025-02-03 17:12:01
lute/-2025-02-03 17:11:55
csaw/-2025-02-03 17:11:32
idpr/-2025-02-03 17:11:51
reconsi/-2025-02-03 17:12:16
baySeq/-2025-02-03 17:11:21
R453Plus1Toolbox/-2025-02-03 17:12:13
arrayQuality/-2025-02-03 17:11:20
cycle/-2025-02-03 17:11:33
cypress/-2025-02-03 17:11:33
systemPipeR/-2025-02-03 17:12:29
spikeLI/-2025-02-03 17:12:27
signatureSearch/-2025-02-03 17:12:24
GeneRegionScan/-2025-02-03 17:11:44
BCRANK/-2025-02-03 17:11:21
BiocParallel/-2025-02-03 17:11:23
clevRvis/-2025-02-03 17:11:29
FEAST/-2025-02-03 17:11:41
distinct/-2025-02-03 17:11:36
Path2PPI/-2025-02-03 17:12:08
diffHic/-2025-02-03 17:11:36
debrowser/-2025-02-03 17:11:34
fedup/-2025-02-03 17:11:41
SomaticSignatures/-2025-02-03 17:12:26
NTW/-2025-02-03 17:12:06
profileplyr/-2025-02-03 17:12:11
ViSEAGO/-2025-02-03 17:12:34
GSReg/-2025-02-03 17:11:48
metagenomeSeq/-2025-02-03 17:11:58
RNAsense/-2025-02-03 17:12:18
MBttest/-2025-02-03 17:11:57
planttfhunter/-2025-02-03 17:12:10
MSstatsLiP/-2025-02-03 17:12:03
synapter/-2025-02-03 17:12:29
ctsGE/-2025-02-03 17:11:33
cytofQC/-2025-02-03 17:11:33
metaCCA/-2025-02-03 17:11:58
lionessR/-2025-02-03 17:11:55
EpiMix/-2025-02-03 17:11:39
MSA2dist/-2025-02-03 17:12:02
impute/-2025-02-03 17:11:52
CAFE/-2025-02-03 17:11:25
optimalFlow/-2025-02-03 17:12:07
MBECS/-2025-02-03 17:11:57
AnVILPublish/-2025-02-03 17:11:19
RBGL/-2025-02-03 17:12:14
spatzie/-2025-02-03 17:12:26
Spectra/-2025-02-03 17:12:27
artMS/-2025-02-03 17:11:20
condiments/-2025-02-03 17:11:31
projectR/-2025-02-03 17:12:11
BaseSpaceR/-2025-02-03 17:11:21
metapod/-2025-02-03 17:11:58
scone/-2025-02-03 17:12:22
PAIRADISE/-2025-02-03 17:12:08
plasmut/-2025-02-03 17:12:10
omicade4/-2025-02-03 17:12:06
RCy3/-2025-02-03 17:12:15
wppi/-2025-02-03 17:12:35
svaRetro/-2025-02-03 17:12:29
netSmooth/-2025-02-03 17:12:05
HiCBricks/-2025-02-03 17:11:49
SiPSiC/-2025-02-03 17:12:25
BubbleTree/-2025-02-03 17:11:25
OrganismDbi/-2025-02-03 17:12:07
flowMatch/-2025-02-03 17:11:42
msa/-2025-02-03 17:12:02
diffcoexp/-2025-02-03 17:11:36
aroma.light/-2025-02-03 17:11:19
heatmaps/-2025-02-03 17:11:49
progeny/-2025-02-03 17:12:11
tanggle/-2025-02-03 17:12:30
SubCellBarCode/-2025-02-03 17:12:28
CNVMetrics/-2025-02-03 17:11:30
XVector/-2025-02-03 17:12:35
CiteFuse/-2025-02-03 17:11:29
Wrench/-2025-02-03 17:12:35
iSEEfier/-2025-02-03 17:11:53
MassArray/-2025-02-03 17:11:56
illuminaio/-2025-02-03 17:11:52
tidybulk/-2025-02-03 17:12:30
awst/-2025-02-03 17:11:20
DOSE/-2025-02-03 17:11:37
dcanr/-2025-02-03 17:11:34
MiPP/-2025-02-03 17:12:00
Rsubread/-2025-02-03 17:12:19
ChromHeatMap/-2025-02-03 17:11:28
mygene/-2025-02-03 17:12:04
RTNduals/-2025-02-03 17:12:19
scanMiRApp/-2025-02-03 17:12:20
cmapR/-2025-02-03 17:11:30
CTexploreR/-2025-02-03 17:11:33
brendaDb/-2025-02-03 17:11:25
UPDhmm/-2025-02-03 17:12:34
OncoScore/-2025-02-03 17:12:07
CeTF/-2025-02-03 17:11:27
hiAnnotator/-2025-02-03 17:11:49
CTDquerier/-2025-02-03 17:11:33
consensusSeekeR/-2025-02-03 17:11:31
ROSeq/-2025-02-03 17:12:18
GenomicDistributions/-2025-02-03 17:11:45
ClustIRR/-2025-02-03 17:11:29
alabaster.mae/-2025-02-03 17:11:18
Cardinal/-2025-02-03 17:11:26
ChIPpeakAnno/-2025-02-03 17:11:28
Rmmquant/-2025-02-03 17:12:18
recount3/-2025-02-03 17:12:16
quantsmooth/-2025-02-03 17:12:13
moanin/-2025-02-03 17:12:01
flowcatchR/-2025-02-03 17:11:41
HybridMTest/-2025-02-03 17:11:50
deepSNV/-2025-02-03 17:11:34
DelayedRandomArray/-2025-02-03 17:11:35
scCB2/-2025-02-03 17:12:21
Doscheda/-2025-02-03 17:11:37
pairedGSEA/-2025-02-03 17:12:08
rBiopaxParser/-2025-02-03 17:12:14
MAPFX/-2025-02-03 17:11:56
iPAC/-2025-02-03 17:11:53
scatterHatch/-2025-02-03 17:12:21
sscu/-2025-02-03 17:12:28
metabomxtr/-2025-02-03 17:11:58
POMA/-2025-02-03 17:12:11
zFPKM/-2025-02-03 17:12:36
ShortRead/-2025-02-03 17:12:24
BiFET/-2025-02-03 17:11:22
MetCirc/-2025-02-03 17:11:58
BEAT/-2025-02-03 17:11:22
DEGseq/-2025-02-03 17:11:35
normr/-2025-02-03 17:12:06
ngsReports/-2025-02-03 17:12:05
fastreeR/-2025-02-03 17:11:40
SplicingFactory/-2025-02-03 17:12:27
parglms/-2025-02-03 17:12:08
CBNplot/-2025-02-03 17:11:26
oppar/-2025-02-03 17:12:07
spqn/-2025-02-03 17:12:27
splatter/-2025-02-03 17:12:27
PAST/-2025-02-03 17:12:08
RCASPAR/-2025-02-03 17:12:15
PROcess/-2025-02-03 17:12:11
ATACseqQC/-2025-02-03 17:11:20
LymphoSeq/-2025-02-03 17:11:55
multistateQTL/-2025-02-03 17:12:04
IgGeneUsage/-2025-02-03 17:11:51
doppelgangR/-2025-02-03 17:11:37
AWFisher/-2025-02-03 17:11:20
regionalpcs/-2025-02-03 17:12:16
crisprShiny/-2025-02-03 17:11:32
FeatSeekR/-2025-02-03 17:11:41
RTNsurvival/-2025-02-03 17:12:19
escape/-2025-02-03 17:11:39
CompoundDb/-2025-02-03 17:11:31
CardinalIO/-2025-02-03 17:11:26
CNTools/-2025-02-03 17:11:30
BridgeDbR/-2025-02-03 17:11:25
ClassifyR/-2025-02-03 17:11:29
mslp/-2025-02-03 17:12:03
VanillaICE/-2025-02-03 17:12:34
INTACT/-2025-02-03 17:11:52
attract/-2025-02-03 17:11:20
destiny/-2025-02-03 17:11:35
VaSP/-2025-02-03 17:12:34
scFeatureFilter/-2025-02-03 17:12:21
CyTOFpower/-2025-02-03 17:11:33
kissDE/-2025-02-03 17:11:54
BG2/-2025-02-03 17:11:22
SCAN.UPC/-2025-02-03 17:12:20
pcaExplorer/-2025-02-03 17:12:08
IsoBayes/-2025-02-03 17:11:53
pgca/-2025-02-03 17:12:09
OutSplice/-2025-02-03 17:12:07
dittoSeq/-2025-02-03 17:11:36
MassSpecWavelet/-2025-02-03 17:11:57
pRoloc/-2025-02-03 17:12:11
ISoLDE/-2025-02-03 17:11:53
recount/-2025-02-03 17:12:16
FGNet/-2025-02-03 17:11:41
CellMixS/-2025-02-03 17:11:27
Pviz/-2025-02-03 17:12:12
MDTS/-2025-02-03 17:11:57
uncoverappLib/-2025-02-03 17:12:33
BRAIN/-2025-02-03 17:11:25
plyranges/-2025-02-03 17:12:10
alabaster.string/-2025-02-03 17:11:18
bsseq/-2025-02-03 17:11:25
massiR/-2025-02-03 17:11:57
peco/-2025-02-03 17:12:09
geneAttribution/-2025-02-03 17:11:44
RiboProfiling/-2025-02-03 17:12:17
BiocHubsShiny/-2025-02-03 17:11:23
icetea/-2025-02-03 17:11:51
Glimma/-2025-02-03 17:11:46
splots/-2025-02-03 17:12:27
methrix/-2025-02-03 17:11:59
timeOmics/-2025-02-03 17:12:31
LinkHD/-2025-02-03 17:11:55
OmicCircos/-2025-02-03 17:12:06
PCAtools/-2025-02-03 17:12:09
iSEE/-2025-02-03 17:11:53
snm/-2025-02-03 17:12:26
BadRegionFinder/-2025-02-03 17:11:21
flowCyBar/-2025-02-03 17:11:42
iSEEde/-2025-02-03 17:11:53
cbpManager/-2025-02-03 17:11:26
tidyomics/-2025-02-03 17:12:31
methyLImp2/-2025-02-03 17:11:59
SpacePAC/-2025-02-03 17:12:26
ChIPComp/-2025-02-03 17:11:28
keggorthology/-2025-02-03 17:11:54
alabaster.vcf/-2025-02-03 17:11:18
biomformat/-2025-02-03 17:11:24
iterativeBMA/-2025-02-03 17:11:54
RESOLVE/-2025-02-03 17:12:16
combi/-2025-02-03 17:11:30
smartid/-2025-02-03 17:12:25
CSSQ/-2025-02-03 17:11:32
ResidualMatrix/-2025-02-03 17:12:16
CellMapper/-2025-02-03 17:11:27
iCNV/-2025-02-03 17:11:51
marr/-2025-02-03 17:11:56
partCNV/-2025-02-03 17:12:08
GRaNIE/-2025-02-03 17:11:47
VariantFiltering/-2025-02-03 17:12:34
AffiXcan/-2025-02-03 17:11:17
procoil/-2025-02-03 17:12:11
arrayQualityMetrics/-2025-02-03 17:11:20
ITALICS/-2025-02-03 17:11:54
BEARscc/-2025-02-03 17:11:22
clustComp/-2025-02-03 17:11:29
ramr/-2025-02-03 17:12:13
ASSET/-2025-02-03 17:11:20
customCMPdb/-2025-02-03 17:11:33
scShapes/-2025-02-03 17:12:22
SpotClean/-2025-02-03 17:12:27
annotatr/-2025-02-03 17:11:19
MSstatsPTM/-2025-02-03 17:12:03
IsoCorrectoRGUI/-2025-02-03 17:11:53
goProfiles/-2025-02-03 17:11:47
gscreend/-2025-02-03 17:11:48
coMET/-2025-02-03 17:11:30
PING/-2025-02-03 17:12:10
pmp/-2025-02-03 17:12:10
ERSSA/-2025-02-03 17:11:39
GenomicScores/-2025-02-03 17:11:45
DTA/-2025-02-03 17:11:37
SCArray.sat/-2025-02-03 17:12:21
MEDME/-2025-02-03 17:11:57
tomoda/-2025-02-03 17:12:31
muscat/-2025-02-03 17:12:04
STRINGdb/-2025-02-03 17:12:28
MetID/-2025-02-03 17:11:59
fdrame/-2025-02-03 17:11:40
SpatialCPie/-2025-02-03 17:12:26
dks/-2025-02-03 17:11:36
qcmetrics/-2025-02-03 17:12:12
satuRn/-2025-02-03 17:12:20
geneClassifiers/-2025-02-03 17:11:44
BiocSklearn/-2025-02-03 17:11:23
survtype/-2025-02-03 17:12:29
RLMM/-2025-02-03 17:12:17
RCAS/-2025-02-03 17:12:15
qvalue/-2025-02-03 17:12:13
tilingArray/-2025-02-03 17:12:31
Prostar/-2025-02-03 17:12:12
RDRToolbox/-2025-02-03 17:12:15
discordant/-2025-02-03 17:11:36
iChip/-2025-02-03 17:11:51
phosphonormalizer/-2025-02-03 17:12:10
zinbwave/-2025-02-03 17:12:36
InTAD/-2025-02-03 17:11:52
screenCounter/-2025-02-03 17:12:22
categoryCompare/-2025-02-03 17:11:26
flowPlots/-2025-02-03 17:11:42
EBSEA/-2025-02-03 17:11:38
Mergeomics/-2025-02-03 17:11:58
PeacoQC/-2025-02-03 17:12:09
EDIRquery/-2025-02-03 17:11:38
epivizrData/-2025-02-03 17:11:39
scran/-2025-02-03 17:12:22
biodbUniprot/-2025-02-03 17:11:24
MetNet/-2025-02-03 17:11:59
systemPipeTools/-2025-02-03 17:12:29
ggcyto/-2025-02-03 17:11:46
MVCClass/-2025-02-03 17:12:04
scater/-2025-02-03 17:12:21
ensembldb/-2025-02-03 17:11:39
DExMA/-2025-02-03 17:11:35
doubletrouble/-2025-02-03 17:11:37
EnrichmentBrowser/-2025-02-03 17:11:39
traseR/-2025-02-03 17:12:32
odseq/-2025-02-03 17:12:06
S4Vectors/-2025-02-03 17:12:20
gINTomics/-2025-02-03 17:11:46
GA4GHclient/-2025-02-03 17:11:43
biscuiteer/-2025-02-03 17:11:24
mixOmics/-2025-02-03 17:12:01
SWATH2stats/-2025-02-03 17:12:29
seqcombo/-2025-02-03 17:12:23
lumi/-2025-02-03 17:11:55
hca/-2025-02-03 17:11:49
qsvaR/-2025-02-03 17:12:13
CrispRVariants/-2025-02-03 17:11:32
orthogene/-2025-02-03 17:12:07
gdsfmt/-2025-02-03 17:11:43
AUCell/-2025-02-03 17:11:20
NormqPCR/-2025-02-03 17:12:05
bugsigdbr/-2025-02-03 17:11:25
scRNAseqApp/-2025-02-03 17:12:22
clustifyr/-2025-02-03 17:11:29
ssPATHS/-2025-02-03 17:12:28
debCAM/-2025-02-03 17:11:34
CNORfuzzy/-2025-02-03 17:11:30
biovizBase/-2025-02-03 17:11:24
BiocGenerics/-2025-02-03 17:11:22
geNetClassifier/-2025-02-03 17:11:44
TEKRABber/-2025-02-03 17:12:30
cummeRbund/-2025-02-03 17:11:33
msmsEDA/-2025-02-03 17:12:03
MPRAnalyze/-2025-02-03 17:12:02
cfdnakit/-2025-02-03 17:11:27
metabCombiner/-2025-02-03 17:11:58
multiClust/-2025-02-03 17:12:03
TDbasedUFE/-2025-02-03 17:12:30
rols/-2025-02-03 17:12:18
CIMICE/-2025-02-03 17:11:28
GOfuncR/-2025-02-03 17:11:47
iSEEindex/-2025-02-03 17:11:53
mdqc/-2025-02-03 17:11:57
biocViews/-2025-02-03 17:11:23
FuseSOM/-2025-02-03 17:11:43
rqubic/-2025-02-03 17:12:19
scmap/-2025-02-03 17:12:21
CoGAPS/-2025-02-03 17:11:30
DiffBind/-2025-02-03 17:11:36
dar/-2025-02-03 17:11:34
derfinderPlot/-2025-02-03 17:11:35
acde/-2025-02-03 17:11:17
pvca/-2025-02-03 17:12:12
PhosR/-2025-02-03 17:12:10
QFeatures/-2025-02-03 17:12:12
DCATS/-2025-02-03 17:11:34
RJMCMCNucleosomes/-2025-02-03 17:12:17
VarCon/-2025-02-03 17:12:34
VERSO/-2025-02-03 17:12:34
easylift/-2025-02-03 17:11:38
raer/-2025-02-03 17:12:13
qpgraph/-2025-02-03 17:12:12
iClusterPlus/-2025-02-03 17:11:51
ASSIGN/-2025-02-03 17:11:20
microbiomeMarker/-2025-02-03 17:12:00
flowPeaks/-2025-02-03 17:11:42
GeneNetworkBuilder/-2025-02-03 17:11:44
struct/-2025-02-03 17:12:28
Rnits/-2025-02-03 17:12:18
m6Aboost/-2025-02-03 17:11:56
levi/-2025-02-03 17:11:55
snifter/-2025-02-03 17:12:26
AlphaBeta/-2025-02-03 17:11:18
IntramiRExploreR/-2025-02-03 17:11:53
mgsa/-2025-02-03 17:11:59
CuratedAtlasQueryR/-2025-02-03 17:11:33
fmrs/-2025-02-03 17:11:42
PSMatch/-2025-02-03 17:12:12
wateRmelon/-2025-02-03 17:12:35
MultiRNAflow/-2025-02-03 17:12:04
loci2path/-2025-02-03 17:11:55
mastR/-2025-02-03 17:11:57
deltaGseg/-2025-02-03 17:11:35
mosaics/-2025-02-03 17:12:02
yamss/-2025-02-03 17:12:36
PanomiR/-2025-02-03 17:12:08
MAI/-2025-02-03 17:11:56
idiogram/-2025-02-03 17:11:51
TCseq/-2025-02-03 17:12:30
flowCut/-2025-02-03 17:11:41
OUTRIDER/-2025-02-03 17:12:07
spkTools/-2025-02-03 17:12:27
transite/-2025-02-03 17:12:32
Harman/-2025-02-03 17:11:49
Organism.dplyr/-2025-02-03 17:12:07
sparsenetgls/-2025-02-03 17:12:26
microRNA/-2025-02-03 17:12:00
goTools/-2025-02-03 17:11:47
FRASER/-2025-02-03 17:11:42
agilp/-2025-02-03 17:11:18
Rmagpie/-2025-02-03 17:12:18
EnMCB/-2025-02-03 17:11:38
deconvR/-2025-02-03 17:11:34
TMixClust/-2025-02-03 17:12:31
eds/-2025-02-03 17:11:38
genArise/-2025-02-03 17:11:44
timecourse/-2025-02-03 17:12:31
SPIA/-2025-02-03 17:12:27
gDRstyle/-2025-02-03 17:11:43
tximeta/-2025-02-03 17:12:33
Mulcom/-2025-02-03 17:12:03
shinyepico/-2025-02-03 17:12:24
NADfinder/-2025-02-03 17:12:04
FilterFFPE/-2025-02-03 17:11:41
updateObject/-2025-02-03 17:12:34
les/-2025-02-03 17:11:55
traviz/-2025-02-03 17:12:32
epistack/-2025-02-03 17:11:39
UCSC.utils/-2025-02-03 17:12:33
trigger/-2025-02-03 17:12:33
metagene2/-2025-02-03 17:11:58
Structstrings/-2025-02-03 17:12:28
gg4way/-2025-02-03 17:11:46
CCPlotR/-2025-02-03 17:11:26
IONiseR/-2025-02-03 17:11:53
CAGEfightR/-2025-02-03 17:11:25
surfaltr/-2025-02-03 17:12:29
RAREsim/-2025-02-03 17:12:14
nucleoSim/-2025-02-03 17:12:06
BaalChIP/-2025-02-03 17:11:20
UCell/-2025-02-03 17:12:33
seq.hotSPOT/-2025-02-03 17:12:23
ADImpute/-2025-02-03 17:11:17
PhenoGeneRanker/-2025-02-03 17:12:09
GOexpress/-2025-02-03 17:11:47
tximport/-2025-02-03 17:12:33
MWASTools/-2025-02-03 17:12:04
COSNet/-2025-02-03 17:11:32
transcriptogramer/-2025-02-03 17:12:32
subSeq/-2025-02-03 17:12:28
XDE/-2025-02-03 17:12:35
rbsurv/-2025-02-03 17:12:15
HiCDOC/-2025-02-03 17:11:49
maPredictDSC/-2025-02-03 17:11:56
GIGSEA/-2025-02-03 17:11:46
BASiCS/-2025-02-03 17:11:21
SCArray/-2025-02-03 17:12:21
rScudo/-2025-02-03 17:12:19
tRanslatome/-2025-02-03 17:12:32
DeconRNASeq/-2025-02-03 17:11:34
OGRE/-2025-02-03 17:12:06
MPAC/-2025-02-03 17:12:02
miQC/-2025-02-03 17:12:00
LEA/-2025-02-03 17:11:54
miRNAmeConverter/-2025-02-03 17:12:00
FindIT2/-2025-02-03 17:11:41
rmelting/-2025-02-03 17:12:18
cardelino/-2025-02-03 17:11:26
CytoPipelineGUI/-2025-02-03 17:11:33
limpca/-2025-02-03 17:11:55
HPiP/-2025-02-03 17:11:50
LoomExperiment/-2025-02-03 17:11:55
mobileRNA/-2025-02-03 17:12:01
CRISPRball/-2025-02-03 17:11:32
MantelCorr/-2025-02-03 17:11:56
GEOsubmission/-2025-02-03 17:11:45
CRImage/-2025-02-03 17:11:32
MicrobiotaProcess/-2025-02-03 17:12:00
eisaR/-2025-02-03 17:11:38
simPIC/-2025-02-03 17:12:25
BiocStyle/-2025-02-03 17:11:23
extraChIPs/-2025-02-03 17:11:40
made4/-2025-02-03 17:11:56
SEtools/-2025-02-03 17:12:24
gemma.R/-2025-02-03 17:11:44
HiCExperiment/-2025-02-03 17:11:50
sparrow/-2025-02-03 17:12:26
BufferedMatrix/-2025-02-03 17:11:25
CBEA/-2025-02-03 17:11:26
bioCancer/-2025-02-03 17:11:22
cghMCR/-2025-02-03 17:11:27
GGPA/-2025-02-03 17:11:46
BufferedMatrixMethods/-2025-02-03 17:11:25
rrvgo/-2025-02-03 17:12:19
packFinder/-2025-02-03 17:12:07
decoupleR/-2025-02-03 17:11:34
EpiDISH/-2025-02-03 17:11:39
MethTargetedNGS/-2025-02-03 17:11:59
CoreGx/-2025-02-03 17:11:31
DaMiRseq/-2025-02-03 17:11:34
tRNAscanImport/-2025-02-03 17:12:33
rcellminer/-2025-02-03 17:12:15
recoup/-2025-02-03 17:12:16
chihaya/-2025-02-03 17:11:28
OmnipathR/-2025-02-03 17:12:06
CausalR/-2025-02-03 17:11:26
genomeIntervals/-2025-02-03 17:11:45
GWENA/-2025-02-03 17:11:49
tripr/-2025-02-03 17:12:33
TOAST/-2025-02-03 17:12:31
bigmelon/-2025-02-03 17:11:22
NanoStringDiff/-2025-02-03 17:12:04
tricycle/-2025-02-03 17:12:32
proDA/-2025-02-03 17:12:11
SeqVarTools/-2025-02-03 17:12:23
DEsingle/-2025-02-03 17:11:35
Melissa/-2025-02-03 17:11:58
BayesSpace/-2025-02-03 17:11:21
ROTS/-2025-02-03 17:12:18
scuttle/-2025-02-03 17:12:23
ISAnalytics/-2025-02-03 17:11:53
veloviz/-2025-02-03 17:12:34
covRNA/-2025-02-03 17:11:32
GenomAutomorphism/-2025-02-03 17:11:45
ibh/-2025-02-03 17:11:51
sangerseqR/-2025-02-03 17:12:20
MouseFM/-2025-02-03 17:12:02
OSAT/-2025-02-03 17:12:07
pipeComp/-2025-02-03 17:12:10
microbiomeDASim/-2025-02-03 17:12:00
Rtreemix/-2025-02-03 17:12:19
derfinderHelper/-2025-02-03 17:11:35
scRecover/-2025-02-03 17:12:22
GloScope/-2025-02-03 17:11:47
protGear/-2025-02-03 17:12:12
IdeoViz/-2025-02-03 17:11:51
edge/-2025-02-03 17:11:38
copa/-2025-02-03 17:11:31
scDblFinder/-2025-02-03 17:12:21
OrderedList/-2025-02-03 17:12:07
CGEN/-2025-02-03 17:11:27
cpvSNP/-2025-02-03 17:11:32
scMitoMut/-2025-02-03 17:12:22
CINdex/-2025-02-03 17:11:28
rhdf5client/-2025-02-03 17:12:17
TargetSearch/-2025-02-03 17:12:30
sccomp/-2025-02-03 17:12:21
epivizrChart/-2025-02-03 17:11:39
HIREewas/-2025-02-03 17:11:50
SpaceMarkers/-2025-02-03 17:12:26
BERT/-2025-02-03 17:11:22
RImmPort/-2025-02-03 17:12:17
RTopper/-2025-02-03 17:12:19
flowCore/-2025-02-03 17:11:41
MiChip/-2025-02-03 17:12:00
puma/-2025-02-03 17:12:12
flowBeads/-2025-02-03 17:11:41
isobar/-2025-02-03 17:11:53
regioneReloaded/-2025-02-03 17:12:16
miaViz/-2025-02-03 17:12:00
flowAI/-2025-02-03 17:11:41
PLSDAbatch/-2025-02-03 17:12:10
ScreenR/-2025-02-03 17:12:22
periodicDNA/-2025-02-03 17:12:09
topconfects/-2025-02-03 17:12:31
gpls/-2025-02-03 17:11:47
PROMISE/-2025-02-03 17:12:12
MBAmethyl/-2025-02-03 17:11:57
scMerge/-2025-02-03 17:12:21
GladiaTOX/-2025-02-03 17:11:46
DynDoc/-2025-02-03 17:11:37
TSAR/-2025-02-03 17:12:33
viper/-2025-02-03 17:12:34
DepInfeR/-2025-02-03 17:11:35
lpsymphony/-2025-02-03 17:11:55
pengls/-2025-02-03 17:12:09
msmsTests/-2025-02-03 17:12:03
DMRcaller/-2025-02-03 17:11:36
triplex/-2025-02-03 17:12:33
MSstats/-2025-02-03 17:12:03
TRESS/-2025-02-03 17:12:32
BayesKnockdown/-2025-02-03 17:11:21
cosmosR/-2025-02-03 17:11:32
affxparser/-2025-02-03 17:11:17
GeneOverlap/-2025-02-03 17:11:44
nnSVG/-2025-02-03 17:12:05
CytoGLMM/-2025-02-03 17:11:33
pepXMLTab/-2025-02-03 17:12:09
primirTSS/-2025-02-03 17:12:11
ccrepe/-2025-02-03 17:11:26
cleanUpdTSeq/-2025-02-03 17:11:29
ipdDb/-2025-02-03 17:11:53
GraphAT/-2025-02-03 17:11:48
clst/-2025-02-03 17:11:29
biodbExpasy/-2025-02-03 17:11:23
GeneStructureTools/-2025-02-03 17:11:44
sights/-2025-02-03 17:12:24
OPWeight/-2025-02-03 17:12:07
fabia/-2025-02-03 17:11:40
Cormotif/-2025-02-03 17:11:31
rpx/-2025-02-03 17:12:19
flowFP/-2025-02-03 17:11:42
mpra/-2025-02-03 17:12:02
CoCiteStats/-2025-02-03 17:11:30
magrene/-2025-02-03 17:11:56
GraphAlignment/-2025-02-03 17:11:48
FISHalyseR/-2025-02-03 17:11:41
MultiDataSet/-2025-02-03 17:12:03
igvR/-2025-02-03 17:11:51
YAPSA/-2025-02-03 17:12:36
clstutils/-2025-02-03 17:11:29
Nebulosa/-2025-02-03 17:12:05
Guitar/-2025-02-03 17:11:48
circRNAprofiler/-2025-02-03 17:11:29
diffGeneAnalysis/-2025-02-03 17:11:36
HilbertCurve/-2025-02-03 17:11:50
SharedObject/-2025-02-03 17:12:24
NanoTube/-2025-02-03 17:12:04
IsoCorrectoR/-2025-02-03 17:11:53
rsemmed/-2025-02-03 17:12:19
unifiedWMWqPCR/-2025-02-03 17:12:34
rain/-2025-02-03 17:12:13
CSAR/-2025-02-03 17:11:32
MGFM/-2025-02-03 17:11:59
MicrobiomeProfiler/-2025-02-03 17:12:00
MOSim/-2025-02-03 17:12:02
ScaledMatrix/-2025-02-03 17:12:20
RNAmodR/-2025-02-03 17:12:18
COMPASS/-2025-02-03 17:11:31
SigsPack/-2025-02-03 17:12:24
MetaCyto/-2025-02-03 17:11:58
miloR/-2025-02-03 17:12:00
ggsc/-2025-02-03 17:11:46
iCheck/-2025-02-03 17:11:51
InteractionSet/-2025-02-03 17:11:52
alabaster.base/-2025-02-03 17:11:18
PoDCall/-2025-02-03 17:12:11
panp/-2025-02-03 17:12:08
RNAmodR.ML/-2025-02-03 17:12:18
sagenhaft/-2025-02-03 17:12:20
MetaNeighbor/-2025-02-03 17:11:58
rhdf5filters/-2025-02-03 17:12:17
GWAS.BAYES/-2025-02-03 17:11:48
piano/-2025-02-03 17:12:10
weitrix/-2025-02-03 17:12:35
ChromSCape/-2025-02-03 17:11:28
MinimumDistance/-2025-02-03 17:12:00
alabaster/-2025-02-03 17:11:18
a4Core/-2025-02-03 17:11:17
hopach/-2025-02-03 17:11:50
GenomicDataCommons/-2025-02-03 17:11:45
MLSeq/-2025-02-03 17:12:01
Repitools/-2025-02-03 17:12:16
BEclear/-2025-02-03 17:11:22
TFutils/-2025-02-03 17:12:30
regutools/-2025-02-03 17:12:16
yarn/-2025-02-03 17:12:36
pgxRpi/-2025-02-03 17:12:09
Rbowtie/-2025-02-03 17:12:15
covEB/-2025-02-03 17:11:32
skewr/-2025-02-03 17:12:25
biocroxytest/-2025-02-03 17:11:23
alabaster.bumpy/-2025-02-03 17:11:18
MethylSeekR/-2025-02-03 17:11:59
scMET/-2025-02-03 17:12:22
cytoKernel/-2025-02-03 17:11:33
switchde/-2025-02-03 17:12:29
Rhtslib/-2025-02-03 17:12:17
mbQTL/-2025-02-03 17:11:57
GenVisR/-2025-02-03 17:11:45
AnVILBilling/-2025-02-03 17:11:19
censcyt/-2025-02-03 17:11:27
AffyRNADegradation/-2025-02-03 17:11:18
RareVariantVis/-2025-02-03 17:12:14
mistyR/-2025-02-03 17:12:01
autonomics/-2025-02-03 17:11:20
miRLAB/-2025-02-03 17:12:00
gwasurvivr/-2025-02-03 17:11:49
limma/-2025-02-03 17:11:55
spatialHeatmap/-2025-02-03 17:12:26
BumpyMatrix/-2025-02-03 17:11:25
scFeatures/-2025-02-03 17:12:21
roar/-2025-02-03 17:12:18
multtest/-2025-02-03 17:12:04
podkat/-2025-02-03 17:12:11
tkWidgets/-2025-02-03 17:12:31
supersigs/-2025-02-03 17:12:29
monocle/-2025-02-03 17:12:01
MotifDb/-2025-02-03 17:12:02
RCSL/-2025-02-03 17:12:15
BioCor/-2025-02-03 17:11:23
affycoretools/-2025-02-03 17:11:17
weaver/-2025-02-03 17:12:35
SplicingGraphs/-2025-02-03 17:12:27
MatrixQCvis/-2025-02-03 17:11:57
ivygapSE/-2025-02-03 17:11:54
MOMA/-2025-02-03 17:12:01
matter/-2025-02-03 17:11:57
mirTarRnaSeq/-2025-02-03 17:12:01
RNAAgeCalc/-2025-02-03 17:12:18
IMMAN/-2025-02-03 17:11:52
synapsis/-2025-02-03 17:12:29
scp/-2025-02-03 17:12:22
siggenes/-2025-02-03 17:12:24
Anaquin/-2025-02-03 17:11:19
MethPed/-2025-02-03 17:11:59
hypeR/-2025-02-03 17:11:51
rCGH/-2025-02-03 17:12:15
RNAseqCovarImpute/-2025-02-03 17:12:18
seqLogo/-2025-02-03 17:12:23
CGHbase/-2025-02-03 17:11:27
mdp/-2025-02-03 17:11:57
fgga/-2025-02-03 17:11:41
cicero/-2025-02-03 17:11:28
ribosomeProfilingQC/-2025-02-03 17:12:17
fenr/-2025-02-03 17:11:41
NanoMethViz/-2025-02-03 17:12:04
spatialDE/-2025-02-03 17:12:26
ceRNAnetsim/-2025-02-03 17:11:27
ReactomeGSA/-2025-02-03 17:12:15
GSEAmining/-2025-02-03 17:11:48
fastLiquidAssociation/-2025-02-03 17:11:40
ballgown/-2025-02-03 17:11:21
SCANVIS/-2025-02-03 17:12:21
Basic4Cseq/-2025-02-03 17:11:21
magpie/-2025-02-03 17:11:56
bnem/-2025-02-03 17:11:24
BiocVersion/-2025-02-03 17:11:23
Moonlight2R/-2025-02-03 17:12:01
annotationTools/-2025-02-03 17:11:19
DECIPHER/-2025-02-03 17:11:34
iSEEhub/-2025-02-03 17:11:53
BioQC/-2025-02-03 17:11:24
DEXSeq/-2025-02-03 17:11:36
evaluomeR/-2025-02-03 17:11:40
HubPub/-2025-02-03 17:11:50
bamsignals/-2025-02-03 17:11:21
demuxmix/-2025-02-03 17:11:35
affycomp/-2025-02-03 17:11:17
MsQuality/-2025-02-03 17:12:03
TCC/-2025-02-03 17:12:30
easier/-2025-02-03 17:11:37
cfDNAPro/-2025-02-03 17:11:27
sparseMatrixStats/-2025-02-03 17:12:26
MAST/-2025-02-03 17:11:57
scoreInvHap/-2025-02-03 17:12:22
DepecheR/-2025-02-03 17:11:35
minfi/-2025-02-03 17:12:00
RnBeads/-2025-02-03 17:12:18
flowSpecs/-2025-02-03 17:11:42
CopyNumberPlots/-2025-02-03 17:11:31
iSeq/-2025-02-03 17:11:53
CellScore/-2025-02-03 17:11:27
annotate/-2025-02-03 17:11:19
antiProfiles/-2025-02-03 17:11:19
scClassify/-2025-02-03 17:12:21
TFEA.ChIP/-2025-02-03 17:12:30
DelayedTensor/-2025-02-03 17:11:35
treeio/-2025-02-03 17:12:32
scDesign3/-2025-02-03 17:12:21
pmm/-2025-02-03 17:12:10
sva/-2025-02-03 17:12:29
SeqGSEA/-2025-02-03 17:12:23
AnnotationHub/-2025-02-03 17:11:19
pandaR/-2025-02-03 17:12:08
SIM/-2025-02-03 17:12:24
limmaGUI/-2025-02-03 17:11:55
abseqR/-2025-02-03 17:11:17
randPack/-2025-02-03 17:12:13
SNAGEE/-2025-02-03 17:12:25
biomvRCNS/-2025-02-03 17:11:24
plyinteractions/-2025-02-03 17:12:10
BgeeCall/-2025-02-03 17:11:22
NanoStringNCTools/-2025-02-03 17:12:04
treekoR/-2025-02-03 17:12:32
csdR/-2025-02-03 17:11:32
CexoR/-2025-02-03 17:11:27
MSstatsQC/-2025-02-03 17:12:03
QDNAseq/-2025-02-03 17:12:12
MeSHDbi/-2025-02-03 17:11:58
CelliD/-2025-02-03 17:11:27
DFP/-2025-02-03 17:11:36
SynMut/-2025-02-03 17:12:29
idr2d/-2025-02-03 17:11:51
affylmGUI/-2025-02-03 17:11:17
methylumi/-2025-02-03 17:11:59
snpStats/-2025-02-03 17:12:26
isomiRs/-2025-02-03 17:11:54
fobitools/-2025-02-03 17:11:42
R4RNA/-2025-02-03 17:12:13
PhenStat/-2025-02-03 17:12:09
biobroom/-2025-02-03 17:11:22
methimpute/-2025-02-03 17:11:58
GSAR/-2025-02-03 17:11:48
cyanoFilter/-2025-02-03 17:11:33
xmapbridge/-2025-02-03 17:12:35
LinTInd/-2025-02-03 17:11:55
maCorrPlot/-2025-02-03 17:11:56
methylSig/-2025-02-03 17:11:59
tRNAdbImport/-2025-02-03 17:12:33
Xeva/-2025-02-03 17:12:35
GenomicPlot/-2025-02-03 17:11:45
NuPoP/-2025-02-03 17:12:06
Scale4C/-2025-02-03 17:12:20
hierGWAS/-2025-02-03 17:11:50
epialleleR/-2025-02-03 17:11:39
mumosa/-2025-02-03 17:12:04
SamSPECTRAL/-2025-02-03 17:12:20
dinoR/-2025-02-03 17:11:36
motifTestR/-2025-02-03 17:12:02
ggbio/-2025-02-03 17:11:46
CNVPanelizer/-2025-02-03 17:11:30
GUIDEseq/-2025-02-03 17:11:48
SigFuge/-2025-02-03 17:12:24
scPipe/-2025-02-03 17:12:22
GeneMeta/-2025-02-03 17:11:44
paircompviz/-2025-02-03 17:12:08
diffUTR/-2025-02-03 17:11:36
ExiMiR/-2025-02-03 17:11:40
flowVS/-2025-02-03 17:11:42
biomaRt/-2025-02-03 17:11:24
muscle/-2025-02-03 17:12:04
ggtree/-2025-02-03 17:11:46
affyILM/-2025-02-03 17:11:17
hmdbQuery/-2025-02-03 17:11:50
biodb/-2025-02-03 17:11:23
Linnorm/-2025-02-03 17:11:55
epidecodeR/-2025-02-03 17:11:39
DMCHMM/-2025-02-03 17:11:36
BUSpaRse/-2025-02-03 17:11:25
nempi/-2025-02-03 17:12:05
OLIN/-2025-02-03 17:12:06
cellmigRation/-2025-02-03 17:11:27
scDataviz/-2025-02-03 17:12:21
affyContam/-2025-02-03 17:11:17
geneplotter/-2025-02-03 17:11:44
MEAT/-2025-02-03 17:11:57
iSEEpathways/-2025-02-03 17:11:53
MEIGOR/-2025-02-03 17:11:58
SPEM/-2025-02-03 17:12:27
MesKit/-2025-02-03 17:11:58
demuxSNP/-2025-02-03 17:11:35
CGHregions/-2025-02-03 17:11:27
DNAshapeR/-2025-02-03 17:11:37
qmtools/-2025-02-03 17:12:12
RUVnormalize/-2025-02-03 17:12:20
BiocNeighbors/-2025-02-03 17:11:23
Dino/-2025-02-03 17:11:36
gwascat/-2025-02-03 17:11:48
phenoTest/-2025-02-03 17:12:09
adSplit/-2025-02-03 17:11:17
scHOT/-2025-02-03 17:12:21
geneXtendeR/-2025-02-03 17:11:44
ArrayExpress/-2025-02-03 17:11:20
affyio/-2025-02-03 17:11:17
HDF5Array/-2025-02-03 17:11:49
pvac/-2025-02-03 17:12:12
genomes/-2025-02-03 17:11:45
DiscoRhythm/-2025-02-03 17:11:36
PathoStat/-2025-02-03 17:12:08
beachmat/-2025-02-03 17:11:21
scifer/-2025-02-03 17:12:21
ReactomeContentService4R/-2025-02-03 17:12:15
RadioGx/-2025-02-03 17:12:13
Rfastp/-2025-02-03 17:12:16
topdownr/-2025-02-03 17:12:31
PIPETS/-2025-02-03 17:12:10
CATALYST/-2025-02-03 17:11:26
ReadqPCR/-2025-02-03 17:12:15
dyebias/-2025-02-03 17:11:37
RedeR/-2025-02-03 17:12:16
CEMiTool/-2025-02-03 17:11:27
RTCA/-2025-02-03 17:12:19
Cogito/-2025-02-03 17:11:30
KEGGgraph/-2025-02-03 17:11:54
BiocPkgTools/-2025-02-03 17:11:23
pathview/-2025-02-03 17:12:08
EnrichedHeatmap/-2025-02-03 17:11:38
multiMiR/-2025-02-03 17:12:04
chipenrich/-2025-02-03 17:11:28
OmaDB/-2025-02-03 17:12:06
betaHMM/-2025-02-03 17:11:22
rgsepd/-2025-02-03 17:12:17
PPInfer/-2025-02-03 17:12:11
gDRcore/-2025-02-03 17:11:43
RUVcorr/-2025-02-03 17:12:20
RNASeqPower/-2025-02-03 17:12:18
arrayMvout/-2025-02-03 17:11:20
genefilter/-2025-02-03 17:11:44
funtooNorm/-2025-02-03 17:11:43
mimager/-2025-02-03 17:12:00
ChIPexoQual/-2025-02-03 17:11:28
bacon/-2025-02-03 17:11:20
aCGH/-2025-02-03 17:11:17
RankProd/-2025-02-03 17:12:14
DegCre/-2025-02-03 17:11:34
gcatest/-2025-02-03 17:11:43
InteractiveComplexHeatmap/-2025-02-03 17:11:52
BiocFileCache/-2025-02-03 17:11:22
qpcrNorm/-2025-02-03 17:12:12
lipidr/-2025-02-03 17:11:55
GMRP/-2025-02-03 17:11:47
GenomicInteractions/-2025-02-03 17:11:45
BioNAR/-2025-02-03 17:11:24
SpatialDecon/-2025-02-03 17:12:26
pipeFrame/-2025-02-03 17:12:10
flowWorkspace/-2025-02-03 17:11:42
methylPipe/-2025-02-03 17:11:59
basilisk.utils/-2025-02-03 17:11:21
LOBSTAHS/-2025-02-03 17:11:55
MsCoreUtils/-2025-02-03 17:12:02
DEGreport/-2025-02-03 17:11:34
drugTargetInteractions/-2025-02-03 17:11:37
bluster/-2025-02-03 17:11:24
GeoDiff/-2025-02-03 17:11:45
ncGTW/-2025-02-03 17:12:05
ISLET/-2025-02-03 17:11:53
CNORode/-2025-02-03 17:11:30
flowCHIC/-2025-02-03 17:11:41
RgnTX/-2025-02-03 17:12:17
simona/-2025-02-03 17:12:25
Uniquorn/-2025-02-03 17:12:34
DRIMSeq/-2025-02-03 17:11:37
REDseq/-2025-02-03 17:12:16
ClusterSignificance/-2025-02-03 17:11:29
GSRI/-2025-02-03 17:11:48
GenomicAlignments/-2025-02-03 17:11:45
midasHLA/-2025-02-03 17:12:00
IsoformSwitchAnalyzeR/-2025-02-03 17:11:53
CHETAH/-2025-02-03 17:11:28
MsBackendMassbank/-2025-02-03 17:12:02
preprocessCore/-2025-02-03 17:12:11
vulcan/-2025-02-03 17:12:35
fgsea/-2025-02-03 17:11:41
MatrixGenerics/-2025-02-03 17:11:57
ROCpAI/-2025-02-03 17:12:18
GlobalAncova/-2025-02-03 17:11:47
alabaster.ranges/-2025-02-03 17:11:18
EpiTxDb/-2025-02-03 17:11:39
TAPseq/-2025-02-03 17:12:30
mirIntegrator/-2025-02-03 17:12:00
HelloRanges/-2025-02-03 17:11:49
seqArchR/-2025-02-03 17:12:23
wpm/-2025-02-03 17:12:35
GRENITS/-2025-02-03 17:11:48
PureCN/-2025-02-03 17:12:12
GSALightning/-2025-02-03 17:11:48
RRHO/-2025-02-03 17:12:19
Streamer/-2025-02-03 17:12:28
terraTCGAdata/-2025-02-03 17:12:30
TurboNorm/-2025-02-03 17:12:33
enrichplot/-2025-02-03 17:11:39
missRows/-2025-02-03 17:12:01
MultiMed/-2025-02-03 17:12:04
KCsmart/-2025-02-03 17:11:54
PREDA/-2025-02-03 17:12:11
DriverNet/-2025-02-03 17:11:37
DESeq2/-2025-02-03 17:11:35
LBE/-2025-02-03 17:11:54
trio/-2025-02-03 17:12:33
lpNet/-2025-02-03 17:11:55
ConsensusClusterPlus/-2025-02-03 17:11:31
GenomicInteractionNodes/-2025-02-03 17:11:45
rGenomeTracks/-2025-02-03 17:12:16
MineICA/-2025-02-03 17:12:00
MiRaGE/-2025-02-03 17:12:00
RLassoCox/-2025-02-03 17:12:17
SingleR/-2025-02-03 17:12:25
MatrixRider/-2025-02-03 17:11:57
mfa/-2025-02-03 17:11:59
KEGGREST/-2025-02-03 17:11:54
BUS/-2025-02-03 17:11:25
bioDist/-2025-02-03 17:11:24
gcrma/-2025-02-03 17:11:43
Pedixplorer/-2025-02-03 17:12:09
trackViewer/-2025-02-03 17:12:32
GAprediction/-2025-02-03 17:11:43
scAnnotatR/-2025-02-03 17:12:20
BAGS/-2025-02-03 17:11:21
RaggedExperiment/-2025-02-03 17:12:13
SGSeq/-2025-02-03 17:12:24
miRBaseConverter/-2025-02-03 17:12:00
recountmethylation/-2025-02-03 17:12:16
BREW3R.r/-2025-02-03 17:11:25
famat/-2025-02-03 17:11:40
RnaSeqSampleSize/-2025-02-03 17:12:18
Rsamtools/-2025-02-03 17:12:19
MSnID/-2025-02-03 17:12:03
INDEED/-2025-02-03 17:11:52
GeneBreak/-2025-02-03 17:11:44
altcdfenvs/-2025-02-03 17:11:18
GOSemSim/-2025-02-03 17:11:47
panelcn.mops/-2025-02-03 17:12:08
MuData/-2025-02-03 17:12:03
motifmatchr/-2025-02-03 17:12:02
methylInheritance/-2025-02-03 17:11:59
DMRcate/-2025-02-03 17:11:36
crlmm/-2025-02-03 17:11:32
similaRpeak/-2025-02-03 17:12:24
retrofit/-2025-02-03 17:12:16
rhdf5/-2025-02-03 17:12:17
survcomp/-2025-02-03 17:12:29
M3C/-2025-02-03 17:11:56
GA4GHshiny/-2025-02-03 17:11:43
consensus/-2025-02-03 17:11:31
blacksheepr/-2025-02-03 17:11:24
GRmetrics/-2025-02-03 17:11:48
GSVA/-2025-02-03 17:11:48
maftools/-2025-02-03 17:11:56
girafe/-2025-02-03 17:11:46
gDR/-2025-02-03 17:11:43
hummingbird/-2025-02-03 17:11:50
Banksy/-2025-02-03 17:11:21
ToxicoGx/-2025-02-03 17:12:32
MSstatsQCgui/-2025-02-03 17:12:03
SCOPE/-2025-02-03 17:12:22
SC3/-2025-02-03 17:12:20
easyreporting/-2025-02-03 17:11:38
Modstrings/-2025-02-03 17:12:01
twilight/-2025-02-03 17:12:33
CaMutQC/-2025-02-03 17:11:26
gsean/-2025-02-03 17:11:48
pcaMethods/-2025-02-03 17:12:08
cageminer/-2025-02-03 17:11:25
sincell/-2025-02-03 17:12:25
graphite/-2025-02-03 17:11:48
DAMEfinder/-2025-02-03 17:11:34
ssrch/-2025-02-03 17:12:28
lfa/-2025-02-03 17:11:55
DegNorm/-2025-02-03 17:11:34
XINA/-2025-02-03 17:12:35
iSEEhex/-2025-02-03 17:11:53
sesame/-2025-02-03 17:12:23
knowYourCG/-2025-02-03 17:11:54
ClustAll/-2025-02-03 17:11:29
Ularcirc/-2025-02-03 17:12:33
cqn/-2025-02-03 17:11:32
TADCompare/-2025-02-03 17:12:30
parody/-2025-02-03 17:12:08
VariantAnnotation/-2025-02-03 17:12:34
ffpe/-2025-02-03 17:11:41
GDCRNATools/-2025-02-03 17:11:43
oposSOM/-2025-02-03 17:12:07
scanMiR/-2025-02-03 17:12:20
ChAMP/-2025-02-03 17:11:28
phantasus/-2025-02-03 17:12:09
a4/-2025-02-03 17:11:16
SimBu/-2025-02-03 17:12:24
mogsa/-2025-02-03 17:12:01
spiky/-2025-02-03 17:12:27
oligoClasses/-2025-02-03 17:12:06
memes/-2025-02-03 17:11:58
SeqGate/-2025-02-03 17:12:23
ggspavis/-2025-02-03 17:11:46
AnnotationHubData/-2025-02-03 17:11:19
banocc/-2025-02-03 17:11:21
motifStack/-2025-02-03 17:12:02
MEB/-2025-02-03 17:11:57
RGraph2js/-2025-02-03 17:12:17
chromVAR/-2025-02-03 17:11:28
rWikiPathways/-2025-02-03 17:12:20
consICA/-2025-02-03 17:11:31
TFBSTools/-2025-02-03 17:12:30
VplotR/-2025-02-03 17:12:35
crisprVerse/-2025-02-03 17:11:32
powerTCR/-2025-02-03 17:12:11
spoon/-2025-02-03 17:12:27
BioMVCClass/-2025-02-03 17:11:24
MeasurementError.cor/-2025-02-03 17:11:57
BPRMeth/-2025-02-03 17:11:24
TREG/-2025-02-03 17:12:32
BANDITS/-2025-02-03 17:11:21
KnowSeq/-2025-02-03 17:11:54
Rhisat2/-2025-02-03 17:12:17
shiny.gosling/-2025-02-03 17:12:24
cogeqc/-2025-02-03 17:11:30
MoonlightR/-2025-02-03 17:12:02
scde/-2025-02-03 17:12:21
speckle/-2025-02-03 17:12:26
mbkmeans/-2025-02-03 17:11:57
dreamlet/-2025-02-03 17:11:37
ATACseqTFEA/-2025-02-03 17:11:20
dStruct/-2025-02-03 17:11:37
pickgene/-2025-02-03 17:12:10
phenomis/-2025-02-03 17:12:09
BasicSTARRseq/-2025-02-03 17:11:21
quantro/-2025-02-03 17:12:13
codelink/-2025-02-03 17:11:30
CDI/-2025-02-03 17:11:26
TitanCNA/-2025-02-03 17:12:31
ChIPQC/-2025-02-03 17:11:28
EWCE/-2025-02-03 17:11:40
HarmonizR/-2025-02-03 17:11:49
BASiCStan/-2025-02-03 17:11:21
prebs/-2025-02-03 17:12:11
celaref/-2025-02-03 17:11:26
sitadela/-2025-02-03 17:12:25
Sconify/-2025-02-03 17:12:22
rebook/-2025-02-03 17:12:15
wiggleplotr/-2025-02-03 17:12:35
martini/-2025-02-03 17:11:56
breakpointR/-2025-02-03 17:11:25
gDRutils/-2025-02-03 17:11:43
frmaTools/-2025-02-03 17:11:42
NOISeq/-2025-02-03 17:12:05
ABarray/-2025-02-03 17:11:17
IMAS/-2025-02-03 17:11:52
svaNUMT/-2025-02-03 17:12:29
ncRNAtools/-2025-02-03 17:12:05
Chicago/-2025-02-03 17:11:28
ExpressionAtlas/-2025-02-03 17:11:40
mzR/-2025-02-03 17:12:04
vidger/-2025-02-03 17:12:34
DNAcopy/-2025-02-03 17:11:37
PLPE/-2025-02-03 17:12:10
RSeqAn/-2025-02-03 17:12:19
twoddpcr/-2025-02-03 17:12:33
cytoMEM/-2025-02-03 17:11:33
IntEREst/-2025-02-03 17:11:53
PADOG/-2025-02-03 17:12:08
DrugVsDisease/-2025-02-03 17:11:37
HEM/-2025-02-03 17:11:49
pdInfoBuilder/-2025-02-03 17:12:09
RegionalST/-2025-02-03 17:12:16
ROC/-2025-02-03 17:12:18
ReactomeGraph4R/-2025-02-03 17:12:15
clusterExperiment/-2025-02-03 17:11:29
DNAfusion/-2025-02-03 17:11:37
EGSEA/-2025-02-03 17:11:38
QuasR/-2025-02-03 17:12:13
APAlyzer/-2025-02-03 17:11:19
transmogR/-2025-02-03 17:12:32
CGHcall/-2025-02-03 17:11:27
meshr/-2025-02-03 17:11:58
SLqPCR/-2025-02-03 17:12:25
RBioinf/-2025-02-03 17:12:14
GenomicFiles/-2025-02-03 17:11:45
Harshlight/-2025-02-03 17:11:49
SNPhood/-2025-02-03 17:12:26
sigFeature/-2025-02-03 17:12:24
hoodscanR/-2025-02-03 17:11:50
rfPred/-2025-02-03 17:12:16
NewWave/-2025-02-03 17:12:05
TRONCO/-2025-02-03 17:12:33
mia/-2025-02-03 17:11:59
rfaRm/-2025-02-03 17:12:16
BiocCheck/-2025-02-03 17:11:22
HPAanalyze/-2025-02-03 17:11:50
tradeSeq/-2025-02-03 17:12:32
MSstatsLOBD/-2025-02-03 17:12:03
dmrseq/-2025-02-03 17:11:37
BgeeDB/-2025-02-03 17:11:22
SIMAT/-2025-02-03 17:12:24
RCX/-2025-02-03 17:12:15
ggmsa/-2025-02-03 17:11:46
plotgardener/-2025-02-03 17:12:10
CytoDx/-2025-02-03 17:11:33
scTHI/-2025-02-03 17:12:23
SeqArray/-2025-02-03 17:12:23
scmeth/-2025-02-03 17:12:22
TFHAZ/-2025-02-03 17:12:30
bettr/-2025-02-03 17:11:22
edgeR/-2025-02-03 17:11:38
GmicR/-2025-02-03 17:11:47
roastgsa/-2025-02-03 17:12:18
EMDomics/-2025-02-03 17:11:38
PROPER/-2025-02-03 17:12:12
LOLA/-2025-02-03 17:11:55
lefser/-2025-02-03 17:11:54
tracktables/-2025-02-03 17:12:32
rSWeeP/-2025-02-03 17:12:19
MultimodalExperiment/-2025-02-03 17:12:04
KinSwingR/-2025-02-03 17:11:54
ChIPsim/-2025-02-03 17:11:28
HMMcopy/-2025-02-03 17:11:50
RVS/-2025-02-03 17:12:20
coseq/-2025-02-03 17:11:31
factR/-2025-02-03 17:11:40
drawProteins/-2025-02-03 17:11:37
OpenStats/-2025-02-03 17:12:07
crisprBase/-2025-02-03 17:11:32
SpectralTAD/-2025-02-03 17:12:27
interactiveDisplay/-2025-02-03 17:11:52
ddCt/-2025-02-03 17:11:34
MMUPHin/-2025-02-03 17:12:01
dcGSA/-2025-02-03 17:11:34
GeneGeneInteR/-2025-02-03 17:11:44
BloodGen3Module/-2025-02-03 17:11:24
BiocWorkflowTools/-2025-02-03 17:11:23
ComplexHeatmap/-2025-02-03 17:11:31
a4Preproc/-2025-02-03 17:11:17
BADER/-2025-02-03 17:11:20
ropls/-2025-02-03 17:12:18
BioTIP/-2025-02-03 17:11:24
genoCN/-2025-02-03 17:11:44
gypsum/-2025-02-03 17:11:49
target/-2025-02-03 17:12:30
OCplus/-2025-02-03 17:12:06
GDSArray/-2025-02-03 17:11:43
CNEr/-2025-02-03 17:11:30
CARNIVAL/-2025-02-03 17:11:26
AMOUNTAIN/-2025-02-03 17:11:18
universalmotif/-2025-02-03 17:12:34
ANCOMBC/-2025-02-03 17:11:19
snapcount/-2025-02-03 17:12:25
biocGraph/-2025-02-03 17:11:22
systemPipeShiny/-2025-02-03 17:12:29
vsclust/-2025-02-03 17:12:35
graph/-2025-02-03 17:11:48
variancePartition/-2025-02-03 17:12:34
EBcoexpress/-2025-02-03 17:11:38
MACSQuantifyR/-2025-02-03 17:11:56
myvariant/-2025-02-03 17:12:04
ClusterFoldSimilarity/-2025-02-03 17:11:29
bnbc/-2025-02-03 17:11:24
AnnotationDbi/-2025-02-03 17:11:19
compEpiTools/-2025-02-03 17:11:31
epiregulon.extra/-2025-02-03 17:11:39
funOmics/-2025-02-03 17:11:43
meshes/-2025-02-03 17:11:58
FastqCleaner/-2025-02-03 17:11:40
adverSCarial/-2025-02-03 17:11:17
omada/-2025-02-03 17:12:06
SpatialExperiment/-2025-02-03 17:12:26
hypergraph/-2025-02-03 17:11:51
TSCAN/-2025-02-03 17:12:33
crisprDesign/-2025-02-03 17:11:32
dearseq/-2025-02-03 17:11:34
multiHiCcompare/-2025-02-03 17:12:03
MOGAMUN/-2025-02-03 17:12:01
aggregateBioVar/-2025-02-03 17:11:18
regsplice/-2025-02-03 17:12:16
BUScorrect/-2025-02-03 17:11:25
HiTC/-2025-02-03 17:11:50
transformGamPoi/-2025-02-03 17:12:32
FlowSOM/-2025-02-03 17:11:42
pqsfinder/-2025-02-03 17:12:11
ramwas/-2025-02-03 17:12:13
alabaster.sce/-2025-02-03 17:11:18
flowTrans/-2025-02-03 17:11:42
alabaster.matrix/-2025-02-03 17:11:18
SIMLR/-2025-02-03 17:12:25
strandCheckR/-2025-02-03 17:12:28
nondetects/-2025-02-03 17:12:05
sevenC/-2025-02-03 17:12:24
alabaster.schemas/-2025-02-03 17:11:18
epistasisGA/-2025-02-03 17:11:39
multiscan/-2025-02-03 17:12:04
makecdfenv/-2025-02-03 17:11:56
SPsimSeq/-2025-02-03 17:12:27
a4Classif/-2025-02-03 17:11:17
a4Reporting/-2025-02-03 17:11:17
OVESEG/-2025-02-03 17:12:07
glmGamPoi/-2025-02-03 17:11:46
QuaternaryProd/-2025-02-03 17:12:13
clusterSeq/-2025-02-03 17:11:29
maskBAD/-2025-02-03 17:11:56
TTMap/-2025-02-03 17:12:33
MetaboCoreUtils/-2025-02-03 17:11:58
regioneR/-2025-02-03 17:12:16
lapmix/-2025-02-03 17:11:54
MODA/-2025-02-03 17:12:01
SBGNview/-2025-02-03 17:12:20
Rhdf5lib/-2025-02-03 17:12:17
Mfuzz/-2025-02-03 17:11:59
CTSV/-2025-02-03 17:11:33
annaffy/-2025-02-03 17:11:19
SPOTlight/-2025-02-03 17:12:27
MultiAssayExperiment/-2025-02-03 17:12:03
pathwayPCA/-2025-02-03 17:12:08
PCAN/-2025-02-03 17:12:09
transcriptR/-2025-02-03 17:12:32
BeadDataPackR/-2025-02-03 17:11:21
biodbChebi/-2025-02-03 17:11:23
pfamAnalyzeR/-2025-02-03 17:12:09
skipped-index.dcf0 B2025-02-03 17:02:51
DEVEL3b.png2.6 KiB2025-02-03 17:02:51
Renviron.bioc3.2 KiB2025-02-03 17:02:51
report.js6.0 KiB2025-02-03 17:02:51
kjohnson1-NodeInfo.html6.6 KiB2025-02-03 17:02:52
kjohnson3-NodeInfo.html6.7 KiB2024-11-10 02:23:43
merida1-NodeInfo.html6.7 KiB2025-02-03 17:02:52
lconway-NodeInfo.html6.7 KiB2024-11-20 17:00:23
teran2-NodeInfo.html6.8 KiB2024-11-20 17:00:23
kunpeng2-NodeInfo.html6.9 KiB2024-11-20 17:00:23
nebbiolo2-NodeInfo.html6.9 KiB2025-02-03 17:02:52
palomino8-NodeInfo.html6.9 KiB2025-02-03 17:02:52
palomino6-NodeInfo.html6.9 KiB2024-07-16 15:37:06
120px-Red_Light_Icon.svg.png7.0 KiB2025-02-03 17:02:51
palomino4-NodeInfo.html7.0 KiB2024-06-11 19:37:50
120px-Green_Light_Icon.svg.png7.1 KiB2025-02-03 17:02:51
120px-Blue_Light_Icon.svg.png7.1 KiB2025-02-03 17:02:51
taishan-NodeInfo.html7.6 KiB2025-02-03 17:02:52
report.css11.2 KiB2025-02-03 17:02:51
meat-index.dcf235.7 KiB2025-02-03 17:02:51
pkg_dep_graph.txt374.5 KiB2025-02-03 17:02:51
palomino4-R-instpkgs.html453.6 KiB2024-06-11 19:37:50
taishan-R-instpkgs.html456.5 KiB2025-02-03 17:02:52
palomino8-R-instpkgs.html461.8 KiB2025-02-03 17:02:52
kunpeng2-R-instpkgs.html466.1 KiB2024-11-20 17:00:24
palomino6-R-instpkgs.html479.7 KiB2024-07-16 15:37:06
nebbiolo2-R-instpkgs.html520.1 KiB2025-02-03 17:02:52
teran2-R-instpkgs.html578.7 KiB2024-11-20 17:00:23
kjohnson1-R-instpkgs.html594.6 KiB2025-02-03 17:02:52
kjohnson3-R-instpkgs.html596.8 KiB2024-11-10 02:23:43
merida1-R-instpkgs.html605.4 KiB2025-02-03 17:02:52
lconway-R-instpkgs.html608.3 KiB2024-11-20 17:00:24
PROPAGATION_STATUS_DB.txt687.5 KiB2025-02-03 17:02:51
BUILD_STATUS_DB.txt1.2 MiB2025-02-03 17:02:51
index.html1.3 MiB2025-02-03 17:12:57
taishan-index.html2.5 MiB2025-02-03 17:12:57
kunpeng2-index.html2.5 MiB2024-11-20 17:08:43
palomino6-index.html2.9 MiB2024-07-16 15:46:11
teran2-index.html2.9 MiB2024-11-20 17:08:27
nebbiolo2-index.html2.9 MiB2025-02-03 17:12:37
kjohnson3-index.html3.2 MiB2024-11-10 02:33:37
palomino4-index.html3.2 MiB2024-06-11 19:44:00
merida1-index.html3.3 MiB2025-02-03 17:12:45
lconway-index.html3.3 MiB2024-11-20 17:08:38
palomino8-index.html3.3 MiB2025-02-03 17:12:40
kjohnson1-index.html3.3 MiB2025-02-03 17:12:50
long-report.html16.1 MiB2025-02-03 17:13:19
report.tgz110.8 MiB2025-02-03 17:14:27