Back to Multiple platform build/check report for BioC 3.20: simplified long |
|
This page was generated on 2025-02-03 12:04 -0500 (Mon, 03 Feb 2025).
Hostname | OS | Arch (*) | R version | Installed pkgs |
---|---|---|---|---|
nebbiolo2 | Linux (Ubuntu 24.04.1 LTS) | x86_64 | 4.4.2 (2024-10-31) -- "Pile of Leaves" | 4746 |
palomino8 | Windows Server 2022 Datacenter | x64 | 4.4.2 (2024-10-31 ucrt) -- "Pile of Leaves" | 4494 |
merida1 | macOS 12.7.5 Monterey | x86_64 | 4.4.2 (2024-10-31) -- "Pile of Leaves" | 4517 |
kjohnson1 | macOS 13.6.6 Ventura | arm64 | 4.4.2 (2024-10-31) -- "Pile of Leaves" | 4469 |
taishan | Linux (openEuler 24.03 LTS) | aarch64 | 4.4.2 (2024-10-31) -- "Pile of Leaves" | 4400 |
Click on any hostname to see more info about the system (e.g. compilers) (*) as reported by 'uname -p', except on Windows and Mac OS X |
Package 58/2289 | Hostname | OS / Arch | INSTALL | BUILD | CHECK | BUILD BIN | ||||||||
AlpsNMR 4.8.0 (landing page) Sergio Oller Moreno
| nebbiolo2 | Linux (Ubuntu 24.04.1 LTS) / x86_64 | OK | OK | OK | |||||||||
palomino8 | Windows Server 2022 Datacenter / x64 | OK | OK | OK | OK | |||||||||
merida1 | macOS 12.7.5 Monterey / x86_64 | OK | OK | OK | OK | |||||||||
kjohnson1 | macOS 13.6.6 Ventura / arm64 | OK | OK | OK | OK | |||||||||
taishan | Linux (openEuler 24.03 LTS) / aarch64 | OK | ERROR | skipped | ||||||||||
To the developers/maintainers of the AlpsNMR package: - Allow up to 24 hours (and sometimes 48 hours) for your latest push to git@git.bioconductor.org:packages/AlpsNMR.git to reflect on this report. See Troubleshooting Build Report for more information. - Use the following Renviron settings to reproduce errors and warnings. - If 'R CMD check' started to fail recently on the Linux builder(s) over a missing dependency, add the missing dependency to 'Suggests:' in your DESCRIPTION file. See Renviron.bioc for more information. |
Package: AlpsNMR |
Version: 4.8.0 |
Command: /home/biocbuild/bbs-3.20-bioc/R/bin/R CMD check --install=check:AlpsNMR.install-out.txt --library=/home/biocbuild/bbs-3.20-bioc/R/site-library --timings AlpsNMR_4.8.0.tar.gz |
StartedAt: 2025-01-30 19:50:44 -0500 (Thu, 30 Jan 2025) |
EndedAt: 2025-01-30 19:55:04 -0500 (Thu, 30 Jan 2025) |
EllapsedTime: 260.3 seconds |
RetCode: 0 |
Status: OK |
CheckDir: AlpsNMR.Rcheck |
Warnings: 0 |
############################################################################## ############################################################################## ### ### Running command: ### ### /home/biocbuild/bbs-3.20-bioc/R/bin/R CMD check --install=check:AlpsNMR.install-out.txt --library=/home/biocbuild/bbs-3.20-bioc/R/site-library --timings AlpsNMR_4.8.0.tar.gz ### ############################################################################## ############################################################################## * using log directory ‘/home/biocbuild/bbs-3.20-bioc/meat/AlpsNMR.Rcheck’ * using R version 4.4.2 (2024-10-31) * using platform: x86_64-pc-linux-gnu * R was compiled by gcc (Ubuntu 13.2.0-23ubuntu4) 13.2.0 GNU Fortran (Ubuntu 13.2.0-23ubuntu4) 13.2.0 * running under: Ubuntu 24.04.1 LTS * using session charset: UTF-8 * checking for file ‘AlpsNMR/DESCRIPTION’ ... OK * checking extension type ... Package * this is package ‘AlpsNMR’ version ‘4.8.0’ * package encoding: UTF-8 * checking package namespace information ... OK * checking package dependencies ... OK * checking if this is a source package ... OK * checking if there is a namespace ... OK * checking for hidden files and directories ... OK * checking for portable file names ... OK * checking for sufficient/correct file permissions ... OK * checking whether package ‘AlpsNMR’ can be installed ... OK * checking installed package size ... OK * checking package directory ... OK * checking ‘build’ directory ... OK * checking DESCRIPTION meta-information ... OK * checking top-level files ... OK * checking for left-over files ... OK * checking index information ... OK * checking package subdirectories ... OK * checking code files for non-ASCII characters ... OK * checking R files for syntax errors ... OK * checking whether the package can be loaded ... OK * checking whether the package can be loaded with stated dependencies ... OK * checking whether the package can be unloaded cleanly ... OK * checking whether the namespace can be loaded with stated dependencies ... OK * checking whether the namespace can be unloaded cleanly ... OK * checking loading without being on the library search path ... OK * checking dependencies in R code ... OK * checking S3 generic/method consistency ... OK * checking replacement functions ... OK * checking foreign function calls ... OK * checking R code for possible problems ... OK * checking Rd files ... OK * checking Rd metadata ... OK * checking Rd cross-references ... OK * checking for missing documentation entries ... OK * checking for code/documentation mismatches ... OK * checking Rd \usage sections ... OK * checking Rd contents ... OK * checking for unstated dependencies in examples ... OK * checking contents of ‘data’ directory ... OK * checking data for non-ASCII characters ... OK * checking data for ASCII and uncompressed saves ... OK * checking files in ‘vignettes’ ... OK * checking examples ... OK Examples with CPU (user + system) or elapsed time > 5s user system elapsed Peak_detection 7.677 1.708 6.723 SummarizedExperiment_to_nmr_data_1r 6.445 0.909 6.790 nmr_pca_outliers_robust 5.336 0.985 5.689 permutation_test_plot 3.108 1.958 1.671 * checking for unstated dependencies in ‘tests’ ... OK * checking tests ... Running ‘testthat.R’ OK * checking for unstated dependencies in vignettes ... OK * checking package vignettes ... OK * checking re-building of vignette outputs ... OK * checking PDF version of manual ... OK * DONE Status: OK
AlpsNMR.Rcheck/00install.out
############################################################################## ############################################################################## ### ### Running command: ### ### /home/biocbuild/bbs-3.20-bioc/R/bin/R CMD INSTALL AlpsNMR ### ############################################################################## ############################################################################## * installing to library ‘/home/biocbuild/bbs-3.20-bioc/R/site-library’ * installing *source* package ‘AlpsNMR’ ... ** using staged installation ** R ** data ** inst ** byte-compile and prepare package for lazy loading ** help *** installing help indices *** copying figures ** building package indices ** installing vignettes ** testing if installed package can be loaded from temporary location ** testing if installed package can be loaded from final location ** testing if installed package keeps a record of temporary installation path * DONE (AlpsNMR)
AlpsNMR.Rcheck/tests/testthat.Rout
R version 4.4.2 (2024-10-31) -- "Pile of Leaves" Copyright (C) 2024 The R Foundation for Statistical Computing Platform: x86_64-pc-linux-gnu R is free software and comes with ABSOLUTELY NO WARRANTY. You are welcome to redistribute it under certain conditions. Type 'license()' or 'licence()' for distribution details. R is a collaborative project with many contributors. Type 'contributors()' for more information and 'citation()' on how to cite R or R packages in publications. Type 'demo()' for some demos, 'help()' for on-line help, or 'help.start()' for an HTML browser interface to help. Type 'q()' to quit R. > library(testthat) > library(AlpsNMR) Attaching package: 'AlpsNMR' The following object is masked from 'package:stats': filter > > test_check("AlpsNMR") [ FAIL 0 | WARN 0 | SKIP 1 | PASS 93 ] ══ Skipped tests (1) ═══════════════════════════════════════════════════════════ • On Bioconductor (1): 'test_rDolphin.R:2:5' [ FAIL 0 | WARN 0 | SKIP 1 | PASS 93 ] > > proc.time() user system elapsed 22.017 8.046 20.529
AlpsNMR.Rcheck/AlpsNMR-Ex.timings
name | user | system | elapsed | |
AlpsNMR-package | 1.716 | 0.393 | 1.587 | |
HMDB_blood | 0.006 | 0.000 | 0.006 | |
HMDB_cell | 0.003 | 0.001 | 0.003 | |
HMDB_urine | 0.002 | 0.001 | 0.004 | |
Parameters_blood | 0.002 | 0.000 | 0.002 | |
Parameters_cell | 0.001 | 0.000 | 0.002 | |
Parameters_urine | 0.001 | 0.000 | 0.001 | |
Peak_detection | 7.677 | 1.708 | 6.723 | |
Pipelines | 0.001 | 0.000 | 0.001 | |
ROI_blood | 0.035 | 0.005 | 0.039 | |
ROI_cell | 0.003 | 0.000 | 0.003 | |
ROI_urine | 0.003 | 0.000 | 0.003 | |
SummarizedExperiment_to_nmr_data_1r | 6.445 | 0.909 | 6.790 | |
SummarizedExperiment_to_nmr_dataset_peak_table | 0.894 | 0.421 | 0.745 | |
bp_VIP_analysis | 1.313 | 0.773 | 0.794 | |
bp_kfold_VIP_analysis | 0.741 | 0.521 | 0.499 | |
download_MTBLS242 | 0 | 0 | 0 | |
file_lister | 0.058 | 0.011 | 0.068 | |
files_to_rDolphin | 0 | 0 | 0 | |
filter.nmr_dataset_family | 0.764 | 0.411 | 0.563 | |
format.nmr_dataset | 3.045 | 1.809 | 2.271 | |
format.nmr_dataset_1D | 0.672 | 0.495 | 0.543 | |
format.nmr_dataset_peak_table | 0.807 | 0.415 | 0.596 | |
get_integration_with_metadata | 0.023 | 0.005 | 0.028 | |
hmdb | 0.042 | 0.017 | 0.060 | |
is.nmr_dataset | 0.702 | 0.552 | 0.558 | |
is.nmr_dataset_1D | 0.696 | 0.444 | 0.543 | |
is.nmr_dataset_peak_table | 0.736 | 0.434 | 0.585 | |
load_and_save_functions | 0.632 | 0.443 | 0.502 | |
models_stability_plot_bootstrap | 0.001 | 0.000 | 0.002 | |
models_stability_plot_plsda | 0.334 | 0.431 | 0.357 | |
new_nmr_dataset | 0.001 | 0.000 | 0.002 | |
new_nmr_dataset_1D | 0.001 | 0.000 | 0.001 | |
new_nmr_dataset_peak_table | 0.734 | 0.517 | 0.661 | |
nmr_autophase | 0.211 | 0.135 | 0.318 | |
nmr_baseline_estimation | 0.008 | 0.002 | 0.010 | |
nmr_baseline_removal | 0.004 | 0.000 | 0.005 | |
nmr_baseline_threshold | 0.000 | 0.001 | 0.002 | |
nmr_baseline_threshold_plot | 0.233 | 0.037 | 0.271 | |
nmr_batman | 0.002 | 0.001 | 0.003 | |
nmr_batman_options | 0.001 | 0.000 | 0.000 | |
nmr_build_peak_table | 0.034 | 0.006 | 0.040 | |
nmr_data | 0.042 | 0.007 | 0.049 | |
nmr_data_1r_to_SummarizedExperiment | 1.014 | 0.666 | 0.911 | |
nmr_data_analysis | 0.380 | 0.495 | 0.394 | |
nmr_dataset | 0.001 | 0.000 | 0.001 | |
nmr_dataset_1D | 0.000 | 0.001 | 0.001 | |
nmr_dataset_peak_table_to_SummarizedExperiment | 1.094 | 0.715 | 0.961 | |
nmr_exclude_region | 0.005 | 0.001 | 0.005 | |
nmr_export_data_1r | 0.806 | 0.537 | 0.618 | |
nmr_get_peak_distances | 0.008 | 0.001 | 0.008 | |
nmr_identify_regions_blood | 0.011 | 0.003 | 0.014 | |
nmr_identify_regions_cell | 0.006 | 0.001 | 0.009 | |
nmr_identify_regions_urine | 0.012 | 0.001 | 0.013 | |
nmr_integrate_regions | 0.010 | 0.001 | 0.011 | |
nmr_interpolate_1D | 1.493 | 1.063 | 1.201 | |
nmr_meta_add | 1.766 | 0.995 | 1.451 | |
nmr_meta_export | 0.716 | 0.535 | 0.563 | |
nmr_meta_get | 0.658 | 0.546 | 0.577 | |
nmr_meta_get_column | 0.690 | 0.505 | 0.539 | |
nmr_meta_groups | 1.466 | 0.828 | 1.625 | |
nmr_normalize | 0.214 | 0.003 | 0.218 | |
nmr_pca_build_model | 1.578 | 1.038 | 1.373 | |
nmr_pca_outliers | 0.930 | 0.503 | 0.765 | |
nmr_pca_outliers_filter | 0.816 | 0.552 | 0.717 | |
nmr_pca_outliers_plot | 0 | 0 | 0 | |
nmr_pca_outliers_robust | 5.336 | 0.985 | 5.689 | |
nmr_pca_plots | 0.336 | 0.014 | 0.349 | |
nmr_peak_clustering | 0.058 | 0.003 | 0.061 | |
nmr_ppm_resolution | 0.008 | 0.000 | 0.007 | |
nmr_read_bruker_fid | 0 | 0 | 0 | |
nmr_read_samples | 1.222 | 1.016 | 0.965 | |
nmr_zip_bruker_samples | 0.253 | 0.011 | 0.265 | |
peaklist_accept_peaks | 0.004 | 0.000 | 0.003 | |
permutation_test_model | 2.316 | 1.334 | 1.633 | |
permutation_test_plot | 3.108 | 1.958 | 1.671 | |
plot.nmr_dataset_1D | 0.001 | 0.002 | 0.003 | |
plot_bootstrap_multimodel | 0.002 | 0.002 | 0.003 | |
plot_interactive | 1.450 | 0.886 | 0.578 | |
plot_plsda_multimodel | 0.193 | 0.362 | 0.295 | |
plot_plsda_samples | 0.116 | 0.125 | 0.186 | |
plot_vip_scores | 0.001 | 0.000 | 0.002 | |
plot_webgl | 0.020 | 0.042 | 0.001 | |
plsda_auroc_vip_compare | 0.422 | 0.305 | 0.621 | |
plsda_auroc_vip_method | 0 | 0 | 0 | |
ppm_resolution | 0.003 | 0.000 | 0.003 | |
print.nmr_dataset | 0.762 | 0.627 | 0.652 | |
print.nmr_dataset_1D | 0.673 | 0.511 | 0.576 | |
print.nmr_dataset_peak_table | 0.751 | 0.525 | 0.645 | |
random_subsampling | 0.001 | 0.000 | 0.001 | |
save_files_to_rDolphin | 0 | 0 | 0 | |
save_profiling_output | 0 | 0 | 0 | |
sub-.nmr_dataset | 0.640 | 0.503 | 0.513 | |
sub-.nmr_dataset_1D | 0.697 | 0.609 | 0.629 | |
sub-.nmr_dataset_peak_table | 0.722 | 0.585 | 0.653 | |
tidy.nmr_dataset_1D | 0.869 | 0.526 | 0.742 | |
to_ASICS | 0.820 | 0.188 | 1.009 | |
to_ChemoSpec | 0.797 | 0.556 | 0.709 | |
validate_nmr_dataset | 1.280 | 1.134 | 1.097 | |
validate_nmr_dataset_family | 0.888 | 0.639 | 0.758 | |
validate_nmr_dataset_peak_table | 0.002 | 0.000 | 0.001 | |
zzz | 0.000 | 0.000 | 2.002 | |