Back to Multiple platform build/check report for BioC 3.20:   simplified   long
A[B]CDEFGHIJKLMNOPQRSTUVWXYZ

This page was generated on 2025-02-03 12:07 -0500 (Mon, 03 Feb 2025).

HostnameOSArch (*)R versionInstalled pkgs
nebbiolo2Linux (Ubuntu 24.04.1 LTS)x86_644.4.2 (2024-10-31) -- "Pile of Leaves" 4746
palomino8Windows Server 2022 Datacenterx644.4.2 (2024-10-31 ucrt) -- "Pile of Leaves" 4494
merida1macOS 12.7.5 Montereyx86_644.4.2 (2024-10-31) -- "Pile of Leaves" 4517
kjohnson1macOS 13.6.6 Venturaarm644.4.2 (2024-10-31) -- "Pile of Leaves" 4469
taishanLinux (openEuler 24.03 LTS)aarch644.4.2 (2024-10-31) -- "Pile of Leaves" 4400
Click on any hostname to see more info about the system (e.g. compilers)      (*) as reported by 'uname -p', except on Windows and Mac OS X

Package 170/2289HostnameOS / ArchINSTALLBUILDCHECKBUILD BIN
BindingSiteFinder 2.4.0  (landing page)
Mirko Brüggemann
Snapshot Date: 2025-01-30 13:00 -0500 (Thu, 30 Jan 2025)
git_url: https://git.bioconductor.org/packages/BindingSiteFinder
git_branch: RELEASE_3_20
git_last_commit: cc4839b
git_last_commit_date: 2024-10-29 11:02:23 -0500 (Tue, 29 Oct 2024)
nebbiolo2Linux (Ubuntu 24.04.1 LTS) / x86_64  OK    OK    OK  UNNEEDED, same version is already published
palomino8Windows Server 2022 Datacenter / x64  OK    OK    OK    OK  UNNEEDED, same version is already published
merida1macOS 12.7.5 Monterey / x86_64  OK    OK    OK    OK  UNNEEDED, same version is already published
kjohnson1macOS 13.6.6 Ventura / arm64  OK    OK    OK    OK  UNNEEDED, same version is already published
taishanLinux (openEuler 24.03 LTS) / aarch64  OK    OK    ERROR  


CHECK results for BindingSiteFinder on merida1

To the developers/maintainers of the BindingSiteFinder package:
- Allow up to 24 hours (and sometimes 48 hours) for your latest push to git@git.bioconductor.org:packages/BindingSiteFinder.git to reflect on this report. See Troubleshooting Build Report for more information.
- Use the following Renviron settings to reproduce errors and warnings.
- If 'R CMD check' started to fail recently on the Linux builder(s) over a missing dependency, add the missing dependency to 'Suggests:' in your DESCRIPTION file. See Renviron.bioc for more information.

raw results


Summary

Package: BindingSiteFinder
Version: 2.4.0
Command: /Library/Frameworks/R.framework/Resources/bin/R CMD check --install=check:BindingSiteFinder.install-out.txt --library=/Library/Frameworks/R.framework/Resources/library --no-vignettes --timings BindingSiteFinder_2.4.0.tar.gz
StartedAt: 2025-01-31 00:39:42 -0500 (Fri, 31 Jan 2025)
EndedAt: 2025-01-31 01:12:30 -0500 (Fri, 31 Jan 2025)
EllapsedTime: 1967.8 seconds
RetCode: 0
Status:   OK  
CheckDir: BindingSiteFinder.Rcheck
Warnings: 0

Command output

##############################################################################
##############################################################################
###
### Running command:
###
###   /Library/Frameworks/R.framework/Resources/bin/R CMD check --install=check:BindingSiteFinder.install-out.txt --library=/Library/Frameworks/R.framework/Resources/library --no-vignettes --timings BindingSiteFinder_2.4.0.tar.gz
###
##############################################################################
##############################################################################


* using log directory ‘/Users/biocbuild/bbs-3.20-bioc/meat/BindingSiteFinder.Rcheck’
* using R version 4.4.2 (2024-10-31)
* using platform: x86_64-apple-darwin20
* R was compiled by
    Apple clang version 14.0.0 (clang-1400.0.29.202)
    GNU Fortran (GCC) 12.2.0
* running under: macOS Monterey 12.7.6
* using session charset: UTF-8
* using option ‘--no-vignettes’
* checking for file ‘BindingSiteFinder/DESCRIPTION’ ... OK
* checking extension type ... Package
* this is package ‘BindingSiteFinder’ version ‘2.4.0’
* package encoding: UTF-8
* checking package namespace information ... OK
* checking package dependencies ... OK
* checking if this is a source package ... OK
* checking if there is a namespace ... OK
* checking for hidden files and directories ... OK
* checking for portable file names ... OK
* checking for sufficient/correct file permissions ... OK
* checking whether package ‘BindingSiteFinder’ can be installed ... OK
* checking installed package size ... OK
* checking package directory ... OK
* checking ‘build’ directory ... OK
* checking DESCRIPTION meta-information ... OK
* checking top-level files ... OK
* checking for left-over files ... OK
* checking index information ... OK
* checking package subdirectories ... OK
* checking code files for non-ASCII characters ... OK
* checking R files for syntax errors ... OK
* checking whether the package can be loaded ... OK
* checking whether the package can be loaded with stated dependencies ... OK
* checking whether the package can be unloaded cleanly ... OK
* checking whether the namespace can be loaded with stated dependencies ... OK
* checking whether the namespace can be unloaded cleanly ... OK
* checking dependencies in R code ... OK
* checking S3 generic/method consistency ... OK
* checking replacement functions ... OK
* checking foreign function calls ... OK
* checking R code for possible problems ... OK
* checking Rd files ... OK
* checking Rd metadata ... OK
* checking Rd cross-references ... OK
* checking for missing documentation entries ... OK
* checking for code/documentation mismatches ... OK
* checking Rd \usage sections ... OK
* checking Rd contents ... OK
* checking for unstated dependencies in examples ... OK
* checking files in ‘vignettes’ ... OK
* checking examples ... OK
Examples with CPU (user + system) or elapsed time > 5s
                                 user system elapsed
quickFigure                    75.904  0.668  79.361
processingStepsFlowChart       65.109  2.595  75.675
bindingSiteDefinednessPlot     64.165  1.093 112.122
BSFind                         63.175  0.720  65.436
calculateBsFoldChange          41.731  3.768  83.094
plotBsVolcano                  26.304  2.471  31.260
plotBsMA                       27.366  0.337  28.115
estimateBsWidth                21.722  2.511  25.116
estimateBsWidthPlot            20.796  0.292  21.820
bindingSiteCoveragePlot        16.947  0.571  18.439
rangeCoveragePlot              14.082  0.151  14.316
plotBsBackgroundFilter         12.680  0.241  13.296
calculateBsBackground          11.099  0.297  18.909
mergeSummaryPlot                9.144  0.089   9.995
filterBsBackground              9.052  0.084   9.428
reproducibilityScatterPlot      8.614  0.057   8.717
supportRatioPlot                8.338  0.065   8.659
supportRatio                    7.885  0.073   8.274
combineBSF                      7.034  0.212   7.611
geneOverlapsPlot                6.779  0.093   7.141
transcriptRegionOverlapsPlot    6.428  0.051   6.681
transcriptRegionSpectrumPlot    6.334  0.030   6.419
reproducibilityCutoffPlot       6.082  0.144   6.267
assignToTranscriptRegions       6.035  0.061   6.719
makeBindingSites                5.957  0.059   6.810
imputeBsDifferencesForTestdata  5.606  0.071   5.918
targetGeneSpectrumPlot          5.556  0.042   5.806
assignToGenes                   5.211  0.053   5.542
* checking for unstated dependencies in ‘tests’ ... OK
* checking tests ...
  Running ‘testthat.R’
 OK
* checking for unstated dependencies in vignettes ... OK
* checking package vignettes ... OK
* checking running R code from vignettes ... SKIPPED
* checking re-building of vignette outputs ... SKIPPED
* checking PDF version of manual ... OK
* DONE

Status: OK


Installation output

BindingSiteFinder.Rcheck/00install.out

##############################################################################
##############################################################################
###
### Running command:
###
###   /Library/Frameworks/R.framework/Resources/bin/R CMD INSTALL BindingSiteFinder
###
##############################################################################
##############################################################################


* installing to library ‘/Library/Frameworks/R.framework/Versions/4.4-x86_64/Resources/library’
* installing *source* package ‘BindingSiteFinder’ ...
** using staged installation
** R
** inst
** byte-compile and prepare package for lazy loading
** help
*** installing help indices
** building package indices
** installing vignettes
** testing if installed package can be loaded from temporary location
** testing if installed package can be loaded from final location
** testing if installed package keeps a record of temporary installation path
* DONE (BindingSiteFinder)

Tests output

BindingSiteFinder.Rcheck/tests/testthat.Rout


R version 4.4.2 (2024-10-31) -- "Pile of Leaves"
Copyright (C) 2024 The R Foundation for Statistical Computing
Platform: x86_64-apple-darwin20

R is free software and comes with ABSOLUTELY NO WARRANTY.
You are welcome to redistribute it under certain conditions.
Type 'license()' or 'licence()' for distribution details.

R is a collaborative project with many contributors.
Type 'contributors()' for more information and
'citation()' on how to cite R or R packages in publications.

Type 'demo()' for some demos, 'help()' for on-line help, or
'help.start()' for an HTML browser interface to help.
Type 'q()' to quit R.

> library("testthat")
> library("BindingSiteFinder")
Loading required package: GenomicRanges
Loading required package: stats4
Loading required package: BiocGenerics

Attaching package: 'BiocGenerics'

The following objects are masked from 'package:stats':

    IQR, mad, sd, var, xtabs

The following objects are masked from 'package:base':

    Filter, Find, Map, Position, Reduce, anyDuplicated, aperm, append,
    as.data.frame, basename, cbind, colnames, dirname, do.call,
    duplicated, eval, evalq, get, grep, grepl, intersect, is.unsorted,
    lapply, mapply, match, mget, order, paste, pmax, pmax.int, pmin,
    pmin.int, rank, rbind, rownames, sapply, saveRDS, setdiff, table,
    tapply, union, unique, unsplit, which.max, which.min

Loading required package: S4Vectors

Attaching package: 'S4Vectors'

The following object is masked from 'package:utils':

    findMatches

The following objects are masked from 'package:base':

    I, expand.grid, unname

Loading required package: IRanges
Loading required package: GenomeInfoDb
> test_check("BindingSiteFinder")
[1] "make bs"
[1] "calc ratio"
[1] "make bs"
[1] "calc ratio"
[ FAIL 0 | WARN 1 | SKIP 0 | PASS 239 ]

[ FAIL 0 | WARN 1 | SKIP 0 | PASS 239 ]
> 
> proc.time()
   user  system elapsed 
638.594   6.097 664.591 

Example timings

BindingSiteFinder.Rcheck/BindingSiteFinder-Ex.timings

nameusersystemelapsed
BSFDataSet0.3690.0120.435
BSFind63.175 0.72065.436
add-BSFDataSet4.7850.0764.924
annotateWithScore3.4950.0383.841
assignToGenes5.2110.0535.542
assignToTranscriptRegions6.0350.0616.719
bindingSiteCoveragePlot16.947 0.57118.439
bindingSiteDefinednessPlot 64.165 1.093112.122
calculateBsBackground11.099 0.29718.909
calculateBsFoldChange41.731 3.76883.094
calculateSignalToFlankScore3.2920.0953.728
clipCoverage4.2030.0794.627
collapseReplicates0.3070.0210.340
combineBSF7.0340.2127.611
coverageOverRanges2.2160.0262.279
duplicatedSitesPlot1.3940.0661.526
estimateBsWidth21.722 2.51125.116
estimateBsWidthPlot20.796 0.29221.820
exportTargetGenes0.0370.0040.073
exportToBED0.0380.0030.043
filterBsBackground9.0520.0849.428
geneOverlapsPlot6.7790.0937.141
getMeta0.0450.0030.047
getName0.0380.0020.040
getRanges0.0740.0050.079
getSignal0.1340.0070.142
getSummary2.7160.0282.791
globalScorePlot3.4850.1083.708
imputeBsDifferencesForTestdata5.6060.0715.918
makeBindingSites5.9570.0596.810
makeBsSummaryPlot3.1200.0383.719
mergeCrosslinkDiagnosticsPlot3.4890.0323.772
mergeSummaryPlot9.1440.0899.995
plotBsBackgroundFilter12.680 0.24113.296
plotBsMA27.366 0.33728.115
plotBsVolcano26.304 2.47131.260
processingStepsFlowChart65.109 2.59575.675
processingStepsTable0.1180.0030.121
pureClipGeneWiseFilter0.8480.0300.886
pureClipGlobalFilter0.1140.0030.129
pureClipGlobalFilterPlot0.6240.0060.666
quickFigure75.904 0.66879.361
rangeCoveragePlot14.082 0.15114.316
reproducibilityCutoffPlot6.0820.1446.267
reproducibilityFilter3.6560.0673.737
reproducibilityFilterPlot4.6240.0334.670
reproducibilitySamplesPlot4.1540.0204.246
reproducibilityScatterPlot8.6140.0578.717
setMeta0.0500.0020.052
setName0.0400.0020.042
setRanges0.1010.0020.103
setSignal0.1040.0020.106
setSummary0.0410.0020.043
show0.0400.0030.042
subset-BSFDataSet0.0710.0020.073
summary0.0870.0030.091
supportRatio7.8850.0738.274
supportRatioPlot8.3380.0658.659
targetGeneSpectrumPlot5.5560.0425.806
transcriptRegionOverlapsPlot6.4280.0516.681
transcriptRegionSpectrumPlot6.3340.0306.419