Back to Multiple platform build/check report for BioC 3.20:   simplified   long
AB[C]DEFGHIJKLMNOPQRSTUVWXYZ

This page was generated on 2024-11-20 12:05 -0500 (Wed, 20 Nov 2024).

HostnameOSArch (*)R versionInstalled pkgs
teran2Linux (Ubuntu 24.04.1 LTS)x86_644.4.2 (2024-10-31) -- "Pile of Leaves" 4481
nebbiolo2Linux (Ubuntu 24.04.1 LTS)x86_644.4.2 (2024-10-31) -- "Pile of Leaves" 4479
palomino8Windows Server 2022 Datacenterx644.4.2 (2024-10-31 ucrt) -- "Pile of Leaves" 4359
lconwaymacOS 12.7.1 Montereyx86_644.4.1 (2024-06-14) -- "Race for Your Life" 4539
kunpeng2Linux (openEuler 22.03 LTS-SP1)aarch644.4.1 (2024-06-14) -- "Race for Your Life" 4493
Click on any hostname to see more info about the system (e.g. compilers)      (*) as reported by 'uname -p', except on Windows and Mac OS X

Package 266/2289HostnameOS / ArchINSTALLBUILDCHECKBUILD BIN
CAGEr 2.12.0  (landing page)
Charles Plessy
Snapshot Date: 2024-11-19 13:40 -0500 (Tue, 19 Nov 2024)
git_url: https://git.bioconductor.org/packages/CAGEr
git_branch: RELEASE_3_20
git_last_commit: 492797d
git_last_commit_date: 2024-10-29 09:44:43 -0500 (Tue, 29 Oct 2024)
teran2Linux (Ubuntu 24.04.1 LTS) / x86_64  OK    OK    OK  UNNEEDED, same version is already published
nebbiolo2Linux (Ubuntu 24.04.1 LTS) / x86_64  OK    OK    OK  
palomino8Windows Server 2022 Datacenter / x64  OK    OK    OK    OK  UNNEEDED, same version is already published
lconwaymacOS 12.7.1 Monterey / x86_64  OK    OK    OK    OK  UNNEEDED, same version is already published
kunpeng2Linux (openEuler 22.03 LTS-SP1) / aarch64  OK    OK    OK  


CHECK results for CAGEr on lconway

To the developers/maintainers of the CAGEr package:
- Allow up to 24 hours (and sometimes 48 hours) for your latest push to git@git.bioconductor.org:packages/CAGEr.git to reflect on this report. See Troubleshooting Build Report for more information.
- Use the following Renviron settings to reproduce errors and warnings.
- If 'R CMD check' started to fail recently on the Linux builder(s) over a missing dependency, add the missing dependency to 'Suggests:' in your DESCRIPTION file. See Renviron.bioc for more information.

raw results


Summary

Package: CAGEr
Version: 2.12.0
Command: /Library/Frameworks/R.framework/Resources/bin/R CMD check --install=check:CAGEr.install-out.txt --library=/Library/Frameworks/R.framework/Resources/library --no-vignettes --timings CAGEr_2.12.0.tar.gz
StartedAt: 2024-11-19 20:12:50 -0500 (Tue, 19 Nov 2024)
EndedAt: 2024-11-19 20:24:46 -0500 (Tue, 19 Nov 2024)
EllapsedTime: 716.9 seconds
RetCode: 0
Status:   OK  
CheckDir: CAGEr.Rcheck
Warnings: 0

Command output

##############################################################################
##############################################################################
###
### Running command:
###
###   /Library/Frameworks/R.framework/Resources/bin/R CMD check --install=check:CAGEr.install-out.txt --library=/Library/Frameworks/R.framework/Resources/library --no-vignettes --timings CAGEr_2.12.0.tar.gz
###
##############################################################################
##############################################################################


* using log directory ‘/Users/biocbuild/bbs-3.20-bioc/meat/CAGEr.Rcheck’
* using R version 4.4.1 (2024-06-14)
* using platform: x86_64-apple-darwin20
* R was compiled by
    Apple clang version 14.0.0 (clang-1400.0.29.202)
    GNU Fortran (GCC) 12.2.0
* running under: macOS Monterey 12.7.6
* using session charset: UTF-8
* using option ‘--no-vignettes’
* checking for file ‘CAGEr/DESCRIPTION’ ... OK
* this is package ‘CAGEr’ version ‘2.12.0’
* package encoding: UTF-8
* checking package namespace information ... OK
* checking package dependencies ...Warning: unable to access index for repository https://CRAN.R-project.org/src/contrib:
  cannot open URL 'https://CRAN.R-project.org/src/contrib/PACKAGES'
 OK
* checking if this is a source package ... OK
* checking if there is a namespace ... OK
* checking for hidden files and directories ... OK
* checking for portable file names ... OK
* checking for sufficient/correct file permissions ... OK
* checking whether package ‘CAGEr’ can be installed ... OK
* checking installed package size ... OK
* checking package directory ... OK
* checking ‘build’ directory ... OK
* checking DESCRIPTION meta-information ... OK
* checking top-level files ... OK
* checking for left-over files ... OK
* checking index information ... OK
* checking package subdirectories ... OK
* checking code files for non-ASCII characters ... OK
* checking R files for syntax errors ... OK
* checking whether the package can be loaded ... OK
* checking whether the package can be loaded with stated dependencies ... OK
* checking whether the package can be unloaded cleanly ... OK
* checking whether the namespace can be loaded with stated dependencies ... OK
* checking whether the namespace can be unloaded cleanly ... OK
* checking dependencies in R code ... OK
* checking S3 generic/method consistency ... OK
* checking replacement functions ... OK
* checking foreign function calls ... OK
* checking R code for possible problems ... OK
* checking Rd files ... OK
* checking Rd metadata ... OK
* checking Rd cross-references ... OK
* checking for missing documentation entries ... OK
* checking for code/documentation mismatches ... OK
* checking Rd \usage sections ... OK
* checking Rd contents ... OK
* checking for unstated dependencies in examples ... OK
* checking contents of ‘data’ directory ... OK
* checking data for non-ASCII characters ... OK
* checking LazyData ... OK
* checking data for ASCII and uncompressed saves ... OK
* checking files in ‘vignettes’ ... OK
* checking examples ... OK
Examples with CPU (user + system) or elapsed time > 5s
                         user system elapsed
paraclu                34.904  0.070  35.027
exportToTrack          30.029  0.158  30.276
aggregateTagClusters   17.725  0.115  17.889
scoreShift             14.164  0.196  14.403
annotateCTSS           11.116  0.065  11.237
quantilePositions       9.980  0.031  10.022
distclu                 7.803  0.036   7.860
plotExpressionProfiles  5.548  0.119   5.675
* checking for unstated dependencies in vignettes ... OK
* checking package vignettes ... OK
* checking running R code from vignettes ... SKIPPED
* checking re-building of vignette outputs ... SKIPPED
* checking PDF version of manual ... OK
* DONE

Status: OK


Installation output

CAGEr.Rcheck/00install.out

##############################################################################
##############################################################################
###
### Running command:
###
###   /Library/Frameworks/R.framework/Resources/bin/R CMD INSTALL CAGEr
###
##############################################################################
##############################################################################


* installing to library ‘/Library/Frameworks/R.framework/Versions/4.4-x86_64/Resources/library’
* installing *source* package ‘CAGEr’ ...
** using staged installation
** R
** data
*** moving datasets to lazyload DB
** inst
** byte-compile and prepare package for lazy loading
** help
*** installing help indices
** building package indices
** installing vignettes
** testing if installed package can be loaded from temporary location
** testing if installed package can be loaded from final location
** testing if installed package keeps a record of temporary installation path
* DONE (CAGEr)

Tests output


Example timings

CAGEr.Rcheck/CAGEr-Ex.timings

nameusersystemelapsed
CAGEexp-class4.0170.7464.807
CAGEr_Multicore2.9520.0142.975
CTSS-class0.2100.0020.214
CTSScoordinates0.0640.0020.067
CTSSnormalizedTpm0.5670.0160.583
CTSStagCount0.5650.0680.634
CTSStoGenes0.4040.0330.439
CustomConsensusClusters3.9460.0183.971
GeneExpDESeq20.3990.0110.412
GeneExpSE0.0030.0000.003
QuantileWidthFunctions0.1390.0030.142
TSSlogo2.2120.0452.276
aggregateTagClusters17.725 0.11517.889
annotateCTSS11.116 0.06511.237
byCtss0.0140.0000.014
consensusClusters0.1240.0020.126
consensusClustersDESeq21.7130.0071.725
consensusClustersTpm0.0040.0010.005
cumulativeCTSSdistribution3.2870.0403.339
distclu7.8030.0367.860
dot-ctss_summary_for_clusters0.7070.0040.713
exampleCAGEexp0.0010.0010.000
exportToTrack30.029 0.15830.276
expressionClasses1.6140.0061.625
filteredCTSSidx0.0080.0000.008
flagLowExpCTSS0.0280.0000.028
genomeName000
getCTSS0.8430.0130.857
getExpressionProfiles4.5000.0204.526
getShiftingPromoters1.5140.0051.519
hanabi0.1940.0060.201
hanabiPlot0.2610.0120.278
import.CAGEscanMolecule000
import.CTSS0.0630.0020.064
import.bam000
import.bedCTSS000
import.bedScore000
import.bedmolecule000
importPublicData0.0010.0010.001
inputFiles0.0010.0000.002
inputFilesType0.0010.0000.001
librarySizes0.0010.0010.001
mapStats0.0430.0040.047
mergeCAGEsets1.7450.0171.763
mergeSamples0.4530.0050.459
moleculesGR2CTSS0.1000.0010.101
normalizeTagCount0.4460.0040.452
paraclu34.904 0.07035.027
parseCAGEscanBlocksToGrangeTSS0.0160.0010.018
plotAnnot1.6990.0291.732
plotCorrelation0.1930.0040.198
plotExpressionProfiles5.5480.1195.675
plotInterquantileWidth1.5930.0081.603
plotReverseCumulatives1.6970.0081.708
quantilePositions 9.980 0.03110.022
quickEnhancers0.0000.0000.001
ranges2annot0.2610.0010.263
ranges2genes0.0430.0000.044
ranges2names0.0450.0010.045
resetCAGEexp0.2460.0010.248
rowSums.RleDataFrame0.0170.0000.018
rowsum.RleDataFrame0.0200.0010.020
sampleLabels0.0030.0000.003
scoreShift14.164 0.19614.403
seqNameTotalsSE0.0030.0000.004
setColors0.3130.0020.316
strandInvaders0.5640.0520.617
summariseChrExpr0.3840.0070.392
tagClusters0.3110.0040.316