Back to Multiple platform build/check report for BioC 3.20:   simplified   long
AB[C]DEFGHIJKLMNOPQRSTUVWXYZ

This page was generated on 2025-02-03 12:11 -0500 (Mon, 03 Feb 2025).

HostnameOSArch (*)R versionInstalled pkgs
nebbiolo2Linux (Ubuntu 24.04.1 LTS)x86_644.4.2 (2024-10-31) -- "Pile of Leaves" 4746
palomino8Windows Server 2022 Datacenterx644.4.2 (2024-10-31 ucrt) -- "Pile of Leaves" 4494
merida1macOS 12.7.5 Montereyx86_644.4.2 (2024-10-31) -- "Pile of Leaves" 4517
kjohnson1macOS 13.6.6 Venturaarm644.4.2 (2024-10-31) -- "Pile of Leaves" 4469
taishanLinux (openEuler 24.03 LTS)aarch644.4.2 (2024-10-31) -- "Pile of Leaves" 4400
Click on any hostname to see more info about the system (e.g. compilers)      (*) as reported by 'uname -p', except on Windows and Mac OS X

Package 266/2289HostnameOS / ArchINSTALLBUILDCHECKBUILD BIN
CAGEr 2.12.0  (landing page)
Charles Plessy
Snapshot Date: 2025-01-30 13:00 -0500 (Thu, 30 Jan 2025)
git_url: https://git.bioconductor.org/packages/CAGEr
git_branch: RELEASE_3_20
git_last_commit: 492797d
git_last_commit_date: 2024-10-29 09:44:43 -0500 (Tue, 29 Oct 2024)
nebbiolo2Linux (Ubuntu 24.04.1 LTS) / x86_64  OK    OK    OK  UNNEEDED, same version is already published
palomino8Windows Server 2022 Datacenter / x64  OK    OK    OK    OK  UNNEEDED, same version is already published
merida1macOS 12.7.5 Monterey / x86_64  OK    OK    OK    OK  UNNEEDED, same version is already published
kjohnson1macOS 13.6.6 Ventura / arm64  OK    OK    OK    OK  UNNEEDED, same version is already published
taishanLinux (openEuler 24.03 LTS) / aarch64  OK    OK    OK  


CHECK results for CAGEr on taishan

To the developers/maintainers of the CAGEr package:
- Allow up to 24 hours (and sometimes 48 hours) for your latest push to git@git.bioconductor.org:packages/CAGEr.git to reflect on this report. See Troubleshooting Build Report for more information.
- Use the following Renviron settings to reproduce errors and warnings.
- If 'R CMD check' started to fail recently on the Linux builder(s) over a missing dependency, add the missing dependency to 'Suggests:' in your DESCRIPTION file. See Renviron.bioc for more information.
- See Martin Grigorov's blog post for how to debug Linux ARM64 related issues on a x86_64 host.

raw results


Summary

Package: CAGEr
Version: 2.12.0
Command: /home/biocbuild/R/R/bin/R CMD check --install=check:CAGEr.install-out.txt --library=/home/biocbuild/R/R/site-library --no-vignettes --timings CAGEr_2.12.0.tar.gz
StartedAt: 2025-01-31 04:36:08 -0000 (Fri, 31 Jan 2025)
EndedAt: 2025-01-31 04:49:17 -0000 (Fri, 31 Jan 2025)
EllapsedTime: 788.7 seconds
RetCode: 0
Status:   OK  
CheckDir: CAGEr.Rcheck
Warnings: 0

Command output

##############################################################################
##############################################################################
###
### Running command:
###
###   /home/biocbuild/R/R/bin/R CMD check --install=check:CAGEr.install-out.txt --library=/home/biocbuild/R/R/site-library --no-vignettes --timings CAGEr_2.12.0.tar.gz
###
##############################################################################
##############################################################################


* using log directory ‘/home/biocbuild/bbs-3.20-bioc/meat/CAGEr.Rcheck’
* using R version 4.4.2 (2024-10-31)
* using platform: aarch64-unknown-linux-gnu
* R was compiled by
    aarch64-unknown-linux-gnu-gcc (GCC) 14.2.0
    GNU Fortran (GCC) 12.3.1 (openEuler 12.3.1-36.oe2403)
* running under: openEuler 24.03 (LTS)
* using session charset: UTF-8
* using option ‘--no-vignettes’
* checking for file ‘CAGEr/DESCRIPTION’ ... OK
* this is package ‘CAGEr’ version ‘2.12.0’
* package encoding: UTF-8
* checking package namespace information ... OK
* checking package dependencies ... OK
* checking if this is a source package ... OK
* checking if there is a namespace ... OK
* checking for hidden files and directories ... OK
* checking for portable file names ... OK
* checking for sufficient/correct file permissions ... OK
* checking whether package ‘CAGEr’ can be installed ... OK
* checking installed package size ... OK
* checking package directory ... OK
* checking ‘build’ directory ... OK
* checking DESCRIPTION meta-information ... OK
* checking top-level files ... OK
* checking for left-over files ... OK
* checking index information ... OK
* checking package subdirectories ... OK
* checking code files for non-ASCII characters ... OK
* checking R files for syntax errors ... OK
* checking whether the package can be loaded ... OK
* checking whether the package can be loaded with stated dependencies ... OK
* checking whether the package can be unloaded cleanly ... OK
* checking whether the namespace can be loaded with stated dependencies ... OK
* checking whether the namespace can be unloaded cleanly ... OK
* checking loading without being on the library search path ... OK
* checking dependencies in R code ... OK
* checking S3 generic/method consistency ... OK
* checking replacement functions ... OK
* checking foreign function calls ... OK
* checking R code for possible problems ... OK
* checking Rd files ... OK
* checking Rd metadata ... OK
* checking Rd cross-references ... OK
* checking for missing documentation entries ... OK
* checking for code/documentation mismatches ... OK
* checking Rd \usage sections ... OK
* checking Rd contents ... OK
* checking for unstated dependencies in examples ... OK
* checking contents of ‘data’ directory ... OK
* checking data for non-ASCII characters ... OK
* checking LazyData ... OK
* checking data for ASCII and uncompressed saves ... OK
* checking files in ‘vignettes’ ... OK
* checking examples ... OK
Examples with CPU (user + system) or elapsed time > 5s
                             user system elapsed
paraclu                    73.995  0.283  74.502
exportToTrack              63.100  0.183  63.459
aggregateTagClusters       35.053  0.100  35.257
scoreShift                 25.915  0.167  26.163
annotateCTSS               21.257  0.088  21.408
quantilePositions          19.741  0.036  19.839
distclu                    16.369  0.084  16.501
plotExpressionProfiles     10.726  0.155  10.916
getExpressionProfiles       8.480  0.032   8.540
CustomConsensusClusters     8.198  0.012   8.236
cumulativeCTSSdistribution  6.092  0.068   6.178
* checking for unstated dependencies in vignettes ... OK
* checking package vignettes ... OK
* checking running R code from vignettes ... SKIPPED
* checking re-building of vignette outputs ... SKIPPED
* checking PDF version of manual ... OK
* DONE

Status: OK


Installation output

CAGEr.Rcheck/00install.out

##############################################################################
##############################################################################
###
### Running command:
###
###   /home/biocbuild/R/R/bin/R CMD INSTALL CAGEr
###
##############################################################################
##############################################################################


* installing to library ‘/home/biocbuild/R/R-4.4.2/site-library’
* installing *source* package ‘CAGEr’ ...
** using staged installation
** R
** data
*** moving datasets to lazyload DB
** inst
** byte-compile and prepare package for lazy loading
** help
*** installing help indices
** building package indices
** installing vignettes
** testing if installed package can be loaded from temporary location
** testing if installed package can be loaded from final location
** testing if installed package keeps a record of temporary installation path
* DONE (CAGEr)

Tests output


Example timings

CAGEr.Rcheck/CAGEr-Ex.timings

nameusersystemelapsed
CAGEexp-class3.8970.0443.985
CAGEr_Multicore3.5120.0083.530
CTSS-class0.4170.0000.419
CTSScoordinates0.1390.0040.143
CTSSnormalizedTpm1.1600.0681.231
CTSStagCount1.0370.1071.148
CTSStoGenes0.5620.0680.630
CustomConsensusClusters8.1980.0128.236
GeneExpDESeq20.7250.0120.739
GeneExpSE0.0060.0000.006
QuantileWidthFunctions0.2370.0080.246
TSSlogo4.3640.0204.416
aggregateTagClusters35.053 0.10035.257
annotateCTSS21.257 0.08821.408
byCtss0.0140.0070.021
consensusClusters0.2460.0000.246
consensusClustersDESeq23.6080.0313.651
consensusClustersTpm0.0100.0000.009
cumulativeCTSSdistribution6.0920.0686.178
distclu16.369 0.08416.501
dot-ctss_summary_for_clusters1.3740.0001.377
exampleCAGEexp000
exportToTrack63.100 0.18363.459
expressionClasses3.5330.0163.559
filteredCTSSidx0.0150.0000.015
flagLowExpCTSS0.0550.0000.055
genomeName000
getCTSS1.5410.0041.549
getExpressionProfiles8.4800.0328.540
getShiftingPromoters3.4480.0003.458
hanabi0.3640.0000.365
hanabiPlot0.4240.0080.433
import.CAGEscanMolecule000
import.CTSS0.1270.0000.128
import.bam000
import.bedCTSS000
import.bedScore000
import.bedmolecule0.0000.0000.001
importPublicData000
inputFiles0.0020.0000.002
inputFilesType0.0020.0000.002
librarySizes0.0020.0000.002
mapStats0.0770.0040.082
mergeCAGEsets3.3620.0163.388
mergeSamples0.7440.0000.746
moleculesGR2CTSS0.2030.0000.203
normalizeTagCount0.7390.0000.737
paraclu73.995 0.28374.502
parseCAGEscanBlocksToGrangeTSS0.0310.0030.034
plotAnnot3.3000.0403.351
plotCorrelation0.3650.0160.383
plotExpressionProfiles10.726 0.15510.916
plotInterquantileWidth4.3240.0964.433
plotReverseCumulatives3.1410.0523.193
quantilePositions19.741 0.03619.839
quickEnhancers000
ranges2annot0.5400.0000.541
ranges2genes0.0840.0000.084
ranges2names0.0810.0000.082
resetCAGEexp0.4610.0000.463
rowSums.RleDataFrame0.0250.0040.029
rowsum.RleDataFrame0.0320.0000.032
sampleLabels0.0050.0000.005
scoreShift25.915 0.16726.163
seqNameTotalsSE0.0060.0000.005
setColors0.4230.0000.424
strandInvaders0.8190.0240.843
summariseChrExpr0.5290.0000.532
tagClusters0.5460.0000.547