Back to Multiple platform build/check report for BioC 3.20:   simplified   long
AB[C]DEFGHIJKLMNOPQRSTUVWXYZ

This page was generated on 2025-02-03 12:06 -0500 (Mon, 03 Feb 2025).

HostnameOSArch (*)R versionInstalled pkgs
nebbiolo2Linux (Ubuntu 24.04.1 LTS)x86_644.4.2 (2024-10-31) -- "Pile of Leaves" 4746
palomino8Windows Server 2022 Datacenterx644.4.2 (2024-10-31 ucrt) -- "Pile of Leaves" 4494
merida1macOS 12.7.5 Montereyx86_644.4.2 (2024-10-31) -- "Pile of Leaves" 4517
kjohnson1macOS 13.6.6 Venturaarm644.4.2 (2024-10-31) -- "Pile of Leaves" 4469
taishanLinux (openEuler 24.03 LTS)aarch644.4.2 (2024-10-31) -- "Pile of Leaves" 4400
Click on any hostname to see more info about the system (e.g. compilers)      (*) as reported by 'uname -p', except on Windows and Mac OS X

Package 441/2289HostnameOS / ArchINSTALLBUILDCHECKBUILD BIN
CoSIA 1.6.0  (landing page)
Amanda D. Clark
Snapshot Date: 2025-01-30 13:00 -0500 (Thu, 30 Jan 2025)
git_url: https://git.bioconductor.org/packages/CoSIA
git_branch: RELEASE_3_20
git_last_commit: dfc812d
git_last_commit_date: 2024-10-29 11:34:25 -0500 (Tue, 29 Oct 2024)
nebbiolo2Linux (Ubuntu 24.04.1 LTS) / x86_64  OK    OK    OK  UNNEEDED, same version is already published
palomino8Windows Server 2022 Datacenter / x64  OK    OK    OK    OK  UNNEEDED, same version is already published
merida1macOS 12.7.5 Monterey / x86_64  OK    OK    TIMEOUT    OK  
kjohnson1macOS 13.6.6 Ventura / arm64  OK    OK    OK    OK  UNNEEDED, same version is already published
taishanLinux (openEuler 24.03 LTS) / aarch64  OK    OK    OK  


CHECK results for CoSIA on palomino8

To the developers/maintainers of the CoSIA package:
- Allow up to 24 hours (and sometimes 48 hours) for your latest push to git@git.bioconductor.org:packages/CoSIA.git to reflect on this report. See Troubleshooting Build Report for more information.
- Use the following Renviron settings to reproduce errors and warnings.
- If 'R CMD check' started to fail recently on the Linux builder(s) over a missing dependency, add the missing dependency to 'Suggests:' in your DESCRIPTION file. See Renviron.bioc for more information.

raw results


Summary

Package: CoSIA
Version: 1.6.0
Command: F:\biocbuild\bbs-3.20-bioc\R\bin\R.exe CMD check --no-multiarch --install=check:CoSIA.install-out.txt --library=F:\biocbuild\bbs-3.20-bioc\R\library --no-vignettes --timings CoSIA_1.6.0.tar.gz
StartedAt: 2025-01-31 00:51:55 -0500 (Fri, 31 Jan 2025)
EndedAt: 2025-01-31 01:23:51 -0500 (Fri, 31 Jan 2025)
EllapsedTime: 1916.0 seconds
RetCode: 0
Status:   OK  
CheckDir: CoSIA.Rcheck
Warnings: 0

Command output

##############################################################################
##############################################################################
###
### Running command:
###
###   F:\biocbuild\bbs-3.20-bioc\R\bin\R.exe CMD check --no-multiarch --install=check:CoSIA.install-out.txt --library=F:\biocbuild\bbs-3.20-bioc\R\library --no-vignettes --timings CoSIA_1.6.0.tar.gz
###
##############################################################################
##############################################################################


* using log directory 'F:/biocbuild/bbs-3.20-bioc/meat/CoSIA.Rcheck'
* using R version 4.4.2 (2024-10-31 ucrt)
* using platform: x86_64-w64-mingw32
* R was compiled by
    gcc.exe (GCC) 13.3.0
    GNU Fortran (GCC) 13.3.0
* running under: Windows Server 2022 x64 (build 20348)
* using session charset: UTF-8
* using option '--no-vignettes'
* checking for file 'CoSIA/DESCRIPTION' ... OK
* checking extension type ... Package
* this is package 'CoSIA' version '1.6.0'
* package encoding: UTF-8
* checking package namespace information ... OK
* checking package dependencies ... OK
* checking if this is a source package ... OK
* checking if there is a namespace ... OK
* checking for hidden files and directories ... OK
* checking for portable file names ... OK
* checking whether package 'CoSIA' can be installed ... OK
* checking installed package size ... OK
* checking package directory ... OK
* checking 'build' directory ... OK
* checking DESCRIPTION meta-information ... NOTE
License stub is invalid DCF.
* checking top-level files ... OK
* checking for left-over files ... OK
* checking index information ... OK
* checking package subdirectories ... OK
* checking code files for non-ASCII characters ... OK
* checking R files for syntax errors ... OK
* checking whether the package can be loaded ... OK
* checking whether the package can be loaded with stated dependencies ... OK
* checking whether the package can be unloaded cleanly ... OK
* checking whether the namespace can be loaded with stated dependencies ... OK
* checking whether the namespace can be unloaded cleanly ... OK
* checking dependencies in R code ... OK
* checking S3 generic/method consistency ... OK
* checking replacement functions ... OK
* checking foreign function calls ... OK
* checking R code for possible problems ... OK
* checking Rd files ... OK
* checking Rd metadata ... OK
* checking Rd cross-references ... OK
* checking for missing documentation entries ... OK
* checking for code/documentation mismatches ... OK
* checking Rd \usage sections ... OK
* checking Rd contents ... OK
* checking for unstated dependencies in examples ... OK
* checking files in 'vignettes' ... OK
* checking examples ... OK
Examples with CPU (user + system) or elapsed time > 5s
                               user system elapsed
plotCVGEx-CoSIAn-method      379.55  37.32  583.15
plotCVGEx                    336.91  25.06  361.49
getTissues                   105.97   5.51  122.30
plotSpeciesGEx-CoSIAn-method 103.52   6.87  113.79
plotDSGEx                     95.53   3.82   99.52
plotSpeciesGEx                94.82   3.06   99.02
plotTissueGEx                 91.16   2.78   94.22
plotTissueGEx-CoSIAn-method   88.88   2.74   91.95
plotDSGEx-CoSIAn-method       80.70   3.76  114.56
getGEx-CoSIAn-method          25.41   2.44   30.16
getGExMetrics-CoSIAn-method   20.47   0.79   21.39
getGEx                        19.20   0.69   20.05
getGExMetrics                 18.59   0.82   19.56
getConversion-CoSIAn-method    5.34   0.39    5.84
* checking for unstated dependencies in vignettes ... OK
* checking package vignettes ... OK
* checking running R code from vignettes ... SKIPPED
* checking re-building of vignette outputs ... SKIPPED
* checking PDF version of manual ... OK
* DONE

Status: 1 NOTE
See
  'F:/biocbuild/bbs-3.20-bioc/meat/CoSIA.Rcheck/00check.log'
for details.


Installation output

CoSIA.Rcheck/00install.out

##############################################################################
##############################################################################
###
### Running command:
###
###   F:\biocbuild\bbs-3.20-bioc\R\bin\R.exe CMD INSTALL CoSIA
###
##############################################################################
##############################################################################


* installing to library 'F:/biocbuild/bbs-3.20-bioc/R/library'
* installing *source* package 'CoSIA' ...
** using staged installation
** R
** inst
** byte-compile and prepare package for lazy loading
** help
*** installing help indices
** building package indices
** installing vignettes
** testing if installed package can be loaded from temporary location
** testing if installed package can be loaded from final location
** testing if installed package keeps a record of temporary installation path
* DONE (CoSIA)

Tests output


Example timings

CoSIA.Rcheck/CoSIA-Ex.timings

nameusersystemelapsed
CoSIA-constructor0.000.020.02
getConversion-CoSIAn-method5.340.395.84
getConversion3.250.143.39
getGEx-CoSIAn-method25.41 2.4430.16
getGEx19.20 0.6920.05
getGExMetrics-CoSIAn-method20.47 0.7921.39
getGExMetrics18.59 0.8219.56
getTissues105.97 5.51122.30
plotCVGEx-CoSIAn-method379.55 37.32583.15
plotCVGEx336.91 25.06361.49
plotDSGEx-CoSIAn-method 80.70 3.76114.56
plotDSGEx95.53 3.8299.52
plotSpeciesGEx-CoSIAn-method103.52 6.87113.79
plotSpeciesGEx94.82 3.0699.02
plotTissueGEx-CoSIAn-method88.88 2.7491.95
plotTissueGEx91.16 2.7894.22
viewCoSIAn-CoSIAn-method000
viewCoSIAn0.000.010.02