Back to Multiple platform build/check report for BioC 3.20: simplified long |
|
This page was generated on 2025-02-03 12:06 -0500 (Mon, 03 Feb 2025).
Hostname | OS | Arch (*) | R version | Installed pkgs |
---|---|---|---|---|
nebbiolo2 | Linux (Ubuntu 24.04.1 LTS) | x86_64 | 4.4.2 (2024-10-31) -- "Pile of Leaves" | 4746 |
palomino8 | Windows Server 2022 Datacenter | x64 | 4.4.2 (2024-10-31 ucrt) -- "Pile of Leaves" | 4494 |
merida1 | macOS 12.7.5 Monterey | x86_64 | 4.4.2 (2024-10-31) -- "Pile of Leaves" | 4517 |
kjohnson1 | macOS 13.6.6 Ventura | arm64 | 4.4.2 (2024-10-31) -- "Pile of Leaves" | 4469 |
taishan | Linux (openEuler 24.03 LTS) | aarch64 | 4.4.2 (2024-10-31) -- "Pile of Leaves" | 4400 |
Click on any hostname to see more info about the system (e.g. compilers) (*) as reported by 'uname -p', except on Windows and Mac OS X |
Package 648/2289 | Hostname | OS / Arch | INSTALL | BUILD | CHECK | BUILD BIN | ||||||||
EnrichmentBrowser 2.36.0 (landing page) Ludwig Geistlinger
| nebbiolo2 | Linux (Ubuntu 24.04.1 LTS) / x86_64 | OK | OK | OK | |||||||||
palomino8 | Windows Server 2022 Datacenter / x64 | OK | OK | OK | OK | |||||||||
merida1 | macOS 12.7.5 Monterey / x86_64 | OK | OK | OK | OK | |||||||||
kjohnson1 | macOS 13.6.6 Ventura / arm64 | OK | OK | OK | OK | |||||||||
taishan | Linux (openEuler 24.03 LTS) / aarch64 | OK | OK | OK | ||||||||||
To the developers/maintainers of the EnrichmentBrowser package: - Allow up to 24 hours (and sometimes 48 hours) for your latest push to git@git.bioconductor.org:packages/EnrichmentBrowser.git to reflect on this report. See Troubleshooting Build Report for more information. - Use the following Renviron settings to reproduce errors and warnings. - If 'R CMD check' started to fail recently on the Linux builder(s) over a missing dependency, add the missing dependency to 'Suggests:' in your DESCRIPTION file. See Renviron.bioc for more information. |
Package: EnrichmentBrowser |
Version: 2.36.0 |
Command: F:\biocbuild\bbs-3.20-bioc\R\bin\R.exe CMD check --no-multiarch --install=check:EnrichmentBrowser.install-out.txt --library=F:\biocbuild\bbs-3.20-bioc\R\library --no-vignettes --timings EnrichmentBrowser_2.36.0.tar.gz |
StartedAt: 2025-01-31 01:44:55 -0500 (Fri, 31 Jan 2025) |
EndedAt: 2025-01-31 01:52:17 -0500 (Fri, 31 Jan 2025) |
EllapsedTime: 442.0 seconds |
RetCode: 0 |
Status: OK |
CheckDir: EnrichmentBrowser.Rcheck |
Warnings: 0 |
############################################################################## ############################################################################## ### ### Running command: ### ### F:\biocbuild\bbs-3.20-bioc\R\bin\R.exe CMD check --no-multiarch --install=check:EnrichmentBrowser.install-out.txt --library=F:\biocbuild\bbs-3.20-bioc\R\library --no-vignettes --timings EnrichmentBrowser_2.36.0.tar.gz ### ############################################################################## ############################################################################## * using log directory 'F:/biocbuild/bbs-3.20-bioc/meat/EnrichmentBrowser.Rcheck' * using R version 4.4.2 (2024-10-31 ucrt) * using platform: x86_64-w64-mingw32 * R was compiled by gcc.exe (GCC) 13.3.0 GNU Fortran (GCC) 13.3.0 * running under: Windows Server 2022 x64 (build 20348) * using session charset: UTF-8 * using option '--no-vignettes' * checking for file 'EnrichmentBrowser/DESCRIPTION' ... OK * this is package 'EnrichmentBrowser' version '2.36.0' * package encoding: UTF-8 * checking package namespace information ... OK * checking package dependencies ... OK * checking if this is a source package ... OK * checking if there is a namespace ... OK * checking for hidden files and directories ... OK * checking for portable file names ... OK * checking whether package 'EnrichmentBrowser' can be installed ... OK * checking installed package size ... OK * checking package directory ... OK * checking 'build' directory ... OK * checking DESCRIPTION meta-information ... OK * checking top-level files ... OK * checking for left-over files ... OK * checking index information ... OK * checking package subdirectories ... OK * checking code files for non-ASCII characters ... OK * checking R files for syntax errors ... OK * checking whether the package can be loaded ... OK * checking whether the package can be loaded with stated dependencies ... OK * checking whether the package can be unloaded cleanly ... OK * checking whether the namespace can be loaded with stated dependencies ... OK * checking whether the namespace can be unloaded cleanly ... OK * checking whether startup messages can be suppressed ... OK * checking dependencies in R code ... NOTE Unexported object imported by a ':::' call: 'pathview:::parseKGML2Graph2' See the note in ?`:::` about the use of this operator. * checking S3 generic/method consistency ... OK * checking replacement functions ... OK * checking foreign function calls ... OK * checking R code for possible problems ... NOTE .getGOFromBiomart: no visible binding for global variable 'go_linkage_type' Undefined global functions or variables: go_linkage_type * checking Rd files ... OK * checking Rd metadata ... OK * checking Rd cross-references ... OK * checking for missing documentation entries ... OK * checking for code/documentation mismatches ... OK * checking Rd \usage sections ... OK * checking Rd contents ... OK * checking for unstated dependencies in examples ... OK * checking files in 'vignettes' ... OK * checking examples ... OK Examples with CPU (user + system) or elapsed time > 5s user system elapsed ebrowser 95.63 15.98 112.14 getGenesets 15.14 0.53 19.82 eaBrowse 10.62 1.79 13.74 compileGRN 6.20 0.19 6.50 import 5.36 0.20 5.56 * checking for unstated dependencies in vignettes ... OK * checking package vignettes ... OK * checking running R code from vignettes ... SKIPPED * checking re-building of vignette outputs ... SKIPPED * checking PDF version of manual ... OK * DONE Status: 2 NOTEs See 'F:/biocbuild/bbs-3.20-bioc/meat/EnrichmentBrowser.Rcheck/00check.log' for details.
EnrichmentBrowser.Rcheck/00install.out
############################################################################## ############################################################################## ### ### Running command: ### ### F:\biocbuild\bbs-3.20-bioc\R\bin\R.exe CMD INSTALL EnrichmentBrowser ### ############################################################################## ############################################################################## * installing to library 'F:/biocbuild/bbs-3.20-bioc/R/library' * installing *source* package 'EnrichmentBrowser' ... ** using staged installation ** R ** inst ** byte-compile and prepare package for lazy loading ** help *** installing help indices ** building package indices ** installing vignettes ** testing if installed package can be loaded from temporary location ** testing if installed package can be loaded from final location ** testing if installed package keeps a record of temporary installation path * DONE (EnrichmentBrowser)
EnrichmentBrowser.Rcheck/EnrichmentBrowser-Ex.timings
name | user | system | elapsed | |
combResults | 0.61 | 0.03 | 0.67 | |
compileGRN | 6.20 | 0.19 | 6.50 | |
configEBrowser | 0.02 | 0.00 | 0.01 | |
deAna | 3.97 | 0.46 | 4.66 | |
downloadPathways | 0 | 0 | 0 | |
eaBrowse | 10.62 | 1.79 | 13.74 | |
ebrowser | 95.63 | 15.98 | 112.14 | |
getGenesets | 15.14 | 0.53 | 19.82 | |
ggeaGraph | 1.98 | 0.05 | 2.04 | |
idMap | 1.58 | 0.45 | 3.54 | |
import | 5.36 | 0.20 | 5.56 | |
isAvailable | 0 | 0 | 0 | |
makeExampleData | 0.05 | 0.00 | 0.05 | |
nbea | 0.53 | 0.00 | 0.53 | |
normalize | 0.53 | 0.10 | 0.63 | |
plots | 1.94 | 1.03 | 2.31 | |
probe2gene | 0.09 | 0.00 | 0.06 | |
readSE | 0.05 | 0.03 | 0.05 | |
sbea | 0.23 | 0.00 | 0.29 | |