Back to Multiple platform build/check report for BioC 3.20:   simplified   long
ABCDEFGHIJKL[M]NOPQRSTUVWXYZ

This page was generated on 2025-02-03 12:08 -0500 (Mon, 03 Feb 2025).

HostnameOSArch (*)R versionInstalled pkgs
nebbiolo2Linux (Ubuntu 24.04.1 LTS)x86_644.4.2 (2024-10-31) -- "Pile of Leaves" 4746
palomino8Windows Server 2022 Datacenterx644.4.2 (2024-10-31 ucrt) -- "Pile of Leaves" 4494
merida1macOS 12.7.5 Montereyx86_644.4.2 (2024-10-31) -- "Pile of Leaves" 4517
kjohnson1macOS 13.6.6 Venturaarm644.4.2 (2024-10-31) -- "Pile of Leaves" 4469
taishanLinux (openEuler 24.03 LTS)aarch644.4.2 (2024-10-31) -- "Pile of Leaves" 4400
Click on any hostname to see more info about the system (e.g. compilers)      (*) as reported by 'uname -p', except on Windows and Mac OS X

Package 1349/2289HostnameOS / ArchINSTALLBUILDCHECKBUILD BIN
MsQuality 1.6.2  (landing page)
Thomas Naake
Snapshot Date: 2025-01-30 13:00 -0500 (Thu, 30 Jan 2025)
git_url: https://git.bioconductor.org/packages/MsQuality
git_branch: RELEASE_3_20
git_last_commit: b504f61
git_last_commit_date: 2025-01-27 04:40:10 -0500 (Mon, 27 Jan 2025)
nebbiolo2Linux (Ubuntu 24.04.1 LTS) / x86_64  OK    OK    OK  UNNEEDED, same version is already published
palomino8Windows Server 2022 Datacenter / x64  OK    OK    OK    OK  UNNEEDED, same version is already published
merida1macOS 12.7.5 Monterey / x86_64  OK    OK    OK    OK  UNNEEDED, same version is already published
kjohnson1macOS 13.6.6 Ventura / arm64  OK    OK    OK    OK  UNNEEDED, same version is already published
taishanLinux (openEuler 24.03 LTS) / aarch64  OK    OK    OK  


CHECK results for MsQuality on merida1

To the developers/maintainers of the MsQuality package:
- Allow up to 24 hours (and sometimes 48 hours) for your latest push to git@git.bioconductor.org:packages/MsQuality.git to reflect on this report. See Troubleshooting Build Report for more information.
- Use the following Renviron settings to reproduce errors and warnings.
- If 'R CMD check' started to fail recently on the Linux builder(s) over a missing dependency, add the missing dependency to 'Suggests:' in your DESCRIPTION file. See Renviron.bioc for more information.

raw results


Summary

Package: MsQuality
Version: 1.6.2
Command: /Library/Frameworks/R.framework/Resources/bin/R CMD check --install=check:MsQuality.install-out.txt --library=/Library/Frameworks/R.framework/Resources/library --no-vignettes --timings MsQuality_1.6.2.tar.gz
StartedAt: 2025-01-31 07:00:24 -0500 (Fri, 31 Jan 2025)
EndedAt: 2025-01-31 07:12:33 -0500 (Fri, 31 Jan 2025)
EllapsedTime: 729.2 seconds
RetCode: 0
Status:   OK  
CheckDir: MsQuality.Rcheck
Warnings: 0

Command output

##############################################################################
##############################################################################
###
### Running command:
###
###   /Library/Frameworks/R.framework/Resources/bin/R CMD check --install=check:MsQuality.install-out.txt --library=/Library/Frameworks/R.framework/Resources/library --no-vignettes --timings MsQuality_1.6.2.tar.gz
###
##############################################################################
##############################################################################


* using log directory ‘/Users/biocbuild/bbs-3.20-bioc/meat/MsQuality.Rcheck’
* using R version 4.4.2 (2024-10-31)
* using platform: x86_64-apple-darwin20
* R was compiled by
    Apple clang version 14.0.0 (clang-1400.0.29.202)
    GNU Fortran (GCC) 12.2.0
* running under: macOS Monterey 12.7.6
* using session charset: UTF-8
* using option ‘--no-vignettes’
* checking for file ‘MsQuality/DESCRIPTION’ ... OK
* checking extension type ... Package
* this is package ‘MsQuality’ version ‘1.6.2’
* package encoding: UTF-8
* checking package namespace information ... OK
* checking package dependencies ... OK
* checking if this is a source package ... OK
* checking if there is a namespace ... OK
* checking for hidden files and directories ... OK
* checking for portable file names ... OK
* checking for sufficient/correct file permissions ... OK
* checking whether package ‘MsQuality’ can be installed ... OK
* checking installed package size ... OK
* checking package directory ... OK
* checking ‘build’ directory ... OK
* checking DESCRIPTION meta-information ... OK
* checking top-level files ... OK
* checking for left-over files ... OK
* checking index information ... OK
* checking package subdirectories ... OK
* checking code files for non-ASCII characters ... OK
* checking R files for syntax errors ... OK
* checking whether the package can be loaded ... OK
* checking whether the package can be loaded with stated dependencies ... OK
* checking whether the package can be unloaded cleanly ... OK
* checking whether the namespace can be loaded with stated dependencies ... OK
* checking whether the namespace can be unloaded cleanly ... OK
* checking dependencies in R code ... OK
* checking S3 generic/method consistency ... OK
* checking replacement functions ... OK
* checking foreign function calls ... OK
* checking R code for possible problems ... OK
* checking Rd files ... OK
* checking Rd metadata ... OK
* checking Rd cross-references ... OK
* checking for missing documentation entries ... OK
* checking for code/documentation mismatches ... OK
* checking Rd \usage sections ... OK
* checking Rd contents ... OK
* checking for unstated dependencies in examples ... OK
* checking contents of ‘data’ directory ... OK
* checking data for non-ASCII characters ... OK
* checking data for ASCII and uncompressed saves ... OK
* checking files in ‘vignettes’ ... OK
* checking examples ... OK
Examples with CPU (user + system) or elapsed time > 5s
                                  user system elapsed
calculateMetrics                 9.596  1.684   9.737
calculateMetricsFromMsExperiment 6.214  1.946   6.519
plotMetric                       4.568  1.426   4.096
plotMetricTibble                 4.314  1.534   3.494
calculateMetricsFromSpectra      3.811  1.194   4.876
* checking for unstated dependencies in ‘tests’ ... OK
* checking tests ...
  Running ‘testthat.R’
 OK
* checking for unstated dependencies in vignettes ... OK
* checking package vignettes ... OK
* checking running R code from vignettes ... SKIPPED
* checking re-building of vignette outputs ... SKIPPED
* checking PDF version of manual ... OK
* DONE

Status: OK


Installation output

MsQuality.Rcheck/00install.out

##############################################################################
##############################################################################
###
### Running command:
###
###   /Library/Frameworks/R.framework/Resources/bin/R CMD INSTALL MsQuality
###
##############################################################################
##############################################################################


* installing to library ‘/Library/Frameworks/R.framework/Versions/4.4-x86_64/Resources/library’
* installing *source* package ‘MsQuality’ ...
** using staged installation
** R
** data
** inst
** byte-compile and prepare package for lazy loading
** help
*** installing help indices
** building package indices
** installing vignettes
** testing if installed package can be loaded from temporary location
** testing if installed package can be loaded from final location
** testing if installed package keeps a record of temporary installation path
* DONE (MsQuality)

Tests output

MsQuality.Rcheck/tests/testthat.Rout


R version 4.4.2 (2024-10-31) -- "Pile of Leaves"
Copyright (C) 2024 The R Foundation for Statistical Computing
Platform: x86_64-apple-darwin20

R is free software and comes with ABSOLUTELY NO WARRANTY.
You are welcome to redistribute it under certain conditions.
Type 'license()' or 'licence()' for distribution details.

R is a collaborative project with many contributors.
Type 'contributors()' for more information and
'citation()' on how to cite R or R packages in publications.

Type 'demo()' for some demos, 'help()' for on-line help, or
'help.start()' for an HTML browser interface to help.
Type 'q()' to quit R.

> library("testthat")
> library("MsQuality")
> library("Spectra")
Loading required package: S4Vectors
Loading required package: stats4
Loading required package: BiocGenerics

Attaching package: 'BiocGenerics'

The following objects are masked from 'package:stats':

    IQR, mad, sd, var, xtabs

The following objects are masked from 'package:base':

    Filter, Find, Map, Position, Reduce, anyDuplicated, aperm, append,
    as.data.frame, basename, cbind, colnames, dirname, do.call,
    duplicated, eval, evalq, get, grep, grepl, intersect, is.unsorted,
    lapply, mapply, match, mget, order, paste, pmax, pmax.int, pmin,
    pmin.int, rank, rbind, rownames, sapply, saveRDS, setdiff, table,
    tapply, union, unique, unsplit, which.max, which.min


Attaching package: 'S4Vectors'

The following object is masked from 'package:utils':

    findMatches

The following objects are masked from 'package:base':

    I, expand.grid, unname

Loading required package: BiocParallel
> library("MsExperiment")
Loading required package: ProtGenerics

Attaching package: 'ProtGenerics'

The following object is masked from 'package:stats':

    smooth

> library("msdata")
> library("S4Vectors")
> 
> test_check("MsQuality")
trying URL 'https://api.github.com/repos/HUPO-PSI/psi-ms-CV/releases/latest'
Content type 'application/json; charset=utf-8' length 7500 bytes
==================================================
downloaded 7500 bytes

trying URL 'https://github.com/HUPO-PSI/psi-ms-CV/releases/download/v4.1.189/psi-ms.obo'
Content type 'application/octet-stream' length 1008054 bytes (984 KB)
==================================================
downloaded 984 KB

[ FAIL 0 | WARN 0 | SKIP 0 | PASS 866 ]
> 
> proc.time()
   user  system elapsed 
198.172  58.701 187.119 

Example timings

MsQuality.Rcheck/MsQuality-Ex.timings

nameusersystemelapsed
MsQuality-package0.0000.0010.001
areaUnderTic0.3200.0360.374
areaUnderTicRtQuantiles0.4200.0220.445
calculateMetrics9.5961.6849.737
calculateMetricsFromMsExperiment6.2141.9466.519
calculateMetricsFromOneSampleSpectra3.3610.5284.132
calculateMetricsFromSpectra3.8111.1944.876
chromatographyDuration3.3110.9360.277
dot-rtOrderSpectra0.2110.0310.243
extentIdentifiedPrecursorIntensity0.1820.0230.205
meanCharge0.1820.0200.201
medianCharge0.1820.0200.205
medianPrecursorMz0.1820.0200.203
medianTicOfRtRange0.1930.0220.216
medianTicRtIqr0.1830.0230.207
msSignal10xChange0.1840.0260.211
mzAcquisitionRange0.1800.0190.203
numberEmptyScans0.1980.0210.222
numberSpectra0.1990.0300.232
plotMetric4.5681.4264.096
plotMetricTibble4.3141.5343.494
precursorIntensityMean0.1890.0200.209
precursorIntensityQuartiles0.1870.0190.208
precursorIntensityRange0.1910.0190.213
precursorIntensitySd0.1870.0190.208
qualityMetrics0.1870.0160.210
ratioCharge1over20.1920.0180.378
ratioCharge3over20.1800.0180.215
ratioCharge4over20.1850.0190.212
rtAcquisitionRange0.1920.0190.267
rtIqr0.1920.0200.221
rtIqrRate0.1910.0210.302
rtOverMsQuarters0.2010.0240.369
shinyMsQuality0.8830.3252.977
ticQuantileRtFraction3.2540.9140.302
ticQuartileToQuartileLogRatio0.1820.0290.211
transformIntoMzQC0.6200.2630.674