Back to Multiple platform build/check report for BioC 3.20: simplified long |
|
This page was generated on 2025-02-03 12:05 -0500 (Mon, 03 Feb 2025).
Hostname | OS | Arch (*) | R version | Installed pkgs |
---|---|---|---|---|
nebbiolo2 | Linux (Ubuntu 24.04.1 LTS) | x86_64 | 4.4.2 (2024-10-31) -- "Pile of Leaves" | 4746 |
palomino8 | Windows Server 2022 Datacenter | x64 | 4.4.2 (2024-10-31 ucrt) -- "Pile of Leaves" | 4494 |
merida1 | macOS 12.7.5 Monterey | x86_64 | 4.4.2 (2024-10-31) -- "Pile of Leaves" | 4517 |
kjohnson1 | macOS 13.6.6 Ventura | arm64 | 4.4.2 (2024-10-31) -- "Pile of Leaves" | 4469 |
taishan | Linux (openEuler 24.03 LTS) | aarch64 | 4.4.2 (2024-10-31) -- "Pile of Leaves" | 4400 |
Click on any hostname to see more info about the system (e.g. compilers) (*) as reported by 'uname -p', except on Windows and Mac OS X |
Package 1382/2289 | Hostname | OS / Arch | INSTALL | BUILD | CHECK | BUILD BIN | ||||||||
MutationalPatterns 3.16.0 (landing page) Mark van Roosmalen
| nebbiolo2 | Linux (Ubuntu 24.04.1 LTS) / x86_64 | OK | OK | OK | ![]() | ||||||||
palomino8 | Windows Server 2022 Datacenter / x64 | OK | OK | OK | OK | ![]() | ||||||||
merida1 | macOS 12.7.5 Monterey / x86_64 | OK | ERROR | skipped | skipped | |||||||||
kjohnson1 | macOS 13.6.6 Ventura / arm64 | OK | ERROR | skipped | skipped | |||||||||
taishan | Linux (openEuler 24.03 LTS) / aarch64 | OK | OK | OK | ||||||||||
To the developers/maintainers of the MutationalPatterns package: - Allow up to 24 hours (and sometimes 48 hours) for your latest push to git@git.bioconductor.org:packages/MutationalPatterns.git to reflect on this report. See Troubleshooting Build Report for more information. - Use the following Renviron settings to reproduce errors and warnings. - If 'R CMD check' started to fail recently on the Linux builder(s) over a missing dependency, add the missing dependency to 'Suggests:' in your DESCRIPTION file. See Renviron.bioc for more information. |
Package: MutationalPatterns |
Version: 3.16.0 |
Command: /home/biocbuild/bbs-3.20-bioc/R/bin/R CMD check --install=check:MutationalPatterns.install-out.txt --library=/home/biocbuild/bbs-3.20-bioc/R/site-library --timings MutationalPatterns_3.16.0.tar.gz |
StartedAt: 2025-01-31 00:26:01 -0500 (Fri, 31 Jan 2025) |
EndedAt: 2025-01-31 00:44:14 -0500 (Fri, 31 Jan 2025) |
EllapsedTime: 1093.2 seconds |
RetCode: 0 |
Status: OK |
CheckDir: MutationalPatterns.Rcheck |
Warnings: 0 |
############################################################################## ############################################################################## ### ### Running command: ### ### /home/biocbuild/bbs-3.20-bioc/R/bin/R CMD check --install=check:MutationalPatterns.install-out.txt --library=/home/biocbuild/bbs-3.20-bioc/R/site-library --timings MutationalPatterns_3.16.0.tar.gz ### ############################################################################## ############################################################################## * using log directory ‘/home/biocbuild/bbs-3.20-bioc/meat/MutationalPatterns.Rcheck’ * using R version 4.4.2 (2024-10-31) * using platform: x86_64-pc-linux-gnu * R was compiled by gcc (Ubuntu 13.2.0-23ubuntu4) 13.2.0 GNU Fortran (Ubuntu 13.2.0-23ubuntu4) 13.2.0 * running under: Ubuntu 24.04.1 LTS * using session charset: UTF-8 * checking for file ‘MutationalPatterns/DESCRIPTION’ ... OK * checking extension type ... Package * this is package ‘MutationalPatterns’ version ‘3.16.0’ * package encoding: UTF-8 * checking package namespace information ... OK * checking package dependencies ... OK * checking if this is a source package ... OK * checking if there is a namespace ... OK * checking for hidden files and directories ... OK * checking for portable file names ... OK * checking for sufficient/correct file permissions ... OK * checking whether package ‘MutationalPatterns’ can be installed ... OK * checking installed package size ... OK * checking package directory ... OK * checking ‘build’ directory ... OK * checking DESCRIPTION meta-information ... NOTE License stub is invalid DCF. * checking top-level files ... OK * checking for left-over files ... OK * checking index information ... OK * checking package subdirectories ... OK * checking code files for non-ASCII characters ... OK * checking R files for syntax errors ... OK * checking whether the package can be loaded ... OK * checking whether the package can be loaded with stated dependencies ... OK * checking whether the package can be unloaded cleanly ... OK * checking whether the namespace can be loaded with stated dependencies ... OK * checking whether the namespace can be unloaded cleanly ... OK * checking loading without being on the library search path ... OK * checking dependencies in R code ... OK * checking S3 generic/method consistency ... OK * checking replacement functions ... OK * checking foreign function calls ... OK * checking R code for possible problems ... OK * checking Rd files ... OK * checking Rd metadata ... OK * checking Rd cross-references ... OK * checking for missing documentation entries ... OK * checking for code/documentation mismatches ... OK * checking Rd \usage sections ... OK * checking Rd contents ... OK * checking for unstated dependencies in examples ... OK * checking files in ‘vignettes’ ... OK * checking examples ... OK Examples with CPU (user + system) or elapsed time > 5s user system elapsed read_vcfs_as_granges 20.501 3.389 27.726 context_potential_damage_analysis 21.926 0.420 22.347 plot_lesion_segregation 13.732 0.144 13.877 get_mut_type 10.422 0.001 10.423 genomic_distribution 9.849 0.115 9.965 calculate_lesion_segregation 9.557 0.164 9.722 bin_mutation_density 9.041 0.417 9.458 plot_compare_indels 7.629 0.003 7.632 plot_indel_contexts 7.351 0.053 7.404 get_indel_context 6.088 0.217 6.306 * checking for unstated dependencies in ‘tests’ ... OK * checking tests ... Running ‘testthat.R’ OK * checking for unstated dependencies in vignettes ... OK * checking package vignettes ... OK * checking re-building of vignette outputs ... OK * checking PDF version of manual ... OK * DONE Status: 1 NOTE See ‘/home/biocbuild/bbs-3.20-bioc/meat/MutationalPatterns.Rcheck/00check.log’ for details.
MutationalPatterns.Rcheck/00install.out
############################################################################## ############################################################################## ### ### Running command: ### ### /home/biocbuild/bbs-3.20-bioc/R/bin/R CMD INSTALL MutationalPatterns ### ############################################################################## ############################################################################## * installing to library ‘/home/biocbuild/bbs-3.20-bioc/R/site-library’ * installing *source* package ‘MutationalPatterns’ ... ** using staged installation ** R ** inst ** byte-compile and prepare package for lazy loading ** help *** installing help indices ** building package indices ** installing vignettes ** testing if installed package can be loaded from temporary location ** testing if installed package can be loaded from final location ** testing if installed package keeps a record of temporary installation path * DONE (MutationalPatterns)
MutationalPatterns.Rcheck/tests/testthat.Rout
R version 4.4.2 (2024-10-31) -- "Pile of Leaves" Copyright (C) 2024 The R Foundation for Statistical Computing Platform: x86_64-pc-linux-gnu R is free software and comes with ABSOLUTELY NO WARRANTY. You are welcome to redistribute it under certain conditions. Type 'license()' or 'licence()' for distribution details. R is a collaborative project with many contributors. Type 'contributors()' for more information and 'citation()' on how to cite R or R packages in publications. Type 'demo()' for some demos, 'help()' for on-line help, or 'help.start()' for an HTML browser interface to help. Type 'q()' to quit R. > library(testthat) > library(MutationalPatterns) Loading required package: GenomicRanges Loading required package: stats4 Loading required package: BiocGenerics Attaching package: 'BiocGenerics' The following objects are masked from 'package:stats': IQR, mad, sd, var, xtabs The following objects are masked from 'package:base': Filter, Find, Map, Position, Reduce, anyDuplicated, aperm, append, as.data.frame, basename, cbind, colnames, dirname, do.call, duplicated, eval, evalq, get, grep, grepl, intersect, is.unsorted, lapply, mapply, match, mget, order, paste, pmax, pmax.int, pmin, pmin.int, rank, rbind, rownames, sapply, saveRDS, setdiff, table, tapply, union, unique, unsplit, which.max, which.min Loading required package: S4Vectors Attaching package: 'S4Vectors' The following object is masked from 'package:utils': findMatches The following objects are masked from 'package:base': I, expand.grid, unname Loading required package: IRanges Loading required package: GenomeInfoDb Loading required package: NMF Loading required package: registry Loading required package: rngtools Loading required package: cluster NMF - BioConductor layer [OK] | Shared memory capabilities [NO: bigmemory] | Cores 2/2 To enable shared memory capabilities, try: install.extras(' NMF ') Attaching package: 'NMF' The following object is masked from 'package:S4Vectors': nrun The following object is masked from 'package:testthat': compare > > test_check("MutationalPatterns") [ FAIL 0 | WARN 5 | SKIP 0 | PASS 474 ] [ FAIL 0 | WARN 5 | SKIP 0 | PASS 474 ] > > proc.time() user system elapsed 197.071 9.841 216.486
MutationalPatterns.Rcheck/MutationalPatterns-Ex.timings
name | user | system | elapsed | |
bin_mutation_density | 9.041 | 0.417 | 9.458 | |
binomial_test | 0.009 | 0.000 | 0.008 | |
calculate_lesion_segregation | 9.557 | 0.164 | 9.722 | |
cluster_signatures | 0.042 | 0.001 | 0.043 | |
context_potential_damage_analysis | 21.926 | 0.420 | 22.347 | |
convert_sigs_to_ref | 0.032 | 0.002 | 0.034 | |
cos_sim | 0.000 | 0.000 | 0.001 | |
cos_sim_matrix | 0.015 | 0.001 | 0.017 | |
count_dbs_contexts | 0.076 | 0.000 | 0.077 | |
count_indel_contexts | 0.097 | 0.016 | 0.114 | |
count_mbs_contexts | 0.075 | 0.004 | 0.079 | |
determine_regional_similarity | 2.692 | 0.098 | 2.791 | |
enrichment_depletion_test | 0.126 | 0.000 | 0.126 | |
extract_signatures | 0.001 | 0.000 | 0.001 | |
fit_to_signatures | 0.084 | 0.001 | 0.086 | |
fit_to_signatures_bootstrapped | 4.834 | 0.085 | 4.919 | |
fit_to_signatures_strict | 2.763 | 0.046 | 2.809 | |
genomic_distribution | 9.849 | 0.115 | 9.965 | |
get_dbs_context | 0.221 | 0.001 | 0.223 | |
get_indel_context | 6.088 | 0.217 | 6.306 | |
get_known_signatures | 0.203 | 0.039 | 0.243 | |
get_mut_type | 10.422 | 0.001 | 10.423 | |
lengthen_mut_matrix | 0.009 | 0.001 | 0.011 | |
merge_signatures | 1.046 | 0.014 | 1.061 | |
mut_context | 1.008 | 0.038 | 1.047 | |
mut_matrix | 1.701 | 0.072 | 1.773 | |
mut_matrix_stranded | 3.701 | 0.109 | 3.811 | |
mut_strand | 0.951 | 0.010 | 0.961 | |
mut_type | 0.027 | 0.001 | 0.027 | |
mut_type_occurrences | 0.839 | 0.038 | 0.877 | |
mutations_from_vcf | 0.029 | 0.000 | 0.029 | |
plot_192_profile | 2.888 | 0.005 | 2.893 | |
plot_96_profile | 2.339 | 0.001 | 2.340 | |
plot_bootstrapped_contribution | 1.774 | 0.001 | 1.776 | |
plot_compare_dbs | 4.720 | 0.001 | 4.721 | |
plot_compare_indels | 7.629 | 0.003 | 7.632 | |
plot_compare_mbs | 0.803 | 0.001 | 0.805 | |
plot_compare_profiles | 2.086 | 0.004 | 2.091 | |
plot_contribution | 1.553 | 0.010 | 1.569 | |
plot_contribution_heatmap | 2.675 | 0.082 | 2.758 | |
plot_correlation_bootstrap | 0.429 | 0.000 | 0.429 | |
plot_cosine_heatmap | 1.629 | 0.093 | 1.722 | |
plot_dbs_contexts | 3.523 | 0.015 | 3.538 | |
plot_enrichment_depletion | 3.177 | 0.007 | 3.185 | |
plot_indel_contexts | 7.351 | 0.053 | 7.404 | |
plot_lesion_segregation | 13.732 | 0.144 | 13.877 | |
plot_main_dbs_contexts | 0.503 | 0.000 | 0.504 | |
plot_main_indel_contexts | 0.587 | 0.000 | 0.587 | |
plot_mbs_contexts | 0.471 | 0.000 | 0.472 | |
plot_original_vs_reconstructed | 0.478 | 0.001 | 0.478 | |
plot_profile_heatmap | 4.780 | 0.162 | 4.943 | |
plot_profile_region | 1.004 | 0.001 | 1.006 | |
plot_rainfall | 1.563 | 0.001 | 1.564 | |
plot_regional_similarity | 1.323 | 0.000 | 1.323 | |
plot_river | 4.505 | 0.007 | 4.512 | |
plot_signature_strand_bias | 0.685 | 0.000 | 0.684 | |
plot_spectrum | 3.877 | 0.031 | 3.908 | |
plot_spectrum_region | 4.139 | 0.035 | 4.174 | |
plot_strand | 0.217 | 0.001 | 0.218 | |
plot_strand_bias | 0.674 | 0.002 | 0.676 | |
pool_mut_mat | 0.035 | 0.000 | 0.035 | |
read_vcfs_as_granges | 20.501 | 3.389 | 27.726 | |
rename_nmf_signatures | 0.033 | 0.004 | 0.037 | |
signature_potential_damage_analysis | 0.092 | 0.010 | 0.103 | |
split_muts_region | 4.088 | 0.296 | 4.384 | |
strand_bias_test | 0.151 | 0.009 | 0.160 | |
strand_occurrences | 0.137 | 0.008 | 0.145 | |
type_context | 1.182 | 0.101 | 1.284 | |