Back to Multiple platform build/check report for BioC 3.20:   simplified   long
ABCDEFGHIJKLMNO[P]QRSTUVWXYZ

This page was generated on 2025-02-03 12:10 -0500 (Mon, 03 Feb 2025).

HostnameOSArch (*)R versionInstalled pkgs
nebbiolo2Linux (Ubuntu 24.04.1 LTS)x86_644.4.2 (2024-10-31) -- "Pile of Leaves" 4746
palomino8Windows Server 2022 Datacenterx644.4.2 (2024-10-31 ucrt) -- "Pile of Leaves" 4494
merida1macOS 12.7.5 Montereyx86_644.4.2 (2024-10-31) -- "Pile of Leaves" 4517
kjohnson1macOS 13.6.6 Venturaarm644.4.2 (2024-10-31) -- "Pile of Leaves" 4469
taishanLinux (openEuler 24.03 LTS)aarch644.4.2 (2024-10-31) -- "Pile of Leaves" 4400
Click on any hostname to see more info about the system (e.g. compilers)      (*) as reported by 'uname -p', except on Windows and Mac OS X

Package 1553/2289HostnameOS / ArchINSTALLBUILDCHECKBUILD BIN
Pigengene 1.32.0  (landing page)
Habil Zare
Snapshot Date: 2025-01-30 13:00 -0500 (Thu, 30 Jan 2025)
git_url: https://git.bioconductor.org/packages/Pigengene
git_branch: RELEASE_3_20
git_last_commit: c837431
git_last_commit_date: 2024-10-29 10:11:14 -0500 (Tue, 29 Oct 2024)
nebbiolo2Linux (Ubuntu 24.04.1 LTS) / x86_64  OK    OK    OK  UNNEEDED, same version is already published
palomino8Windows Server 2022 Datacenter / x64  OK    OK    OK    OK  UNNEEDED, same version is already published
merida1macOS 12.7.5 Monterey / x86_64  OK    OK    OK    OK  UNNEEDED, same version is already published
kjohnson1macOS 13.6.6 Ventura / arm64  OK    OK    OK    OK  UNNEEDED, same version is already published
taishanLinux (openEuler 24.03 LTS) / aarch64  OK    OK    OK  


CHECK results for Pigengene on kjohnson1

To the developers/maintainers of the Pigengene package:
- Allow up to 24 hours (and sometimes 48 hours) for your latest push to git@git.bioconductor.org:packages/Pigengene.git to reflect on this report. See Troubleshooting Build Report for more information.
- Use the following Renviron settings to reproduce errors and warnings.
- If 'R CMD check' started to fail recently on the Linux builder(s) over a missing dependency, add the missing dependency to 'Suggests:' in your DESCRIPTION file. See Renviron.bioc for more information.

raw results


Summary

Package: Pigengene
Version: 1.32.0
Command: /Library/Frameworks/R.framework/Resources/bin/R CMD check --install=check:Pigengene.install-out.txt --library=/Library/Frameworks/R.framework/Resources/library --no-vignettes --timings Pigengene_1.32.0.tar.gz
StartedAt: 2025-02-01 04:45:34 -0500 (Sat, 01 Feb 2025)
EndedAt: 2025-02-01 04:57:51 -0500 (Sat, 01 Feb 2025)
EllapsedTime: 736.5 seconds
RetCode: 0
Status:   OK  
CheckDir: Pigengene.Rcheck
Warnings: 0

Command output

##############################################################################
##############################################################################
###
### Running command:
###
###   /Library/Frameworks/R.framework/Resources/bin/R CMD check --install=check:Pigengene.install-out.txt --library=/Library/Frameworks/R.framework/Resources/library --no-vignettes --timings Pigengene_1.32.0.tar.gz
###
##############################################################################
##############################################################################


* using log directory ‘/Users/biocbuild/bbs-3.20-bioc/meat/Pigengene.Rcheck’
* using R version 4.4.2 (2024-10-31)
* using platform: aarch64-apple-darwin20
* R was compiled by
    Apple clang version 14.0.0 (clang-1400.0.29.202)
    GNU Fortran (GCC) 12.2.0
* running under: macOS Ventura 13.7.1
* using session charset: UTF-8
* using option ‘--no-vignettes’
* checking for file ‘Pigengene/DESCRIPTION’ ... OK
* checking extension type ... Package
* this is package ‘Pigengene’ version ‘1.32.0’
* checking package namespace information ... OK
* checking package dependencies ... OK
* checking if this is a source package ... OK
* checking if there is a namespace ... OK
* checking for hidden files and directories ... OK
* checking for portable file names ... OK
* checking for sufficient/correct file permissions ... OK
* checking whether package ‘Pigengene’ can be installed ... OK
* checking installed package size ... OK
* checking package directory ... OK
* checking ‘build’ directory ... OK
* checking DESCRIPTION meta-information ... OK
* checking top-level files ... OK
* checking for left-over files ... OK
* checking index information ... OK
* checking package subdirectories ... OK
* checking code files for non-ASCII characters ... OK
* checking R files for syntax errors ... OK
* checking whether the package can be loaded ... OK
* checking whether the package can be loaded with stated dependencies ... OK
* checking whether the package can be unloaded cleanly ... OK
* checking whether the namespace can be loaded with stated dependencies ... OK
* checking whether the namespace can be unloaded cleanly ... OK
* checking dependencies in R code ... NOTE
'library' or 'require' calls in package code:
  ‘AnnotationDbi’ ‘biomaRt’ ‘energy’ ‘org.Hs.eg.db’ ‘org.Mm.eg.db’
  Please use :: or requireNamespace() instead.
  See section 'Suggested packages' in the 'Writing R Extensions' manual.
* checking S3 generic/method consistency ... OK
* checking replacement functions ... OK
* checking foreign function calls ... OK
* checking R code for possible problems ... NOTE
Found the following possibly unsafe calls:
File ‘Pigengene/R/bn.calculation.R’:
  assignInNamespace("supported.clusters", fixArgs, "bnlearn")

one.step.pigengene: no visible binding for global variable
  ‘org.Hs.eg.db’
Undefined global functions or variables:
  org.Hs.eg.db
* checking Rd files ... NOTE
checkRd: (-1) draw.bn.Rd:47: Lost braces
    47 |      rename the nodes name.  See code{rename.node}.}
       |                                      ^
checkRd: (-1) eigengenes33.Rd:21-22: Lost braces
    21 |  {A 202 by 34 matrix. 
       |  ^
checkRd: (-1) eigengenes33.Rd:25: Lost braces; missing escapes or markup?
    25 |  {A 164 by 34 matrix for MDS cases with columns similar to aml.}
       |  ^
checkRd: (-1) eigengenes33.Rd:28: Lost braces; missing escapes or markup?
    28 |  {A numeric vector of length 9166 labeling members of each module. Named by Entrez ID.}
       |  ^
checkRd: (-1) pigengene-class.Rd:25-26: Lost braces in \itemize; meant \describe ?
checkRd: (-1) pigengene-class.Rd:27-29: Lost braces in \itemize; meant \describe ?
checkRd: (-1) pigengene-class.Rd:30-39: Lost braces in \itemize; meant \describe ?
checkRd: (-1) pigengene-class.Rd:40-41: Lost braces in \itemize; meant \describe ?
checkRd: (-1) pigengene-class.Rd:42-44: Lost braces in \itemize; meant \describe ?
checkRd: (-1) pigengene-class.Rd:45-47: Lost braces in \itemize; meant \describe ?
checkRd: (-1) pigengene-class.Rd:48-49: Lost braces in \itemize; meant \describe ?
checkRd: (-1) pigengene-class.Rd:50-52: Lost braces in \itemize; meant \describe ?
checkRd: (-1) pigengene-class.Rd:53-55: Lost braces in \itemize; meant \describe ?
checkRd: (-1) pigengene-class.Rd:56-57: Lost braces in \itemize; meant \describe ?
checkRd: (-1) pigengene-class.Rd:58-59: Lost braces in \itemize; meant \describe ?
checkRd: (-1) pigengene-class.Rd:60-63: Lost braces in \itemize; meant \describe ?
checkRd: (-1) pigengene-class.Rd:64-68: Lost braces in \itemize; meant \describe ?
checkRd: (-1) pigengene-class.Rd:73-76: Lost braces in \itemize; meant \describe ?
checkRd: (-1) pigengene-class.Rd:77-79: Lost braces in \itemize; meant \describe ?
* checking Rd metadata ... OK
* checking Rd cross-references ... OK
* checking for missing documentation entries ... OK
* checking for code/documentation mismatches ... OK
* checking Rd \usage sections ... OK
* checking Rd contents ... OK
* checking for unstated dependencies in examples ... OK
* checking contents of ‘data’ directory ... OK
* checking data for non-ASCII characters ... OK
* checking data for ASCII and uncompressed saves ... OK
* checking sizes of PDF files under ‘inst/doc’ ... OK
* checking files in ‘vignettes’ ... OK
* checking examples ... OK
Examples with CPU (user + system) or elapsed time > 5s
                      user system elapsed
one.step.pigengene 100.741  2.939 103.785
Pigengene-package   97.244  2.997 100.407
get.enriched.pw     81.574  5.052  87.048
module.heatmap      37.209  2.156  39.447
learn.bn            19.562  0.322  19.920
make.filter         18.705  0.399  19.115
apply.filter        16.707  0.381  17.100
combine.networks    15.613  0.099  15.739
compute.pigengene   14.830  0.685  15.526
wgcna.one.step      15.079  0.050  15.131
make.decision.tree  12.715  1.026  13.810
compact.tree        12.607  0.915  13.553
determine.modules   13.100  0.079  13.192
pigengene            8.746  0.577   9.337
gene.mapping         8.402  0.763  14.534
plot.pigengene       8.591  0.512   9.106
project.eigen        8.185  0.451   8.639
* checking for unstated dependencies in vignettes ... OK
* checking package vignettes ... OK
* checking running R code from vignettes ... SKIPPED
* checking re-building of vignette outputs ... SKIPPED
* checking PDF version of manual ... OK
* DONE

Status: 3 NOTEs
See
  ‘/Users/biocbuild/bbs-3.20-bioc/meat/Pigengene.Rcheck/00check.log’
for details.


Installation output

Pigengene.Rcheck/00install.out

##############################################################################
##############################################################################
###
### Running command:
###
###   /Library/Frameworks/R.framework/Resources/bin/R CMD INSTALL Pigengene
###
##############################################################################
##############################################################################


* installing to library ‘/Library/Frameworks/R.framework/Versions/4.4-arm64/Resources/library’
* installing *source* package ‘Pigengene’ ...
** using staged installation
** R
** data
** inst
** byte-compile and prepare package for lazy loading
** help
*** installing help indices
** building package indices
** installing vignettes
** testing if installed package can be loaded from temporary location
** testing if installed package can be loaded from final location
** testing if installed package keeps a record of temporary installation path
* DONE (Pigengene)

Tests output


Example timings

Pigengene.Rcheck/Pigengene-Ex.timings

nameusersystemelapsed
Pigengene-package 97.244 2.997100.407
aml0.1550.0080.163
apply.filter16.707 0.38117.100
balance0.2510.0600.312
calculate.beta0.8670.0260.894
check.nas0.0630.0080.071
check.pigengene.input0.0640.0050.069
combine.networks15.613 0.09915.739
compact.tree12.607 0.91513.553
compute.pigengene14.830 0.68515.526
dcor.matrix0.1750.0300.206
determine.modules13.100 0.07913.192
draw.bn0.0000.0010.000
eigengenes330.1190.0080.127
gene.mapping 8.402 0.76314.534
get.enriched.pw81.574 5.05287.048
get.fitted.leaf0.6280.0310.659
get.genes0.5940.0290.627
get.used.features0.5950.0280.624
learn.bn19.562 0.32219.920
make.decision.tree12.715 1.02613.810
make.filter18.705 0.39919.115
mds0.1420.0110.154
message.if0.0010.0000.000
module.heatmap37.209 2.15639.447
one.step.pigengene100.741 2.939103.785
pheatmap.type0.2120.0140.227
pigengene8.7460.5779.337
plot.pigengene8.5910.5129.106
preds.at0.7220.0550.781
project.eigen8.1850.4518.639
pvalues.manova0.0600.0110.072
save.if0.9540.0250.980
wgcna.one.step15.079 0.05015.131