Back to Multiple platform build/check report for BioC 3.20:   simplified   long
ABCDEFGHIJKLMNOPQ[R]STUVWXYZ

This page was generated on 2025-02-03 12:09 -0500 (Mon, 03 Feb 2025).

HostnameOSArch (*)R versionInstalled pkgs
nebbiolo2Linux (Ubuntu 24.04.1 LTS)x86_644.4.2 (2024-10-31) -- "Pile of Leaves" 4746
palomino8Windows Server 2022 Datacenterx644.4.2 (2024-10-31 ucrt) -- "Pile of Leaves" 4494
merida1macOS 12.7.5 Montereyx86_644.4.2 (2024-10-31) -- "Pile of Leaves" 4517
kjohnson1macOS 13.6.6 Venturaarm644.4.2 (2024-10-31) -- "Pile of Leaves" 4469
taishanLinux (openEuler 24.03 LTS)aarch644.4.2 (2024-10-31) -- "Pile of Leaves" 4400
Click on any hostname to see more info about the system (e.g. compilers)      (*) as reported by 'uname -p', except on Windows and Mac OS X

Package 1654/2289HostnameOS / ArchINSTALLBUILDCHECKBUILD BIN
RAIDS 1.4.0  (landing page)
Pascal Belleau
Snapshot Date: 2025-01-30 13:00 -0500 (Thu, 30 Jan 2025)
git_url: https://git.bioconductor.org/packages/RAIDS
git_branch: RELEASE_3_20
git_last_commit: 6b32a2c
git_last_commit_date: 2024-10-29 11:24:12 -0500 (Tue, 29 Oct 2024)
nebbiolo2Linux (Ubuntu 24.04.1 LTS) / x86_64  OK    OK    OK  UNNEEDED, same version is already published
palomino8Windows Server 2022 Datacenter / x64  OK    OK    OK    OK  UNNEEDED, same version is already published
merida1macOS 12.7.5 Monterey / x86_64  OK    OK    OK    OK  UNNEEDED, same version is already published
kjohnson1macOS 13.6.6 Ventura / arm64  OK    OK    OK    OK  UNNEEDED, same version is already published
taishanLinux (openEuler 24.03 LTS) / aarch64  OK    OK    OK  


CHECK results for RAIDS on merida1

To the developers/maintainers of the RAIDS package:
- Allow up to 24 hours (and sometimes 48 hours) for your latest push to git@git.bioconductor.org:packages/RAIDS.git to reflect on this report. See Troubleshooting Build Report for more information.
- Use the following Renviron settings to reproduce errors and warnings.
- If 'R CMD check' started to fail recently on the Linux builder(s) over a missing dependency, add the missing dependency to 'Suggests:' in your DESCRIPTION file. See Renviron.bioc for more information.

raw results


Summary

Package: RAIDS
Version: 1.4.0
Command: /Library/Frameworks/R.framework/Resources/bin/R CMD check --install=check:RAIDS.install-out.txt --library=/Library/Frameworks/R.framework/Resources/library --no-vignettes --timings RAIDS_1.4.0.tar.gz
StartedAt: 2025-01-31 08:35:03 -0500 (Fri, 31 Jan 2025)
EndedAt: 2025-01-31 08:48:26 -0500 (Fri, 31 Jan 2025)
EllapsedTime: 802.2 seconds
RetCode: 0
Status:   OK  
CheckDir: RAIDS.Rcheck
Warnings: 0

Command output

##############################################################################
##############################################################################
###
### Running command:
###
###   /Library/Frameworks/R.framework/Resources/bin/R CMD check --install=check:RAIDS.install-out.txt --library=/Library/Frameworks/R.framework/Resources/library --no-vignettes --timings RAIDS_1.4.0.tar.gz
###
##############################################################################
##############################################################################


* using log directory ‘/Users/biocbuild/bbs-3.20-bioc/meat/RAIDS.Rcheck’
* using R version 4.4.2 (2024-10-31)
* using platform: x86_64-apple-darwin20
* R was compiled by
    Apple clang version 14.0.0 (clang-1400.0.29.202)
    GNU Fortran (GCC) 12.2.0
* running under: macOS Monterey 12.7.6
* using session charset: UTF-8
* using option ‘--no-vignettes’
* checking for file ‘RAIDS/DESCRIPTION’ ... OK
* checking extension type ... Package
* this is package ‘RAIDS’ version ‘1.4.0’
* package encoding: UTF-8
* checking package namespace information ... OK
* checking package dependencies ... OK
* checking if this is a source package ... OK
* checking if there is a namespace ... OK
* checking for hidden files and directories ... OK
* checking for portable file names ... OK
* checking for sufficient/correct file permissions ... OK
* checking whether package ‘RAIDS’ can be installed ... OK
* checking installed package size ... OK
* checking package directory ... OK
* checking ‘build’ directory ... OK
* checking DESCRIPTION meta-information ... OK
* checking top-level files ... OK
* checking for left-over files ... OK
* checking index information ... OK
* checking package subdirectories ... OK
* checking code files for non-ASCII characters ... OK
* checking R files for syntax errors ... OK
* checking whether the package can be loaded ... OK
* checking whether the package can be loaded with stated dependencies ... OK
* checking whether the package can be unloaded cleanly ... OK
* checking whether the namespace can be loaded with stated dependencies ... OK
* checking whether the namespace can be unloaded cleanly ... OK
* checking dependencies in R code ... OK
* checking S3 generic/method consistency ... OK
* checking replacement functions ... OK
* checking foreign function calls ... OK
* checking R code for possible problems ... OK
* checking Rd files ... OK
* checking Rd metadata ... OK
* checking Rd cross-references ... OK
* checking for missing documentation entries ... OK
* checking for code/documentation mismatches ... OK
* checking Rd \usage sections ... OK
* checking Rd contents ... OK
* checking for unstated dependencies in examples ... OK
* checking contents of ‘data’ directory ... OK
* checking data for non-ASCII characters ... OK
* checking data for ASCII and uncompressed saves ... OK
* checking files in ‘vignettes’ ... OK
* checking examples ... OK
Examples with CPU (user + system) or elapsed time > 5s
                                   user system elapsed
readSNVVCF                       15.653  0.143  16.660
computeAncestryFromSyntheticFile 15.207  0.296  16.215
selParaPCAUpQuartile             13.264  0.049  13.507
* checking for unstated dependencies in ‘tests’ ... OK
* checking tests ...
  Running ‘testthat.R’
 OK
* checking for unstated dependencies in vignettes ... OK
* checking package vignettes ... OK
* checking running R code from vignettes ... SKIPPED
* checking re-building of vignette outputs ... SKIPPED
* checking PDF version of manual ... OK
* DONE

Status: OK


Installation output

RAIDS.Rcheck/00install.out

##############################################################################
##############################################################################
###
### Running command:
###
###   /Library/Frameworks/R.framework/Resources/bin/R CMD INSTALL RAIDS
###
##############################################################################
##############################################################################


* installing to library ‘/Library/Frameworks/R.framework/Versions/4.4-x86_64/Resources/library’
* installing *source* package ‘RAIDS’ ...
** using staged installation
** R
** data
** inst
** byte-compile and prepare package for lazy loading
** help
*** installing help indices
** building package indices
** installing vignettes
** testing if installed package can be loaded from temporary location
** testing if installed package can be loaded from final location
** testing if installed package keeps a record of temporary installation path
* DONE (RAIDS)

Tests output

RAIDS.Rcheck/tests/testthat.Rout


R version 4.4.2 (2024-10-31) -- "Pile of Leaves"
Copyright (C) 2024 The R Foundation for Statistical Computing
Platform: x86_64-apple-darwin20

R is free software and comes with ABSOLUTELY NO WARRANTY.
You are welcome to redistribute it under certain conditions.
Type 'license()' or 'licence()' for distribution details.

R is a collaborative project with many contributors.
Type 'contributors()' for more information and
'citation()' on how to cite R or R packages in publications.

Type 'demo()' for some demos, 'help()' for on-line help, or
'help.start()' for an HTML browser interface to help.
Type 'q()' to quit R.

> library(testthat)
> library(RAIDS)
Loading required package: gdsfmt
Loading required package: SNPRelate
SNPRelate -- supported by Streaming SIMD Extensions 2 (SSE2)
Loading required package: GENESIS
> 
> ## Run all unit tests
> test_check("RAIDS")
[ FAIL 0 | WARN 0 | SKIP 0 | PASS 442 ]
> 
> proc.time()
   user  system elapsed 
 61.647   3.636  66.717 

Example timings

RAIDS.Rcheck/RAIDS-Ex.timings

nameusersystemelapsed
add1KG2SampleGDS0.1880.0280.230
addBlockFromDetFile0.0030.0070.012
addBlockInGDSAnnot0.0090.0060.016
addGDS1KGLDBlock0.0020.0040.007
addGDSRef0.0050.0050.009
addGDSStudyPruning0.0020.0030.005
addGeneBlockGDSRefAnnot1.6060.2052.004
addGeneBlockRefAnnot0.0030.0040.007
addRef2GDS1KG0.0090.0100.021
addStudy1Kg0.0230.0150.041
addStudyGDSSample0.0170.0070.027
addUpdateLap0.0020.0030.006
addUpdateSegment0.0020.0030.005
appendGDSRefSample0.0140.0070.028
appendGDSSampleOnly0.0020.0030.006
appendGDSgenotype0.0320.0210.058
appendGDSgenotypeMat0.0020.0040.007
calcAFMLRNA0.0070.0040.012
computeAlleleFraction0.0060.0010.007
computeAllelicFractionDNA0.3370.0160.369
computeAllelicFractionRNA0.6740.0220.793
computeAllelicImbDNAChr0.0160.0040.019
computeAncestryFromSynthetic0.0290.0090.040
computeAncestryFromSyntheticFile15.207 0.29616.215
computeKNNRefSample0.0360.0080.045
computeKNNRefSynthetic3.7490.1543.961
computeLOHBlocksDNAChr0.0220.0040.026
computePCAMultiSynthetic0.0140.0070.021
computePCARefRMMulti0.3240.0120.344
computePCARefSample0.3950.0090.415
computePoolSyntheticAncestryGr1.0650.0311.147
computeSyntheticConfMat0.0280.0060.035
computeSyntheticROC0.0980.0100.109
createAUROCGraph1.6850.0631.805
createAccuracyGraph1.7420.0121.771
createStudy2GDS1KG0.1190.0220.186
demoKnownSuperPop1KG3.7670.0893.911
demoPCA1KG0.0140.0080.021
demoPCASyntheticProfiles3.7140.0383.825
demoPedigreeEx10.0410.0070.048
estimateAllelicFraction0.2450.0090.257
generateGDS1KG0.0280.0160.045
generateGDS1KGgenotypeFromSNPPileup0.1060.0210.137
generateGDSRefSample0.0100.0060.017
generateGDSSNPinfo0.0080.0070.016
generateGDSgenotype0.0280.0150.045
generateGeneBlock0.0020.0020.005
generateMapSnvSel0.0060.0070.017
generatePhase1KG2GDS0.0290.0200.056
generatePhaseRef0.0280.0170.047
getBlockIDs0.0040.0020.007
getRef1KGPop0.0060.0030.009
getRefSuperPop0.0060.0020.008
getTableSNV0.0280.0070.038
groupChr1KGSNV0.1050.1060.218
identifyRelative0.0170.0060.022
identifyRelativeRef0.0130.0040.018
inferAncestry0.0340.0040.038
inferAncestryGeneAware0.0350.0040.038
matKNNSynthetic0.0960.0080.107
pedSynthetic0.0970.0090.106
prepPed1KG0.0100.0030.013
prepPedSynthetic1KG0.0110.0030.015
prepSynthetic0.0230.0080.032
processBlockChr0.0060.0020.007
profileAncestry0.0710.0080.081
pruning1KGbyChr0.0070.0040.011
pruningSample0.0850.0160.103
readSNVFileGeneric0.0080.0030.010
readSNVPileupFile0.0760.0030.081
readSNVVCF15.653 0.14316.660
runExomeAncestry0.0420.0070.050
runIBDKING0.0670.0080.078
runLDPruning0.0430.0170.061
runProfileAncestry0.0480.0090.059
runRNAAncestry0.0390.0080.047
runWrapperAncestry0.0430.0080.050
selParaPCAUpQuartile13.264 0.04913.507
select1KGPop0.0100.0020.013
select1KGPopForSynthetic0.0110.0030.014
snpPositionDemo0.0050.0040.009
snvListVCF0.0080.0040.012
splitSelectByPop0.0020.0010.004
syntheticGeno0.0650.0120.078
tableBlockAF0.0560.0050.061
testAlleleFractionChange0.0030.0020.005
testEmptyBox0.0030.0010.005
validateAdd1KG2SampleGDS0.0030.0030.005
validateAddStudy1Kg0.0030.0020.006
validateCharacterString0.0010.0010.001
validateComputeAncestryFromSyntheticFile0.0030.0030.007
validateComputeKNNRefSample0.0070.0060.012
validateComputeKNNRefSynthetic0.0090.0080.017
validateComputePCAMultiSynthetic0.0060.0050.011
validateComputePCARefSample0.0030.0020.005
validateComputePoolSyntheticAncestryGr0.0030.0020.004
validateComputeSyntheticRoc0.0230.0050.029
validateCreateAccuracyGraph0.0020.0010.004
validateCreateStudy2GDS1KG0.0050.0020.007
validateDataRefSynParameter0.0010.0010.002
validateEstimateAllelicFraction0.0070.0030.009
validateGDSClass0.0020.0020.004
validateGenerateGDS1KG0.0020.0020.004
validateLogical0.0010.0000.001
validatePEDStudyParameter0.0020.0010.002
validatePepSynthetic0.0030.0010.005
validatePositiveIntegerVector0.0000.0000.001
validatePrepPed1KG0.0020.0010.003
validateProfileGDSExist0.0020.0010.003
validatePruningSample0.0030.0020.005
validateRunExomeOrRNAAncestry0.0100.0020.014
validateSingleRatio0.0010.0000.000
validateStudyDataFrameParameter0.0020.0010.002
validateSyntheticGeno0.0030.0020.006
wrapperAncestry0.0410.0060.049