Back to Multiple platform build/check report for BioC 3.20:   simplified   long
AB[C]DEFGHIJKLMNOPQRSTUVWXYZ

This page was generated on 2025-02-03 12:08 -0500 (Mon, 03 Feb 2025).

HostnameOSArch (*)R versionInstalled pkgs
nebbiolo2Linux (Ubuntu 24.04.1 LTS)x86_644.4.2 (2024-10-31) -- "Pile of Leaves" 4746
palomino8Windows Server 2022 Datacenterx644.4.2 (2024-10-31 ucrt) -- "Pile of Leaves" 4494
merida1macOS 12.7.5 Montereyx86_644.4.2 (2024-10-31) -- "Pile of Leaves" 4517
kjohnson1macOS 13.6.6 Venturaarm644.4.2 (2024-10-31) -- "Pile of Leaves" 4469
taishanLinux (openEuler 24.03 LTS)aarch644.4.2 (2024-10-31) -- "Pile of Leaves" 4400
Click on any hostname to see more info about the system (e.g. compilers)      (*) as reported by 'uname -p', except on Windows and Mac OS X

Package 303/2289HostnameOS / ArchINSTALLBUILDCHECKBUILD BIN
cellmigRation 1.14.0  (landing page)
Waldir Leoncio
Snapshot Date: 2025-01-30 13:00 -0500 (Thu, 30 Jan 2025)
git_url: https://git.bioconductor.org/packages/cellmigRation
git_branch: RELEASE_3_20
git_last_commit: 49990de
git_last_commit_date: 2024-10-29 10:58:18 -0500 (Tue, 29 Oct 2024)
nebbiolo2Linux (Ubuntu 24.04.1 LTS) / x86_64  OK    OK    OK  UNNEEDED, same version is already published
palomino8Windows Server 2022 Datacenter / x64  OK    OK    OK    OK  UNNEEDED, same version is already published
merida1macOS 12.7.5 Monterey / x86_64  OK    OK    OK    OK  UNNEEDED, same version is already published
kjohnson1macOS 13.6.6 Ventura / arm64  OK    OK    OK    OK  UNNEEDED, same version is already published
taishanLinux (openEuler 24.03 LTS) / aarch64  OK    OK    OK  


CHECK results for cellmigRation on merida1

To the developers/maintainers of the cellmigRation package:
- Allow up to 24 hours (and sometimes 48 hours) for your latest push to git@git.bioconductor.org:packages/cellmigRation.git to reflect on this report. See Troubleshooting Build Report for more information.
- Use the following Renviron settings to reproduce errors and warnings.
- If 'R CMD check' started to fail recently on the Linux builder(s) over a missing dependency, add the missing dependency to 'Suggests:' in your DESCRIPTION file. See Renviron.bioc for more information.

raw results


Summary

Package: cellmigRation
Version: 1.14.0
Command: /Library/Frameworks/R.framework/Resources/bin/R CMD check --install=check:cellmigRation.install-out.txt --library=/Library/Frameworks/R.framework/Resources/library --no-vignettes --timings cellmigRation_1.14.0.tar.gz
StartedAt: 2025-01-31 01:22:00 -0500 (Fri, 31 Jan 2025)
EndedAt: 2025-01-31 01:26:47 -0500 (Fri, 31 Jan 2025)
EllapsedTime: 286.5 seconds
RetCode: 0
Status:   OK  
CheckDir: cellmigRation.Rcheck
Warnings: 0

Command output

##############################################################################
##############################################################################
###
### Running command:
###
###   /Library/Frameworks/R.framework/Resources/bin/R CMD check --install=check:cellmigRation.install-out.txt --library=/Library/Frameworks/R.framework/Resources/library --no-vignettes --timings cellmigRation_1.14.0.tar.gz
###
##############################################################################
##############################################################################


* using log directory ‘/Users/biocbuild/bbs-3.20-bioc/meat/cellmigRation.Rcheck’
* using R version 4.4.2 (2024-10-31)
* using platform: x86_64-apple-darwin20
* R was compiled by
    Apple clang version 14.0.0 (clang-1400.0.29.202)
    GNU Fortran (GCC) 12.2.0
* running under: macOS Monterey 12.7.6
* using session charset: UTF-8
* using option ‘--no-vignettes’
* checking for file ‘cellmigRation/DESCRIPTION’ ... OK
* checking extension type ... Package
* this is package ‘cellmigRation’ version ‘1.14.0’
* package encoding: UTF-8
* checking package namespace information ... OK
* checking package dependencies ... OK
* checking if this is a source package ... OK
* checking if there is a namespace ... OK
* checking for hidden files and directories ... OK
* checking for portable file names ... OK
* checking for sufficient/correct file permissions ... OK
* checking whether package ‘cellmigRation’ can be installed ... OK
* checking installed package size ... OK
* checking package directory ... OK
* checking ‘build’ directory ... OK
* checking DESCRIPTION meta-information ... OK
* checking top-level files ... OK
* checking for left-over files ... OK
* checking index information ... OK
* checking package subdirectories ... OK
* checking code files for non-ASCII characters ... OK
* checking R files for syntax errors ... OK
* checking whether the package can be loaded ... OK
* checking whether the package can be loaded with stated dependencies ... OK
* checking whether the package can be unloaded cleanly ... OK
* checking whether the namespace can be loaded with stated dependencies ... OK
* checking whether the namespace can be unloaded cleanly ... OK
* checking dependencies in R code ... OK
* checking S3 generic/method consistency ... OK
* checking replacement functions ... OK
* checking foreign function calls ... OK
* checking R code for possible problems ... OK
* checking Rd files ... OK
* checking Rd metadata ... OK
* checking Rd cross-references ... OK
* checking for missing documentation entries ... OK
* checking for code/documentation mismatches ... OK
* checking Rd \usage sections ... NOTE
Documented arguments not in \usage in Rd file 'fixDA.Rd':
  ‘object’

Documented arguments not in \usage in Rd file 'fixFM1.Rd':
  ‘object’

Documented arguments not in \usage in Rd file 'fixFM2.Rd':
  ‘object’

Documented arguments not in \usage in Rd file 'fixFM3.Rd':
  ‘object’

Documented arguments not in \usage in Rd file 'fixFM4.Rd':
  ‘object’

Documented arguments not in \usage in Rd file 'fixFM5.Rd':
  ‘object’

Documented arguments not in \usage in Rd file 'fixFM6.Rd':
  ‘object’

Documented arguments not in \usage in Rd file 'fixID2.Rd':
  ‘TimeInterval’

Documented arguments not in \usage in Rd file 'fixID3.Rd':
  ‘TimeInterval’

Documented arguments not in \usage in Rd file 'fixID4.Rd':
  ‘TimeInterval’

Documented arguments not in \usage in Rd file 'fixMSD.Rd':
  ‘object’

Documented arguments not in \usage in Rd file 'fixPER1.Rd':
  ‘x’

Documented arguments not in \usage in Rd file 'fixPER2.Rd':
  ‘x’

Documented arguments not in \usage in Rd file 'innerBondRaster.Rd':
  ‘i’

Functions with \usage entries need to have the appropriate \alias
entries, and all their arguments documented.
The \usage entries must correspond to syntactically valid R code.
See chapter ‘Writing R documentation files’ in the ‘Writing R
Extensions’ manual.
* checking Rd contents ... OK
* checking for unstated dependencies in examples ... OK
* checking contents of ‘data’ directory ... OK
* checking data for non-ASCII characters ... OK
* checking data for ASCII and uncompressed saves ... OK
* checking files in ‘vignettes’ ... OK
* checking examples ... OK
Examples with CPU (user + system) or elapsed time > 5s
              user system elapsed
getMSDtable 11.654  0.078  11.817
getDACtable  6.384  0.043   6.479
MSD          5.023  0.135   5.193
* checking for unstated dependencies in ‘tests’ ... OK
* checking tests ...
  Running ‘runTests.R’
 OK
* checking for unstated dependencies in vignettes ... OK
* checking package vignettes ... OK
* checking running R code from vignettes ... SKIPPED
* checking re-building of vignette outputs ... SKIPPED
* checking PDF version of manual ... OK
* DONE

Status: 1 NOTE
See
  ‘/Users/biocbuild/bbs-3.20-bioc/meat/cellmigRation.Rcheck/00check.log’
for details.


Installation output

cellmigRation.Rcheck/00install.out

##############################################################################
##############################################################################
###
### Running command:
###
###   /Library/Frameworks/R.framework/Resources/bin/R CMD INSTALL cellmigRation
###
##############################################################################
##############################################################################


* installing to library ‘/Library/Frameworks/R.framework/Versions/4.4-x86_64/Resources/library’
* installing *source* package ‘cellmigRation’ ...
** using staged installation
** R
** data
** inst
** byte-compile and prepare package for lazy loading
** help
*** installing help indices
** building package indices
** installing vignettes
** testing if installed package can be loaded from temporary location
** testing if installed package can be loaded from final location
** testing if installed package keeps a record of temporary installation path
* DONE (cellmigRation)

Tests output

cellmigRation.Rcheck/tests/runTests.Rout


R version 4.4.2 (2024-10-31) -- "Pile of Leaves"
Copyright (C) 2024 The R Foundation for Statistical Computing
Platform: x86_64-apple-darwin20

R is free software and comes with ABSOLUTELY NO WARRANTY.
You are welcome to redistribute it under certain conditions.
Type 'license()' or 'licence()' for distribution details.

R is a collaborative project with many contributors.
Type 'contributors()' for more information and
'citation()' on how to cite R or R packages in publications.

Type 'demo()' for some demos, 'help()' for on-line help, or
'help.start()' for an HTML browser interface to help.
Type 'q()' to quit R.

> BiocGenerics:::testPackage("cellmigRation")


RUNIT TEST PROTOCOL -- Fri Jan 31 01:26:26 2025 
*********************************************** 
Number of test functions: 7 
Number of errors: 0 
Number of failures: 0 

 
1 Test Suite : 
cellmigRation RUnit Tests - 7 test functions, 0 errors, 0 failures
Number of test functions: 7 
Number of errors: 0 
Number of failures: 0 
> 
> proc.time()
   user  system elapsed 
  6.096   0.535   6.696 

Example timings

cellmigRation.Rcheck/cellmigRation-Ex.timings

nameusersystemelapsed
AddDimension0.0030.0010.004
CellMig-class0.0480.0060.069
CellMigPCA3.6380.0583.969
CellMigPCAclust0.0120.0030.015
CellMigPCAclustALL2.1780.0172.250
CellTracker0.0280.0050.033
CellTrackerMainLoop0.0070.0110.019
CentroidArray0.0290.0070.036
CentroidValidation1.6000.0321.821
ComputeTracksStats0.0520.0060.058
DetectRadii0.0070.0000.007
DiAutoCor4.5710.0304.666
DiRatio0.0380.0030.042
DiRatioPlot0.0640.0240.088
EstimateDiameterRange0.0340.0030.038
FMI1.6090.0111.631
FianlizeOptiParams0.0010.0000.001
FilterTrackedCells0.0060.0020.008
FinRes2.1450.0242.183
ForwardMigration3.2380.0223.284
GenAllCombos0.0060.0010.007
LinearConv20.0530.0030.057
LoadTiff0.0020.0000.002
MSD5.0230.1355.193
MakeHypercube0.0030.0020.005
MigrationStats0.0010.0020.004
NextOdd0.0010.0000.000
NonParallel4OptimizeParams0.0020.0000.002
NonParallelTrackLoop0.0010.0010.001
OptimizeParams0.0230.0040.027
OptimizeParamsMainLoop0.0060.0090.021
Parallel4OptimizeParams0.0010.0000.002
ParallelTrackLoop0.0010.0010.002
PerAndSpeed0.6860.0410.766
PlotTracksSeparately0.0160.0030.018
PostProcessTracking0.0000.0000.002
Prep4OptimizeParams0.2360.0090.246
ThreeConditions0.0180.0050.023
TrackCellsDataset0.0210.0050.027
TrajectoryDataset0.0350.0030.038
ValidateTrackingArgs0.0010.0000.001
VeAutoCor3.5070.0323.554
VisualizeCntr0.0030.0020.005
VisualizeImg0.0100.0010.012
VisualizeStackCentroids0.0900.0150.105
WSADataset0.0100.0030.014
aggregateFR2.0970.0172.124
aggregateTrackedCells0.0360.0100.047
bpass0.1600.0050.168
circshift0.0010.0010.002
cntrd2.4840.0362.567
fixDA0.0010.0010.001
fixExpName0.0010.0010.001
fixFM10.0000.0010.001
fixFM20.0010.0000.001
fixFM30.0000.0000.001
fixFM40.0010.0000.001
fixFM50.0010.0010.001
fixFM60.0000.0010.001
fixID10.0010.0000.001
fixMSD0.0010.0000.001
fixPER10.0010.0000.001
fixPER20.0000.0000.001
fixPER30.0010.0010.001
getAvailableAggrMetrics3.0320.0173.104
getCellImages0.9002.6813.729
getCellMigSlot0.8601.6452.526
getCellTrackMeta0.0220.0030.026
getCellTrackStats0.0310.0060.038
getCellTracks0.0240.0070.030
getCellsMeta0.0230.0040.028
getCellsStats0.0260.0050.030
getDACtable6.3840.0436.479
getDiRatio0.0420.0040.046
getFMItable1.5340.0131.551
getForMigtable1.8800.0111.902
getImageCentroids0.0390.0080.048
getImageStacks0.0910.0140.106
getMSDtable11.654 0.07811.817
getOptimizedParameters0.0220.0030.026
getOptimizedParams0.0260.0050.031
getPerAndSpeed0.6930.0470.803
getPopulationStats0.0250.0030.030
getProcessedImages0.8512.8723.835
getProcessingStatus0.0220.0040.026
getResults2.0140.0242.045
getTracks0.0250.0040.028
getVACtable3.3910.0153.410
initializeTrackParams0.0000.0010.002
innerBondRaster0.0030.0000.003
internalPermutation0.0030.0010.003
matfix0.0030.0010.004
nontrivialBondTracking0.0020.0000.003
pkfnd2.3930.0302.429
plot3DAllTracks0.0000.0010.002
plot3DTracks0.0010.0010.001
plotAllTracks0.0340.0060.041
plotSampleTracks0.0260.0060.032
preProcCellMig0.0110.0030.014
rmPreProcessing0.2330.0050.238
runTrackingPermutation0.0030.0010.004
setAnalyticParams0.0230.0030.026
setCellMigSlot0.0340.0030.038
setCellTracks0.0230.0040.027
setCellsMeta0.0220.0030.025
setExpName0.0360.0040.040
setOptimizedParams0.0220.0050.027
setProcessedImages0.0220.0030.026
setProcessingStatus0.0220.0040.025
setTrackedCellsMeta0.0230.0030.026
setTrackedCentroids0.0220.0040.027
setTrackedPositions0.0230.0030.026
setTrackingStats0.0230.0030.025
sinkAway0.0010.0010.003
subNetworkTracking0.0020.0010.003
track0.0380.0040.042
trackHypercubeBuild0.0010.0010.002
trackSlideProcessing0.0010.0010.002
trackSlideWrapUp0.0010.0010.002
trivialBondRaster0.0030.0000.004
trivialBondTracking0.0010.0010.002
visualizeCellTracks0.0880.0130.102
visualizeTrcks0.0380.0040.042
warnMessage0.0010.0010.001
wsaPreProcessing0.1510.0040.156