Back to Multiple platform build/check report for BioC 3.20:   simplified   long
ABCDEFGHIJKLMNO[P]QRSTUVWXYZ

This page was generated on 2025-02-03 12:08 -0500 (Mon, 03 Feb 2025).

HostnameOSArch (*)R versionInstalled pkgs
nebbiolo2Linux (Ubuntu 24.04.1 LTS)x86_644.4.2 (2024-10-31) -- "Pile of Leaves" 4746
palomino8Windows Server 2022 Datacenterx644.4.2 (2024-10-31 ucrt) -- "Pile of Leaves" 4494
merida1macOS 12.7.5 Montereyx86_644.4.2 (2024-10-31) -- "Pile of Leaves" 4517
kjohnson1macOS 13.6.6 Venturaarm644.4.2 (2024-10-31) -- "Pile of Leaves" 4469
taishanLinux (openEuler 24.03 LTS)aarch644.4.2 (2024-10-31) -- "Pile of Leaves" 4400
Click on any hostname to see more info about the system (e.g. compilers)      (*) as reported by 'uname -p', except on Windows and Mac OS X

Package 1487/2289HostnameOS / ArchINSTALLBUILDCHECKBUILD BIN
packFinder 1.18.0  (landing page)
Jack Gisby
Snapshot Date: 2025-01-30 13:00 -0500 (Thu, 30 Jan 2025)
git_url: https://git.bioconductor.org/packages/packFinder
git_branch: RELEASE_3_20
git_last_commit: c9a31eb
git_last_commit_date: 2024-10-29 10:42:41 -0500 (Tue, 29 Oct 2024)
nebbiolo2Linux (Ubuntu 24.04.1 LTS) / x86_64  OK    OK    OK  UNNEEDED, same version is already published
palomino8Windows Server 2022 Datacenter / x64  OK    OK    OK    OK  UNNEEDED, same version is already published
merida1macOS 12.7.5 Monterey / x86_64  OK    OK    OK    OK  UNNEEDED, same version is already published
kjohnson1macOS 13.6.6 Ventura / arm64  OK    OK    OK    OK  UNNEEDED, same version is already published
taishanLinux (openEuler 24.03 LTS) / aarch64  OK    OK    OK  


CHECK results for packFinder on merida1

To the developers/maintainers of the packFinder package:
- Allow up to 24 hours (and sometimes 48 hours) for your latest push to git@git.bioconductor.org:packages/packFinder.git to reflect on this report. See Troubleshooting Build Report for more information.
- Use the following Renviron settings to reproduce errors and warnings.
- If 'R CMD check' started to fail recently on the Linux builder(s) over a missing dependency, add the missing dependency to 'Suggests:' in your DESCRIPTION file. See Renviron.bioc for more information.

raw results


Summary

Package: packFinder
Version: 1.18.0
Command: /Library/Frameworks/R.framework/Resources/bin/R CMD check --install=check:packFinder.install-out.txt --library=/Library/Frameworks/R.framework/Resources/library --no-vignettes --timings packFinder_1.18.0.tar.gz
StartedAt: 2025-01-31 07:44:17 -0500 (Fri, 31 Jan 2025)
EndedAt: 2025-01-31 07:45:53 -0500 (Fri, 31 Jan 2025)
EllapsedTime: 95.9 seconds
RetCode: 0
Status:   OK  
CheckDir: packFinder.Rcheck
Warnings: 0

Command output

##############################################################################
##############################################################################
###
### Running command:
###
###   /Library/Frameworks/R.framework/Resources/bin/R CMD check --install=check:packFinder.install-out.txt --library=/Library/Frameworks/R.framework/Resources/library --no-vignettes --timings packFinder_1.18.0.tar.gz
###
##############################################################################
##############################################################################


* using log directory ‘/Users/biocbuild/bbs-3.20-bioc/meat/packFinder.Rcheck’
* using R version 4.4.2 (2024-10-31)
* using platform: x86_64-apple-darwin20
* R was compiled by
    Apple clang version 14.0.0 (clang-1400.0.29.202)
    GNU Fortran (GCC) 12.2.0
* running under: macOS Monterey 12.7.6
* using session charset: UTF-8
* using option ‘--no-vignettes’
* checking for file ‘packFinder/DESCRIPTION’ ... OK
* checking extension type ... Package
* this is package ‘packFinder’ version ‘1.18.0’
* package encoding: UTF-8
* checking package namespace information ... OK
* checking package dependencies ... OK
* checking if this is a source package ... OK
* checking if there is a namespace ... OK
* checking for hidden files and directories ... OK
* checking for portable file names ... OK
* checking for sufficient/correct file permissions ... OK
* checking whether package ‘packFinder’ can be installed ... OK
* checking installed package size ... OK
* checking package directory ... OK
* checking ‘build’ directory ... OK
* checking DESCRIPTION meta-information ... OK
* checking top-level files ... OK
* checking for left-over files ... OK
* checking index information ... OK
* checking package subdirectories ... OK
* checking code files for non-ASCII characters ... OK
* checking R files for syntax errors ... OK
* checking whether the package can be loaded ... OK
* checking whether the package can be loaded with stated dependencies ... OK
* checking whether the package can be unloaded cleanly ... OK
* checking whether the namespace can be loaded with stated dependencies ... OK
* checking whether the namespace can be unloaded cleanly ... OK
* checking dependencies in R code ... OK
* checking S3 generic/method consistency ... OK
* checking replacement functions ... OK
* checking foreign function calls ... OK
* checking R code for possible problems ... OK
* checking Rd files ... NOTE
checkRd: (-1) readBlast.Rd:100: Lost braces
   100 | code{\link{blastAnalysis}}, code{\link{blastAnnotate}},
       |     ^
checkRd: (-1) readBlast.Rd:100: Lost braces
   100 | code{\link{blastAnalysis}}, code{\link{blastAnnotate}},
       |                                 ^
checkRd: (-1) readBlast.Rd:101: Lost braces
   101 | code{\link{packAlign}}, 
       |     ^
checkRd: (-1) readBlast.Rd:102: Lost braces
   102 | code{\link{readUc}}, code{\link{packClust}}
       |     ^
checkRd: (-1) readBlast.Rd:102: Lost braces
   102 | code{\link{readUc}}, code{\link{packClust}}
       |                          ^
checkRd: (-1) readUc.Rd:98: Lost braces
    98 | code{\link{tirClust}}, code{\link{packAlign}}, 
       |     ^
checkRd: (-1) readUc.Rd:98: Lost braces
    98 | code{\link{tirClust}}, code{\link{packAlign}}, 
       |                            ^
checkRd: (-1) readUc.Rd:99: Lost braces
    99 | code{\link{readBlast}}, code{\link{packClust}}
       |     ^
checkRd: (-1) readUc.Rd:99: Lost braces
    99 | code{\link{readBlast}}, code{\link{packClust}}
       |                             ^
checkRd: (-1) tirClust.Rd:86: Lost braces
    86 | code{\link{packClust}}, code{\link{packAlign}},
       |     ^
checkRd: (-1) tirClust.Rd:86: Lost braces
    86 | code{\link{packClust}}, code{\link{packAlign}},
       |                             ^
* checking Rd metadata ... OK
* checking Rd cross-references ... OK
* checking for missing documentation entries ... OK
* checking for code/documentation mismatches ... OK
* checking Rd \usage sections ... OK
* checking Rd contents ... OK
* checking for unstated dependencies in examples ... OK
* checking contents of ‘data’ directory ... OK
* checking data for non-ASCII characters ... OK
* checking data for ASCII and uncompressed saves ... OK
* checking files in ‘vignettes’ ... OK
* checking examples ... OK
Examples with CPU (user + system) or elapsed time > 5s
                           user system elapsed
arabidopsisThalianaRefseq 8.672   0.45   9.268
* checking for unstated dependencies in ‘tests’ ... OK
* checking tests ...
  Running ‘testthat.R’
 OK
* checking for unstated dependencies in vignettes ... OK
* checking package vignettes ... OK
* checking running R code from vignettes ... SKIPPED
* checking re-building of vignette outputs ... SKIPPED
* checking PDF version of manual ... OK
* DONE

Status: 1 NOTE
See
  ‘/Users/biocbuild/bbs-3.20-bioc/meat/packFinder.Rcheck/00check.log’
for details.


Installation output

packFinder.Rcheck/00install.out

##############################################################################
##############################################################################
###
### Running command:
###
###   /Library/Frameworks/R.framework/Resources/bin/R CMD INSTALL packFinder
###
##############################################################################
##############################################################################


* installing to library ‘/Library/Frameworks/R.framework/Versions/4.4-x86_64/Resources/library’
* installing *source* package ‘packFinder’ ...
** using staged installation
** R
** data
** inst
** byte-compile and prepare package for lazy loading
** help
*** installing help indices
** building package indices
** installing vignettes
** testing if installed package can be loaded from temporary location
** testing if installed package can be loaded from final location
** testing if installed package keeps a record of temporary installation path
* DONE (packFinder)

Tests output

packFinder.Rcheck/tests/testthat.Rout


R version 4.4.2 (2024-10-31) -- "Pile of Leaves"
Copyright (C) 2024 The R Foundation for Statistical Computing
Platform: x86_64-apple-darwin20

R is free software and comes with ABSOLUTELY NO WARRANTY.
You are welcome to redistribute it under certain conditions.
Type 'license()' or 'licence()' for distribution details.

R is a collaborative project with many contributors.
Type 'contributors()' for more information and
'citation()' on how to cite R or R packages in publications.

Type 'demo()' for some demos, 'help()' for on-line help, or
'help.start()' for an HTML browser interface to help.
Type 'q()' to quit R.

> library(testthat)
> library(packFinder)
> 
> test_check("packFinder")
DNAStringSet object of length 1:
      width seq                                             names               
[1] 3800001 GGTGTTAAAAGGTTCTTGAGTG...TAGTCAGGTTTCTAACAGAAAA Chr3
[1] "File successfully written to tempTestOutput/packMatches.csv"
[1] "FASTA written to tempTestOutput/packMatches.fasta"
[ FAIL 0 | WARN 0 | SKIP 0 | PASS 31 ]
> 
> proc.time()
   user  system elapsed 
 13.109   0.754  14.472 

Example timings

packFinder.Rcheck/packFinder-Ex.timings

nameusersystemelapsed
arabidopsisThalianaRefseq8.6720.4509.268
blastAnalysis0.0010.0010.001
blastAnnotate0.0120.0040.016
collapseSeqs1.0310.0161.107
filterWildcards0.1450.0110.158
getPackSeqs2.3840.0182.489
getPacksFromCsv0.0050.0030.008
getPacksFromFasta0.1080.0120.124
getPacksFromGRanges0.1580.0040.165
getTsds0.1400.0100.155
identifyPotentialPackElements1.1050.0131.145
identifyTirMatches0.1250.0050.133
makeBlastDb000
packAlign0.1020.0060.111
packBlast0.0010.0010.001
packClust0.1030.0110.115
packMatches2.2810.0192.350
packSearch2.3250.0162.454
packsToCsv0.0050.0030.009
packsToFasta0.1420.0130.158
packsToGRanges0.0290.0030.032
readBlast0.0100.0020.011
readUc0.0070.0030.011
tirClust1.0830.0421.144