Back to Multiple platform build/check report for BioC 3.20:   simplified   long
ABCDEFGHIJKLMNO[P]QRSTUVWXYZ

This page was generated on 2025-02-03 12:08 -0500 (Mon, 03 Feb 2025).

HostnameOSArch (*)R versionInstalled pkgs
nebbiolo2Linux (Ubuntu 24.04.1 LTS)x86_644.4.2 (2024-10-31) -- "Pile of Leaves" 4746
palomino8Windows Server 2022 Datacenterx644.4.2 (2024-10-31 ucrt) -- "Pile of Leaves" 4494
merida1macOS 12.7.5 Montereyx86_644.4.2 (2024-10-31) -- "Pile of Leaves" 4517
kjohnson1macOS 13.6.6 Venturaarm644.4.2 (2024-10-31) -- "Pile of Leaves" 4469
taishanLinux (openEuler 24.03 LTS)aarch644.4.2 (2024-10-31) -- "Pile of Leaves" 4400
Click on any hostname to see more info about the system (e.g. compilers)      (*) as reported by 'uname -p', except on Windows and Mac OS X

Package 1522/2289HostnameOS / ArchINSTALLBUILDCHECKBUILD BIN
peakPantheR 1.20.0  (landing page)
Arnaud Wolfer
Snapshot Date: 2025-01-30 13:00 -0500 (Thu, 30 Jan 2025)
git_url: https://git.bioconductor.org/packages/peakPantheR
git_branch: RELEASE_3_20
git_last_commit: 89aef90
git_last_commit_date: 2024-10-29 10:40:22 -0500 (Tue, 29 Oct 2024)
nebbiolo2Linux (Ubuntu 24.04.1 LTS) / x86_64  OK    OK    OK  UNNEEDED, same version is already published
palomino8Windows Server 2022 Datacenter / x64  OK    OK    OK    OK  UNNEEDED, same version is already published
merida1macOS 12.7.5 Monterey / x86_64  OK    OK    OK    OK  UNNEEDED, same version is already published
kjohnson1macOS 13.6.6 Ventura / arm64  OK    OK    ERROR    OK  
taishanLinux (openEuler 24.03 LTS) / aarch64  OK    OK    ERROR  


CHECK results for peakPantheR on merida1

To the developers/maintainers of the peakPantheR package:
- Allow up to 24 hours (and sometimes 48 hours) for your latest push to git@git.bioconductor.org:packages/peakPantheR.git to reflect on this report. See Troubleshooting Build Report for more information.
- Use the following Renviron settings to reproduce errors and warnings.
- If 'R CMD check' started to fail recently on the Linux builder(s) over a missing dependency, add the missing dependency to 'Suggests:' in your DESCRIPTION file. See Renviron.bioc for more information.

raw results


Summary

Package: peakPantheR
Version: 1.20.0
Command: /Library/Frameworks/R.framework/Resources/bin/R CMD check --install=check:peakPantheR.install-out.txt --library=/Library/Frameworks/R.framework/Resources/library --no-vignettes --timings peakPantheR_1.20.0.tar.gz
StartedAt: 2025-01-31 07:55:00 -0500 (Fri, 31 Jan 2025)
EndedAt: 2025-01-31 08:27:34 -0500 (Fri, 31 Jan 2025)
EllapsedTime: 1953.5 seconds
RetCode: 0
Status:   OK  
CheckDir: peakPantheR.Rcheck
Warnings: 0

Command output

##############################################################################
##############################################################################
###
### Running command:
###
###   /Library/Frameworks/R.framework/Resources/bin/R CMD check --install=check:peakPantheR.install-out.txt --library=/Library/Frameworks/R.framework/Resources/library --no-vignettes --timings peakPantheR_1.20.0.tar.gz
###
##############################################################################
##############################################################################


* using log directory ‘/Users/biocbuild/bbs-3.20-bioc/meat/peakPantheR.Rcheck’
* using R version 4.4.2 (2024-10-31)
* using platform: x86_64-apple-darwin20
* R was compiled by
    Apple clang version 14.0.0 (clang-1400.0.29.202)
    GNU Fortran (GCC) 12.2.0
* running under: macOS Monterey 12.7.6
* using session charset: UTF-8
* using option ‘--no-vignettes’
* checking for file ‘peakPantheR/DESCRIPTION’ ... OK
* this is package ‘peakPantheR’ version ‘1.20.0’
* package encoding: UTF-8
* checking package namespace information ... OK
* checking package dependencies ... OK
* checking if this is a source package ... OK
* checking if there is a namespace ... OK
* checking for hidden files and directories ... OK
* checking for portable file names ... OK
* checking for sufficient/correct file permissions ... OK
* checking whether package ‘peakPantheR’ can be installed ... OK
* checking installed package size ... OK
* checking package directory ... OK
* checking ‘build’ directory ... OK
* checking DESCRIPTION meta-information ... OK
* checking top-level files ... OK
* checking for left-over files ... OK
* checking index information ... OK
* checking package subdirectories ... OK
* checking code files for non-ASCII characters ... OK
* checking R files for syntax errors ... OK
* checking whether the package can be loaded ... OK
* checking whether the package can be loaded with stated dependencies ... OK
* checking whether the package can be unloaded cleanly ... OK
* checking whether the namespace can be loaded with stated dependencies ... OK
* checking whether the namespace can be unloaded cleanly ... OK
* checking whether startup messages can be suppressed ... OK
* checking dependencies in R code ... OK
* checking S3 generic/method consistency ... OK
* checking replacement functions ... OK
* checking foreign function calls ... OK
* checking R code for possible problems ... OK
* checking Rd files ... OK
* checking Rd metadata ... OK
* checking Rd cross-references ... OK
* checking for missing documentation entries ... OK
* checking for code/documentation mismatches ... OK
* checking Rd \usage sections ... OK
* checking Rd contents ... OK
* checking for unstated dependencies in examples ... OK
* checking files in ‘vignettes’ ... OK
* checking examples ... OK
Examples with CPU (user + system) or elapsed time > 5s
                                                          user system elapsed
peakPantheR_ROIStatistics                               27.135  0.437  29.300
EICs-peakPantheRAnnotation-method                       22.881  1.182  24.750
peakPantheR_parallelAnnotation                          18.552  0.155  19.488
outputAnnotationDiagnostic-peakPantheRAnnotation-method 17.925  0.184  18.320
outputAnnotationResult-peakPantheRAnnotation-method     17.498  0.136  18.410
retentionTimeCorrection-peakPantheRAnnotation-method    12.232  0.080  13.112
peakPantheR_singleFileSearch                             6.230  0.065   6.401
peakPantheR_quickEIC                                     5.307  0.056   5.599
* checking for unstated dependencies in ‘tests’ ... OK
* checking tests ...
  Running ‘testthat.R’
 OK
* checking for unstated dependencies in vignettes ... OK
* checking package vignettes ... OK
* checking running R code from vignettes ... SKIPPED
* checking re-building of vignette outputs ... SKIPPED
* checking PDF version of manual ... OK
* DONE

Status: OK


Installation output

peakPantheR.Rcheck/00install.out

##############################################################################
##############################################################################
###
### Running command:
###
###   /Library/Frameworks/R.framework/Resources/bin/R CMD INSTALL peakPantheR
###
##############################################################################
##############################################################################


* installing to library ‘/Library/Frameworks/R.framework/Versions/4.4-x86_64/Resources/library’
* installing *source* package ‘peakPantheR’ ...
** using staged installation
** R
** inst
** byte-compile and prepare package for lazy loading
** help
*** installing help indices
*** copying figures
** building package indices
** installing vignettes
** testing if installed package can be loaded from temporary location
** testing if installed package can be loaded from final location
** testing if installed package keeps a record of temporary installation path
* DONE (peakPantheR)

Tests output

peakPantheR.Rcheck/tests/testthat.Rout


R version 4.4.2 (2024-10-31) -- "Pile of Leaves"
Copyright (C) 2024 The R Foundation for Statistical Computing
Platform: x86_64-apple-darwin20

R is free software and comes with ABSOLUTELY NO WARRANTY.
You are welcome to redistribute it under certain conditions.
Type 'license()' or 'licence()' for distribution details.

R is a collaborative project with many contributors.
Type 'contributors()' for more information and
'citation()' on how to cite R or R packages in publications.

Type 'demo()' for some demos, 'help()' for on-line help, or
'help.start()' for an HTML browser interface to help.
Type 'q()' to quit R.

> library(testthat)
> library(peakPantheR)

This is peakPantheR version 1.20.0 

> 
> test_check("peakPantheR")
[ FAIL 0 | WARN 0 | SKIP 0 | PASS 1478 ]
Warning messages:
1: In .Internal(gc(verbose, reset, full)) :
  closing unused connection 10 (/private/tmp/RtmpQMHFai/notValidXML.mzML)
2: In .Internal(gc(verbose, reset, full)) :
  closing unused connection 9 (/private/tmp/RtmpQMHFai/notValidXML.mzML)
3: In .Internal(gc(verbose, reset, full)) :
  closing unused connection 8 (/private/tmp/RtmpQMHFai/notValidXML.mzML)
4: In .Internal(gc(verbose, reset, full)) :
  closing unused connection 7 (/private/tmp/RtmpQMHFai/notValidXML.mzML)
5: In .Internal(gc(verbose, reset, full)) :
  closing unused connection 6 (/Library/Frameworks/R.framework/Versions/4.4-x86_64/Resources/library/peakPantheR/extdata/test_fakemzML.mzML)
6: In .Internal(gc(verbose, reset, full)) :
  closing unused connection 5 (/Library/Frameworks/R.framework/Versions/4.4-x86_64/Resources/library/peakPantheR/extdata/test_fakemzML.mzML)
> 
> proc.time()
    user   system  elapsed 
1072.105   10.431 1652.093 

Example timings

peakPantheR.Rcheck/peakPantheR-Ex.timings

nameusersystemelapsed
EICs-peakPantheRAnnotation-method22.881 1.18224.750
FIR-peakPantheRAnnotation-method0.1040.0060.112
ROI-peakPantheRAnnotation-method0.0950.0060.101
TIC-peakPantheRAnnotation-method0.0920.0050.096
acquisitionTime-peakPantheRAnnotation-method0.0910.0060.097
annotationDiagnosticPlots-peakPantheRAnnotation-method0.0910.0070.097
annotationParamsDiagnostic-peakPantheRAnnotation-method0.0960.0060.104
annotationTable-peakPantheRAnnotation-method0.0990.0070.107
annotation_diagnostic_multiplot_UI_helper0.2470.0070.256
annotation_fit_summary_UI_helper0.0180.0020.020
annotation_showMethod_UI_helper0.0090.0020.010
annotation_showText_UI_helper0.0010.0010.002
cpdID-peakPantheRAnnotation-method0.0940.0060.101
cpdMetadata-peakPantheRAnnotation-method0.0950.0060.103
cpdName-peakPantheRAnnotation-method0.0930.0060.101
dataPoints-peakPantheRAnnotation-method0.0960.0070.104
filename-peakPantheRAnnotation-method0.0980.0060.110
filepath-peakPantheRAnnotation-method0.0980.0090.113
initialise_annotation_from_files_UI_helper0.0290.0030.033
isAnnotated-peakPantheRAnnotation-method0.0920.0070.099
load_annotation_from_file_UI_helper0.0150.0020.019
nbCompounds-peakPantheRAnnotation-method0.0930.0070.101
nbSamples-peakPantheRAnnotation-method0.0920.0060.099
outputAnnotationDiagnostic-peakPantheRAnnotation-method17.925 0.18418.320
outputAnnotationFeatureMetadata_UI_helper0.0130.0010.014
outputAnnotationParamsCSV-peakPantheRAnnotation-method0.0600.0020.062
outputAnnotationResult-peakPantheRAnnotation-method17.498 0.13618.410
outputAnnotationSpectraMetadata_UI_helper0.0150.0010.018
peakFit-peakPantheRAnnotation-method0.0940.0060.104
peakPantheRAnnotation0.1190.0080.130
peakPantheR_ROIStatistics27.135 0.43729.300
peakPantheR_loadAnnotationParamsCSV0.0140.0030.018
peakPantheR_parallelAnnotation18.552 0.15519.488
peakPantheR_plotEICFit0.8510.0090.872
peakPantheR_plotPeakwidth1.3320.0261.510
peakPantheR_quickEIC5.3070.0565.599
peakPantheR_singleFileSearch6.2300.0656.401
peakPantheR_start_GUI0.0000.0010.001
peakTables-peakPantheRAnnotation-method0.0970.0060.107
resetAnnotation-peakPantheRAnnotation-method0.1080.0080.120
resetFIR-peakPantheRAnnotation-method0.0120.0020.016
retentionTimeCorrection-peakPantheRAnnotation-method12.232 0.08013.112
spectraMetadata-peakPantheRAnnotation-method0.0930.0060.105
spectraPaths_and_metadata_UI_helper0.0050.0030.007
spectra_metadata_colourScheme_UI_helper0.0130.0010.014
uROI-peakPantheRAnnotation-method0.1020.0070.116
uROIExist-peakPantheRAnnotation-method0.0990.0060.112
useFIR-peakPantheRAnnotation-method0.0910.0060.100
useUROI-peakPantheRAnnotation-method0.0950.0070.104