Back to Multiple platform build/check report for BioC 3.20: simplified long |
|
This page was generated on 2025-02-03 12:09 -0500 (Mon, 03 Feb 2025).
Hostname | OS | Arch (*) | R version | Installed pkgs |
---|---|---|---|---|
nebbiolo2 | Linux (Ubuntu 24.04.1 LTS) | x86_64 | 4.4.2 (2024-10-31) -- "Pile of Leaves" | 4746 |
palomino8 | Windows Server 2022 Datacenter | x64 | 4.4.2 (2024-10-31 ucrt) -- "Pile of Leaves" | 4494 |
merida1 | macOS 12.7.5 Monterey | x86_64 | 4.4.2 (2024-10-31) -- "Pile of Leaves" | 4517 |
kjohnson1 | macOS 13.6.6 Ventura | arm64 | 4.4.2 (2024-10-31) -- "Pile of Leaves" | 4469 |
taishan | Linux (openEuler 24.03 LTS) | aarch64 | 4.4.2 (2024-10-31) -- "Pile of Leaves" | 4400 |
Click on any hostname to see more info about the system (e.g. compilers) (*) as reported by 'uname -p', except on Windows and Mac OS X |
Package 1934/2289 | Hostname | OS / Arch | INSTALL | BUILD | CHECK | BUILD BIN | ||||||||
seqsetvis 1.26.0 (landing page) Joseph R Boyd
| nebbiolo2 | Linux (Ubuntu 24.04.1 LTS) / x86_64 | OK | OK | OK | ![]() | ||||||||
palomino8 | Windows Server 2022 Datacenter / x64 | OK | OK | OK | OK | ![]() | ||||||||
merida1 | macOS 12.7.5 Monterey / x86_64 | OK | OK | OK | OK | ![]() | ||||||||
kjohnson1 | macOS 13.6.6 Ventura / arm64 | OK | OK | OK | OK | ![]() | ||||||||
taishan | Linux (openEuler 24.03 LTS) / aarch64 | OK | OK | OK | ||||||||||
To the developers/maintainers of the seqsetvis package: - Allow up to 24 hours (and sometimes 48 hours) for your latest push to git@git.bioconductor.org:packages/seqsetvis.git to reflect on this report. See Troubleshooting Build Report for more information. - Use the following Renviron settings to reproduce errors and warnings. - If 'R CMD check' started to fail recently on the Linux builder(s) over a missing dependency, add the missing dependency to 'Suggests:' in your DESCRIPTION file. See Renviron.bioc for more information. |
Package: seqsetvis |
Version: 1.26.0 |
Command: /Library/Frameworks/R.framework/Resources/bin/R CMD check --install=check:seqsetvis.install-out.txt --library=/Library/Frameworks/R.framework/Resources/library --no-vignettes --timings seqsetvis_1.26.0.tar.gz |
StartedAt: 2025-01-31 10:00:50 -0500 (Fri, 31 Jan 2025) |
EndedAt: 2025-01-31 10:22:55 -0500 (Fri, 31 Jan 2025) |
EllapsedTime: 1325.1 seconds |
RetCode: 0 |
Status: OK |
CheckDir: seqsetvis.Rcheck |
Warnings: 0 |
############################################################################## ############################################################################## ### ### Running command: ### ### /Library/Frameworks/R.framework/Resources/bin/R CMD check --install=check:seqsetvis.install-out.txt --library=/Library/Frameworks/R.framework/Resources/library --no-vignettes --timings seqsetvis_1.26.0.tar.gz ### ############################################################################## ############################################################################## * using log directory ‘/Users/biocbuild/bbs-3.20-bioc/meat/seqsetvis.Rcheck’ * using R version 4.4.2 (2024-10-31) * using platform: x86_64-apple-darwin20 * R was compiled by Apple clang version 14.0.0 (clang-1400.0.29.202) GNU Fortran (GCC) 12.2.0 * running under: macOS Monterey 12.7.6 * using session charset: UTF-8 * using option ‘--no-vignettes’ * checking for file ‘seqsetvis/DESCRIPTION’ ... OK * checking extension type ... Package * this is package ‘seqsetvis’ version ‘1.26.0’ * package encoding: UTF-8 * checking package namespace information ... OK * checking package dependencies ... OK * checking if this is a source package ... OK * checking if there is a namespace ... OK * checking for hidden files and directories ... OK * checking for portable file names ... OK * checking for sufficient/correct file permissions ... OK * checking whether package ‘seqsetvis’ can be installed ... OK * checking installed package size ... OK * checking package directory ... OK * checking ‘build’ directory ... OK * checking DESCRIPTION meta-information ... OK * checking top-level files ... OK * checking for left-over files ... OK * checking index information ... OK * checking package subdirectories ... OK * checking code files for non-ASCII characters ... OK * checking R files for syntax errors ... OK * checking whether the package can be loaded ... OK * checking whether the package can be loaded with stated dependencies ... OK * checking whether the package can be unloaded cleanly ... OK * checking whether the namespace can be loaded with stated dependencies ... OK * checking whether the namespace can be unloaded cleanly ... OK * checking dependencies in R code ... OK * checking S3 generic/method consistency ... OK * checking replacement functions ... OK * checking foreign function calls ... OK * checking R code for possible problems ... OK * checking Rd files ... OK * checking Rd metadata ... OK * checking Rd cross-references ... OK * checking for missing documentation entries ... OK * checking for code/documentation mismatches ... OK * checking Rd \usage sections ... OK * checking Rd contents ... OK * checking for unstated dependencies in examples ... OK * checking contents of ‘data’ directory ... OK * checking data for non-ASCII characters ... OK * checking data for ASCII and uncompressed saves ... OK * checking files in ‘vignettes’ ... OK * checking examples ... OK Examples with CPU (user + system) or elapsed time > 5s user system elapsed ssvFetchBam 15.088 0.464 16.150 ssvFeatureBinaryHeatmap 9.469 0.829 10.398 ssvSignalHeatmap 9.475 0.348 9.808 ssvSignalBandedQuantiles 9.640 0.113 9.873 merge_clusters 8.124 0.126 8.779 ssvSignalHeatmap.ClusterBars 7.356 0.118 7.488 ssvSignalClustering 6.193 0.117 6.310 add_cluster_annotation 5.873 0.377 6.473 ssvFeatureUpset 5.837 0.080 5.965 reverse_clusters 5.724 0.062 5.952 ssvSignalLineplot 5.045 0.043 5.362 ssvFetchBamPE 4.523 0.300 5.207 * checking for unstated dependencies in ‘tests’ ... OK * checking tests ... Running ‘testthat.R’ OK * checking for unstated dependencies in vignettes ... OK * checking package vignettes ... OK * checking running R code from vignettes ... SKIPPED * checking re-building of vignette outputs ... SKIPPED * checking PDF version of manual ... OK * DONE Status: OK
seqsetvis.Rcheck/00install.out
############################################################################## ############################################################################## ### ### Running command: ### ### /Library/Frameworks/R.framework/Resources/bin/R CMD INSTALL seqsetvis ### ############################################################################## ############################################################################## * installing to library ‘/Library/Frameworks/R.framework/Versions/4.4-x86_64/Resources/library’ * installing *source* package ‘seqsetvis’ ... ** using staged installation ** R ** data ** inst ** byte-compile and prepare package for lazy loading ** help *** installing help indices ** building package indices ** installing vignettes ** testing if installed package can be loaded from temporary location ** testing if installed package can be loaded from final location ** testing if installed package keeps a record of temporary installation path * DONE (seqsetvis)
seqsetvis.Rcheck/tests/testthat.Rout
R version 4.4.2 (2024-10-31) -- "Pile of Leaves" Copyright (C) 2024 The R Foundation for Statistical Computing Platform: x86_64-apple-darwin20 R is free software and comes with ABSOLUTELY NO WARRANTY. You are welcome to redistribute it under certain conditions. Type 'license()' or 'licence()' for distribution details. R is a collaborative project with many contributors. Type 'contributors()' for more information and 'citation()' on how to cite R or R packages in publications. Type 'demo()' for some demos, 'help()' for on-line help, or 'help.start()' for an HTML browser interface to help. Type 'q()' to quit R. > > ## load dependencies > library(testthat) > library(seqsetvis) Loading required package: ggplot2 > library(data.table) > > ## test package > test_check(package = "seqsetvis") [ FAIL 0 | WARN 0 | SKIP 0 | PASS 1284 ] > > proc.time() user system elapsed 636.571 10.906 647.223
seqsetvis.Rcheck/seqsetvis-Ex.timings
name | user | system | elapsed | |
add_cluster_annotation | 5.873 | 0.377 | 6.473 | |
append_ynorm | 0.102 | 0.012 | 0.196 | |
applyMovingAverage | 1.592 | 0.016 | 1.668 | |
applySpline | 1.119 | 0.032 | 0.751 | |
assemble_heatmap_cluster_bars | 1.835 | 0.037 | 1.937 | |
calc_norm_factors | 0.070 | 0.007 | 0.105 | |
centerAtMax | 0.800 | 0.036 | 0.719 | |
centerFixedSizeGRanges | 0.286 | 0.014 | 0.305 | |
centerGRangesAtMax | 0.877 | 0.034 | 0.950 | |
clusteringKmeans | 0.058 | 0.009 | 0.066 | |
clusteringKmeansNestedHclust | 0.070 | 0.012 | 0.078 | |
col2hex | 0.002 | 0.001 | 0.002 | |
collapse_gr | 1.550 | 0.023 | 1.628 | |
convert_collapsed_coord | 0.412 | 0.017 | 0.459 | |
copy_clust_info | 3.827 | 0.058 | 4.080 | |
crossCorrByRle | 0.743 | 0.016 | 0.806 | |
easyLoad_FUN | 0.103 | 0.002 | 0.111 | |
easyLoad_IDRmerged | 0.089 | 0.003 | 0.099 | |
easyLoad_bed | 0.309 | 0.003 | 0.324 | |
easyLoad_broadPeak | 0.081 | 0.003 | 0.088 | |
easyLoad_narrowPeak | 0.086 | 0.003 | 0.094 | |
easyLoad_seacr | 0.092 | 0.002 | 0.100 | |
expandCigar | 0.352 | 0.039 | 0.412 | |
findMaxPos | 0.071 | 0.017 | 0.086 | |
fragLen_calcStranded | 4.101 | 0.067 | 4.286 | |
fragLen_fromMacs2Xls | 0.004 | 0.001 | 0.005 | |
getReadLength | 0.122 | 0.011 | 0.134 | |
get_mapped_reads | 0.017 | 0.002 | 0.020 | |
ggellipse | 1.248 | 0.009 | 1.268 | |
harmonize_seqlengths | 0.188 | 0.013 | 0.202 | |
make_clustering_matrix | 0.204 | 0.009 | 0.209 | |
merge_clusters | 8.124 | 0.126 | 8.779 | |
prepare_fetch_GRanges | 0.066 | 0.004 | 0.070 | |
prepare_fetch_GRanges_names | 0.182 | 0.006 | 0.188 | |
prepare_fetch_GRanges_width | 0.064 | 0.004 | 0.069 | |
quantileGRangesWidth | 0.005 | 0.003 | 0.007 | |
reorder_clusters_hclust | 4.633 | 0.107 | 4.904 | |
reorder_clusters_manual | 2.430 | 0.034 | 2.481 | |
reorder_clusters_stepdown | 4.608 | 0.037 | 4.714 | |
reverse_clusters | 5.724 | 0.062 | 5.952 | |
safeBrew | 0.048 | 0.005 | 0.053 | |
split_cluster | 4.283 | 0.053 | 4.725 | |
ssvAnnotateSubjectGRanges | 2.202 | 0.054 | 2.298 | |
ssvConsensusIntervalSets | 0.674 | 0.015 | 0.703 | |
ssvFactorizeMembTable | 0.031 | 0.009 | 0.040 | |
ssvFeatureBars | 1.199 | 0.009 | 1.217 | |
ssvFeatureBinaryHeatmap | 9.469 | 0.829 | 10.398 | |
ssvFeatureEuler | 1.201 | 0.012 | 1.231 | |
ssvFeaturePie | 1.081 | 0.018 | 1.106 | |
ssvFeatureUpset | 5.837 | 0.080 | 5.965 | |
ssvFeatureVenn | 2.152 | 0.017 | 2.194 | |
ssvFetchBam | 15.088 | 0.464 | 16.150 | |
ssvFetchBamPE | 4.523 | 0.300 | 5.207 | |
ssvFetchBamPE.RNA | 3.485 | 0.082 | 3.454 | |
ssvFetchBigwig | 3.152 | 0.063 | 3.120 | |
ssvFetchGRanges | 1.738 | 0.013 | 1.764 | |
ssvFetchSignal | 3.499 | 0.077 | 3.611 | |
ssvMakeMembTable-methods | 1.131 | 0.017 | 1.160 | |
ssvOverlapIntervalSets | 0.515 | 0.015 | 0.555 | |
ssvSignalBandedQuantiles | 9.640 | 0.113 | 9.873 | |
ssvSignalClustering | 6.193 | 0.117 | 6.310 | |
ssvSignalHeatmap.ClusterBars | 7.356 | 0.118 | 7.488 | |
ssvSignalHeatmap | 9.475 | 0.348 | 9.808 | |
ssvSignalLineplot | 5.045 | 0.043 | 5.362 | |
ssvSignalLineplotAgg | 1.802 | 0.022 | 1.978 | |
ssvSignalScatterplot | 2.242 | 0.042 | 1.983 | |
viewGRangesWinSample_dt | 3.015 | 0.074 | 3.235 | |
viewGRangesWinSummary_dt | 2.779 | 0.072 | 3.028 | |
within_clust_sort | 4.127 | 0.059 | 3.505 | |