Back to Multiple platform build/check report for BioC 3.20:   simplified   long
ABCDEFGHIJKLMNOPQR[S]TUVWXYZ

This page was generated on 2025-02-03 12:12 -0500 (Mon, 03 Feb 2025).

HostnameOSArch (*)R versionInstalled pkgs
nebbiolo2Linux (Ubuntu 24.04.1 LTS)x86_644.4.2 (2024-10-31) -- "Pile of Leaves" 4746
palomino8Windows Server 2022 Datacenterx644.4.2 (2024-10-31 ucrt) -- "Pile of Leaves" 4494
merida1macOS 12.7.5 Montereyx86_644.4.2 (2024-10-31) -- "Pile of Leaves" 4517
kjohnson1macOS 13.6.6 Venturaarm644.4.2 (2024-10-31) -- "Pile of Leaves" 4469
taishanLinux (openEuler 24.03 LTS)aarch644.4.2 (2024-10-31) -- "Pile of Leaves" 4400
Click on any hostname to see more info about the system (e.g. compilers)      (*) as reported by 'uname -p', except on Windows and Mac OS X

Package 2016/2289HostnameOS / ArchINSTALLBUILDCHECKBUILD BIN
spatialDE 1.12.0  (landing page)
Gabriele Sales
Snapshot Date: 2025-01-30 13:00 -0500 (Thu, 30 Jan 2025)
git_url: https://git.bioconductor.org/packages/spatialDE
git_branch: RELEASE_3_20
git_last_commit: 8d3fc1f
git_last_commit_date: 2024-10-29 11:03:13 -0500 (Tue, 29 Oct 2024)
nebbiolo2Linux (Ubuntu 24.04.1 LTS) / x86_64  OK    OK    OK  UNNEEDED, same version is already published
palomino8Windows Server 2022 Datacenter / x64  OK    OK    OK    OK  UNNEEDED, same version is already published
merida1macOS 12.7.5 Monterey / x86_64  OK    OK    OK    OK  UNNEEDED, same version is already published
kjohnson1macOS 13.6.6 Ventura / arm64  OK    OK    OK    OK  UNNEEDED, same version is already published
taishanLinux (openEuler 24.03 LTS) / aarch64  OK    OK    OK  


CHECK results for spatialDE on taishan

To the developers/maintainers of the spatialDE package:
- Allow up to 24 hours (and sometimes 48 hours) for your latest push to git@git.bioconductor.org:packages/spatialDE.git to reflect on this report. See Troubleshooting Build Report for more information.
- Use the following Renviron settings to reproduce errors and warnings.
- If 'R CMD check' started to fail recently on the Linux builder(s) over a missing dependency, add the missing dependency to 'Suggests:' in your DESCRIPTION file. See Renviron.bioc for more information.
- See Martin Grigorov's blog post for how to debug Linux ARM64 related issues on a x86_64 host.

raw results


Summary

Package: spatialDE
Version: 1.12.0
Command: /home/biocbuild/R/R/bin/R CMD check --install=check:spatialDE.install-out.txt --library=/home/biocbuild/R/R/site-library --no-vignettes --timings spatialDE_1.12.0.tar.gz
StartedAt: 2025-01-31 10:38:19 -0000 (Fri, 31 Jan 2025)
EndedAt: 2025-01-31 10:43:49 -0000 (Fri, 31 Jan 2025)
EllapsedTime: 330.3 seconds
RetCode: 0
Status:   OK  
CheckDir: spatialDE.Rcheck
Warnings: 0

Command output

##############################################################################
##############################################################################
###
### Running command:
###
###   /home/biocbuild/R/R/bin/R CMD check --install=check:spatialDE.install-out.txt --library=/home/biocbuild/R/R/site-library --no-vignettes --timings spatialDE_1.12.0.tar.gz
###
##############################################################################
##############################################################################


* using log directory ‘/home/biocbuild/bbs-3.20-bioc/meat/spatialDE.Rcheck’
* using R version 4.4.2 (2024-10-31)
* using platform: aarch64-unknown-linux-gnu
* R was compiled by
    aarch64-unknown-linux-gnu-gcc (GCC) 14.2.0
    GNU Fortran (GCC) 12.3.1 (openEuler 12.3.1-36.oe2403)
* running under: openEuler 24.03 (LTS)
* using session charset: UTF-8
* using option ‘--no-vignettes’
* checking for file ‘spatialDE/DESCRIPTION’ ... OK
* this is package ‘spatialDE’ version ‘1.12.0’
* package encoding: UTF-8
* checking package namespace information ... OK
* checking package dependencies ... OK
* checking if this is a source package ... OK
* checking if there is a namespace ... OK
* checking for hidden files and directories ... OK
* checking for portable file names ... OK
* checking for sufficient/correct file permissions ... OK
* checking whether package ‘spatialDE’ can be installed ... NOTE
Found the following notes/warnings:
  Non-staged installation was used
See ‘/home/biocbuild/bbs-3.20-bioc/meat/spatialDE.Rcheck/00install.out’ for details.
* checking installed package size ... OK
* checking package directory ... OK
* checking ‘build’ directory ... OK
* checking DESCRIPTION meta-information ... OK
* checking top-level files ... OK
* checking for left-over files ... OK
* checking index information ... OK
* checking package subdirectories ... OK
* checking code files for non-ASCII characters ... OK
* checking R files for syntax errors ... OK
* checking whether the package can be loaded ... OK
* checking whether the package can be loaded with stated dependencies ... OK
* checking whether the package can be unloaded cleanly ... OK
* checking whether the namespace can be loaded with stated dependencies ... OK
* checking whether the namespace can be unloaded cleanly ... OK
* checking loading without being on the library search path ... OK
* checking dependencies in R code ... OK
* checking S3 generic/method consistency ... OK
* checking replacement functions ... OK
* checking foreign function calls ... OK
* checking R code for possible problems ... OK
* checking Rd files ... OK
* checking Rd metadata ... OK
* checking Rd cross-references ... OK
* checking for missing documentation entries ... OK
* checking for code/documentation mismatches ... OK
* checking Rd \usage sections ... OK
* checking Rd contents ... OK
* checking for unstated dependencies in examples ... OK
* checking contents of ‘data’ directory ... OK
* checking data for non-ASCII characters ... OK
* checking data for ASCII and uncompressed saves ... OK
* checking line endings in shell scripts ... OK
* checking files in ‘vignettes’ ... OK
* checking examples ... OK
Examples with CPU (user + system) or elapsed time > 5s
                   user system elapsed
spatial_patterns 22.934  0.027  23.024
FSV_sig           5.345  0.566   7.012
* checking for unstated dependencies in ‘tests’ ... OK
* checking tests ...
  Running ‘testthat.R’
 OK
* checking for unstated dependencies in vignettes ... OK
* checking package vignettes ... OK
* checking running R code from vignettes ... SKIPPED
* checking re-building of vignette outputs ... SKIPPED
* checking PDF version of manual ... OK
* DONE

Status: 1 NOTE
See
  ‘/home/biocbuild/bbs-3.20-bioc/meat/spatialDE.Rcheck/00check.log’
for details.


Installation output

spatialDE.Rcheck/00install.out

##############################################################################
##############################################################################
###
### Running command:
###
###   /home/biocbuild/R/R/bin/R CMD INSTALL spatialDE
###
##############################################################################
##############################################################################


* installing to library ‘/home/biocbuild/R/R-4.4.2/site-library’
* installing *source* package ‘spatialDE’ ...
** using non-staged installation via StagedInstall field
** R
** data
** inst
** byte-compile and prepare package for lazy loading
** help
*** installing help indices
** building package indices
** installing vignettes
** testing if installed package can be loaded
* DONE (spatialDE)

Tests output

spatialDE.Rcheck/tests/testthat.Rout


R version 4.4.2 (2024-10-31) -- "Pile of Leaves"
Copyright (C) 2024 The R Foundation for Statistical Computing
Platform: aarch64-unknown-linux-gnu

R is free software and comes with ABSOLUTELY NO WARRANTY.
You are welcome to redistribute it under certain conditions.
Type 'license()' or 'licence()' for distribution details.

R is a collaborative project with many contributors.
Type 'contributors()' for more information and
'citation()' on how to cite R or R packages in publications.

Type 'demo()' for some demos, 'help()' for on-line help, or
'help.start()' for an HTML browser interface to help.
Type 'q()' to quit R.

> library(testthat)
> library(spatialDE)
> 
> test_check("spatialDE")
Loading required package: SingleCellExperiment
Loading required package: SummarizedExperiment
Loading required package: MatrixGenerics
Loading required package: matrixStats

Attaching package: 'MatrixGenerics'

The following objects are masked from 'package:matrixStats':

    colAlls, colAnyNAs, colAnys, colAvgsPerRowSet, colCollapse,
    colCounts, colCummaxs, colCummins, colCumprods, colCumsums,
    colDiffs, colIQRDiffs, colIQRs, colLogSumExps, colMadDiffs,
    colMads, colMaxs, colMeans2, colMedians, colMins, colOrderStats,
    colProds, colQuantiles, colRanges, colRanks, colSdDiffs, colSds,
    colSums2, colTabulates, colVarDiffs, colVars, colWeightedMads,
    colWeightedMeans, colWeightedMedians, colWeightedSds,
    colWeightedVars, rowAlls, rowAnyNAs, rowAnys, rowAvgsPerColSet,
    rowCollapse, rowCounts, rowCummaxs, rowCummins, rowCumprods,
    rowCumsums, rowDiffs, rowIQRDiffs, rowIQRs, rowLogSumExps,
    rowMadDiffs, rowMads, rowMaxs, rowMeans2, rowMedians, rowMins,
    rowOrderStats, rowProds, rowQuantiles, rowRanges, rowRanks,
    rowSdDiffs, rowSds, rowSums2, rowTabulates, rowVarDiffs, rowVars,
    rowWeightedMads, rowWeightedMeans, rowWeightedMedians,
    rowWeightedSds, rowWeightedVars

Loading required package: GenomicRanges
Loading required package: stats4
Loading required package: BiocGenerics

Attaching package: 'BiocGenerics'

The following objects are masked from 'package:stats':

    IQR, mad, sd, var, xtabs

The following objects are masked from 'package:base':

    Filter, Find, Map, Position, Reduce, anyDuplicated, aperm, append,
    as.data.frame, basename, cbind, colnames, dirname, do.call,
    duplicated, eval, evalq, get, grep, grepl, intersect, is.unsorted,
    lapply, mapply, match, mget, order, paste, pmax, pmax.int, pmin,
    pmin.int, rank, rbind, rownames, sapply, saveRDS, setdiff, table,
    tapply, union, unique, unsplit, which.max, which.min

Loading required package: S4Vectors

Attaching package: 'S4Vectors'

The following object is masked from 'package:utils':

    findMatches

The following objects are masked from 'package:base':

    I, expand.grid, unname

Loading required package: IRanges
Loading required package: GenomeInfoDb
Loading required package: Biobase
Welcome to Bioconductor

    Vignettes contain introductory material; view with
    'browseVignettes()'. To cite Bioconductor, see
    'citation("Biobase")', and for packages 'citation("pkgname")'.


Attaching package: 'Biobase'

The following object is masked from 'package:MatrixGenerics':

    rowMedians

The following objects are masked from 'package:matrixStats':

    anyMissing, rowMedians


Models:   0%|          | 0/10 [00:00<?, ?it/s]

  0%|          | 0/100 [00:00<?, ?it/s]

 27%|██▋       | 27/100 [00:00<00:00, 265.98it/s]

 54%|█████▍    | 54/100 [00:00<00:00, 252.25it/s]

 80%|████████  | 80/100 [00:00<00:00, 246.56it/s]

                                                 
Models:  10%|█         | 1/10 [00:00<00:03,  2.46it/s]

  0%|          | 0/100 [00:00<?, ?it/s]

 23%|██▎       | 23/100 [00:00<00:00, 222.80it/s]

 46%|████▌     | 46/100 [00:00<00:00, 207.99it/s]

 67%|██████▋   | 67/100 [00:00<00:00, 195.27it/s]

 87%|████████▋ | 87/100 [00:00<00:00, 186.37it/s]

                                                 
Models:  20%|██        | 2/10 [00:00<00:03,  2.13it/s]

  0%|          | 0/100 [00:00<?, ?it/s]

 22%|██▏       | 22/100 [00:00<00:00, 219.18it/s]

 44%|████▍     | 44/100 [00:00<00:00, 194.40it/s]

 64%|██████▍   | 64/100 [00:00<00:00, 178.54it/s]

 83%|████████▎ | 83/100 [00:00<00:00, 172.14it/s]

                                                 
Models:  30%|███       | 3/10 [00:01<00:03,  1.95it/s]

  0%|          | 0/100 [00:00<?, ?it/s]

 22%|██▏       | 22/100 [00:00<00:00, 209.04it/s]

 43%|████▎     | 43/100 [00:00<00:00, 182.83it/s]

 62%|██████▏   | 62/100 [00:00<00:00, 172.90it/s]

 80%|████████  | 80/100 [00:00<00:00, 166.75it/s]

 97%|█████████▋| 97/100 [00:00<00:00, 165.25it/s]

                                                 
Models:  40%|████      | 4/10 [00:02<00:03,  1.84it/s]

  0%|          | 0/100 [00:00<?, ?it/s]

 21%|██        | 21/100 [00:00<00:00, 201.43it/s]

 42%|████▏     | 42/100 [00:00<00:00, 175.15it/s]

 60%|██████    | 60/100 [00:00<00:00, 170.72it/s]

 78%|███████▊  | 78/100 [00:00<00:00, 163.10it/s]

 95%|█████████▌| 95/100 [00:00<00:00, 161.88it/s]

                                                 
Models:  50%|█████     | 5/10 [00:02<00:02,  1.77it/s]

  0%|          | 0/100 [00:00<?, ?it/s]

 21%|██        | 21/100 [00:00<00:00, 205.97it/s]

 42%|████▏     | 42/100 [00:00<00:00, 177.03it/s]

 60%|██████    | 60/100 [00:00<00:00, 167.86it/s]

 77%|███████▋  | 77/100 [00:00<00:00, 162.80it/s]

 94%|█████████▍| 94/100 [00:00<00:00, 159.82it/s]

                                                 
Models:  60%|██████    | 6/10 [00:03<00:02,  1.72it/s]

  0%|          | 0/100 [00:00<?, ?it/s]

 21%|██        | 21/100 [00:00<00:00, 203.76it/s]

 42%|████▏     | 42/100 [00:00<00:00, 182.56it/s]

 61%|██████    | 61/100 [00:00<00:00, 175.65it/s]

 79%|███████▉  | 79/100 [00:00<00:00, 171.35it/s]

 97%|█████████▋| 97/100 [00:00<00:00, 169.19it/s]

                                                 
Models:  70%|███████   | 7/10 [00:03<00:01,  1.72it/s]

  0%|          | 0/100 [00:00<?, ?it/s]

 21%|██        | 21/100 [00:00<00:00, 201.66it/s]

 42%|████▏     | 42/100 [00:00<00:00, 184.52it/s]

 61%|██████    | 61/100 [00:00<00:00, 177.12it/s]

 79%|███████▉  | 79/100 [00:00<00:00, 172.95it/s]

 97%|█████████▋| 97/100 [00:00<00:00, 170.19it/s]

                                                 
Models:  80%|████████  | 8/10 [00:04<00:01,  1.73it/s]

  0%|          | 0/100 [00:00<?, ?it/s]

 21%|██        | 21/100 [00:00<00:00, 208.47it/s]

 42%|████▏     | 42/100 [00:00<00:00, 190.99it/s]

 62%|██████▏   | 62/100 [00:00<00:00, 183.47it/s]

 81%|████████  | 81/100 [00:00<00:00, 155.38it/s]

 99%|█████████▉| 99/100 [00:00<00:00, 162.57it/s]

                                                 
Models:  90%|█████████ | 9/10 [00:05<00:00,  1.71it/s]

  0%|          | 0/100 [00:00<?, ?it/s]

 22%|██▏       | 22/100 [00:00<00:00, 217.70it/s]

 44%|████▍     | 44/100 [00:00<00:00, 212.38it/s]

 66%|██████▌   | 66/100 [00:00<00:00, 207.02it/s]

 87%|████████▋ | 87/100 [00:00<00:00, 200.01it/s]

                                                 
Models: 100%|██████████| 10/10 [00:05<00:00,  1.79it/s]
Models: 100%|██████████| 10/10 [00:05<00:00,  1.80it/s]

Models:   0%|          | 0/10 [00:00<?, ?it/s]

  0%|          | 0/100 [00:00<?, ?it/s]

 29%|██▉       | 29/100 [00:00<00:00, 280.66it/s]

 58%|█████▊    | 58/100 [00:00<00:00, 254.66it/s]

 84%|████████▍ | 84/100 [00:00<00:00, 254.08it/s]

                                                 
Models:  10%|█         | 1/10 [00:00<00:03,  2.53it/s]

  0%|          | 0/100 [00:00<?, ?it/s]

 24%|██▍       | 24/100 [00:00<00:00, 228.38it/s]

 47%|████▋     | 47/100 [00:00<00:00, 191.81it/s]

 67%|██████▋   | 67/100 [00:00<00:00, 187.99it/s]

 86%|████████▌ | 86/100 [00:00<00:00, 186.06it/s]

                                                 
Models:  20%|██        | 2/10 [00:00<00:03,  2.10it/s]

  0%|          | 0/100 [00:00<?, ?it/s]

 23%|██▎       | 23/100 [00:00<00:00, 220.95it/s]

 46%|████▌     | 46/100 [00:00<00:00, 184.13it/s]

 65%|██████▌   | 65/100 [00:00<00:00, 179.92it/s]

 84%|████████▍ | 84/100 [00:00<00:00, 177.56it/s]

                                                 
Models:  30%|███       | 3/10 [00:01<00:03,  1.94it/s]

  0%|          | 0/100 [00:00<?, ?it/s]

 21%|██        | 21/100 [00:00<00:00, 203.03it/s]

 42%|████▏     | 42/100 [00:00<00:00, 175.22it/s]

 60%|██████    | 60/100 [00:00<00:00, 171.31it/s]

 78%|███████▊  | 78/100 [00:00<00:00, 172.55it/s]

 96%|█████████▌| 96/100 [00:00<00:00, 172.31it/s]

                                                 
Models:  40%|████      | 4/10 [00:02<00:03,  1.85it/s]

  0%|          | 0/100 [00:00<?, ?it/s]

 22%|██▏       | 22/100 [00:00<00:00, 211.00it/s]

 44%|████▍     | 44/100 [00:00<00:00, 180.03it/s]

 63%|██████▎   | 63/100 [00:00<00:00, 173.99it/s]

 81%|████████  | 81/100 [00:00<00:00, 171.37it/s]

 99%|█████████▉| 99/100 [00:00<00:00, 169.81it/s]

                                                 
Models:  50%|█████     | 5/10 [00:02<00:02,  1.81it/s]

  0%|          | 0/100 [00:00<?, ?it/s]

 22%|██▏       | 22/100 [00:00<00:00, 212.91it/s]

 44%|████▍     | 44/100 [00:00<00:00, 184.36it/s]

 63%|██████▎   | 63/100 [00:00<00:00, 177.33it/s]

 81%|████████  | 81/100 [00:00<00:00, 174.62it/s]

 99%|█████████▉| 99/100 [00:00<00:00, 172.67it/s]

                                                 
Models:  60%|██████    | 6/10 [00:03<00:02,  1.79it/s]

  0%|          | 0/100 [00:00<?, ?it/s]

 22%|██▏       | 22/100 [00:00<00:00, 214.06it/s]

 44%|████▍     | 44/100 [00:00<00:00, 186.64it/s]

 63%|██████▎   | 63/100 [00:00<00:00, 180.31it/s]

 82%|████████▏ | 82/100 [00:00<00:00, 178.75it/s]

100%|██████████| 100/100 [00:00<00:00, 178.22it/s]

                                                  
Models:  70%|███████   | 7/10 [00:03<00:01,  1.79it/s]

  0%|          | 0/100 [00:00<?, ?it/s]

 21%|██        | 21/100 [00:00<00:00, 206.15it/s]

 42%|████▏     | 42/100 [00:00<00:00, 182.24it/s]

 61%|██████    | 61/100 [00:00<00:00, 179.63it/s]

 80%|████████  | 80/100 [00:00<00:00, 176.31it/s]

 98%|█████████▊| 98/100 [00:00<00:00, 176.47it/s]

                                                 
Models:  80%|████████  | 8/10 [00:04<00:01,  1.79it/s]

  0%|          | 0/100 [00:00<?, ?it/s]

 22%|██▏       | 22/100 [00:00<00:00, 210.51it/s]

 44%|████▍     | 44/100 [00:00<00:00, 188.68it/s]

 64%|██████▍   | 64/100 [00:00<00:00, 183.34it/s]

 83%|████████▎ | 83/100 [00:00<00:00, 182.96it/s]

                                                 
Models:  90%|█████████ | 9/10 [00:04<00:00,  1.81it/s]

  0%|          | 0/100 [00:00<?, ?it/s]

 22%|██▏       | 22/100 [00:00<00:00, 216.36it/s]

 44%|████▍     | 44/100 [00:00<00:00, 195.16it/s]

 64%|██████▍   | 64/100 [00:00<00:00, 190.72it/s]

 84%|████████▍ | 84/100 [00:00<00:00, 188.67it/s]

                                                 
Models: 100%|██████████| 10/10 [00:05<00:00,  1.83it/s]
Models: 100%|██████████| 10/10 [00:05<00:00,  1.85it/s]
/home/biocbuild/.cache/R/basilisk/1.18.0/spatialDE/1.12.0/env/lib/python3.10/site-packages/pandas/core/internals/blocks.py:351: RuntimeWarning: invalid value encountered in log
  result = func(self.values, **kwargs)

Models:   0%|          | 0/10 [00:00<?, ?it/s]

  0%|          | 0/100 [00:00<?, ?it/s]

 27%|██▋       | 27/100 [00:00<00:00, 265.99it/s]

 54%|█████▍    | 54/100 [00:00<00:00, 264.54it/s]

 82%|████████▏ | 82/100 [00:00<00:00, 269.60it/s]

                                                 
Models:  10%|█         | 1/10 [00:00<00:03,  2.69it/s]

  0%|          | 0/100 [00:00<?, ?it/s]

 24%|██▍       | 24/100 [00:00<00:00, 229.50it/s]

 47%|████▋     | 47/100 [00:00<00:00, 213.57it/s]

 69%|██████▉   | 69/100 [00:00<00:00, 206.09it/s]

 90%|█████████ | 90/100 [00:00<00:00, 202.28it/s]

                                                 
Models:  20%|██        | 2/10 [00:00<00:03,  2.27it/s]

  0%|          | 0/100 [00:00<?, ?it/s]

 22%|██▏       | 22/100 [00:00<00:00, 213.96it/s]

 44%|████▍     | 44/100 [00:00<00:00, 193.94it/s]

 64%|██████▍   | 64/100 [00:00<00:00, 188.17it/s]

 83%|████████▎ | 83/100 [00:00<00:00, 184.63it/s]

                                                 
Models:  30%|███       | 3/10 [00:01<00:03,  2.07it/s]

  0%|          | 0/100 [00:00<?, ?it/s]

 21%|██        | 21/100 [00:00<00:00, 205.64it/s]

 42%|████▏     | 42/100 [00:00<00:00, 186.71it/s]

 61%|██████    | 61/100 [00:00<00:00, 178.83it/s]

 80%|████████  | 80/100 [00:00<00:00, 180.10it/s]

 99%|█████████▉| 99/100 [00:00<00:00, 181.12it/s]

                                                 
Models:  40%|████      | 4/10 [00:01<00:03,  1.96it/s]

  0%|          | 0/100 [00:00<?, ?it/s]

 20%|██        | 20/100 [00:00<00:00, 199.87it/s]

 40%|████      | 40/100 [00:00<00:00, 180.39it/s]

 59%|█████▉    | 59/100 [00:00<00:00, 176.21it/s]

 77%|███████▋  | 77/100 [00:00<00:00, 175.64it/s]

 96%|█████████▌| 96/100 [00:00<00:00, 177.01it/s]

                                                 
Models:  50%|█████     | 5/10 [00:02<00:02,  1.89it/s]

  0%|          | 0/100 [00:00<?, ?it/s]

 20%|██        | 20/100 [00:00<00:00, 195.19it/s]

 40%|████      | 40/100 [00:00<00:00, 172.08it/s]

 58%|█████▊    | 58/100 [00:00<00:00, 171.57it/s]

 76%|███████▌  | 76/100 [00:00<00:00, 172.52it/s]

 95%|█████████▌| 95/100 [00:00<00:00, 174.63it/s]

                                                 
Models:  60%|██████    | 6/10 [00:03<00:02,  1.84it/s]

  0%|          | 0/100 [00:00<?, ?it/s]

 21%|██        | 21/100 [00:00<00:00, 203.09it/s]

 42%|████▏     | 42/100 [00:00<00:00, 189.38it/s]

 61%|██████    | 61/100 [00:00<00:00, 181.39it/s]

 80%|████████  | 80/100 [00:00<00:00, 180.56it/s]

 99%|█████████▉| 99/100 [00:00<00:00, 182.34it/s]

                                                 
Models:  70%|███████   | 7/10 [00:03<00:01,  1.83it/s]

  0%|          | 0/100 [00:00<?, ?it/s]

 21%|██        | 21/100 [00:00<00:00, 206.22it/s]

 42%|████▏     | 42/100 [00:00<00:00, 189.33it/s]

 62%|██████▏   | 62/100 [00:00<00:00, 183.00it/s]

 81%|████████  | 81/100 [00:00<00:00, 180.79it/s]

100%|██████████| 100/100 [00:00<00:00, 183.50it/s]

                                                  
Models:  80%|████████  | 8/10 [00:04<00:01,  1.83it/s]

  0%|          | 0/100 [00:00<?, ?it/s]

 22%|██▏       | 22/100 [00:00<00:00, 216.81it/s]

 44%|████▍     | 44/100 [00:00<00:00, 193.19it/s]

 64%|██████▍   | 64/100 [00:00<00:00, 187.72it/s]

 83%|████████▎ | 83/100 [00:00<00:00, 185.96it/s]

                                                 
Models:  90%|█████████ | 9/10 [00:04<00:00,  1.85it/s]

  0%|          | 0/100 [00:00<?, ?it/s]

 21%|██        | 21/100 [00:00<00:00, 208.19it/s]

 43%|████▎     | 43/100 [00:00<00:00, 210.48it/s]

 65%|██████▌   | 65/100 [00:00<00:00, 204.61it/s]

 86%|████████▌ | 86/100 [00:00<00:00, 200.19it/s]

                                                 
Models: 100%|██████████| 10/10 [00:05<00:00,  1.90it/s]
Models: 100%|██████████| 10/10 [00:05<00:00,  1.92it/s]

Models:   0%|          | 0/10 [00:00<?, ?it/s]

  0%|          | 0/100 [00:00<?, ?it/s]

 27%|██▋       | 27/100 [00:00<00:00, 262.29it/s]

 54%|█████▍    | 54/100 [00:00<00:00, 262.35it/s]

 82%|████████▏ | 82/100 [00:00<00:00, 268.70it/s]

                                                 
Models:  10%|█         | 1/10 [00:00<00:03,  2.68it/s]

  0%|          | 0/100 [00:00<?, ?it/s]

 24%|██▍       | 24/100 [00:00<00:00, 228.81it/s]

 47%|████▋     | 47/100 [00:00<00:00, 210.07it/s]

 69%|██████▉   | 69/100 [00:00<00:00, 200.38it/s]

 90%|█████████ | 90/100 [00:00<00:00, 196.31it/s]

                                                 
Models:  20%|██        | 2/10 [00:00<00:03,  2.23it/s]

  0%|          | 0/100 [00:00<?, ?it/s]

 21%|██        | 21/100 [00:00<00:00, 209.78it/s]

 42%|████▏     | 42/100 [00:00<00:00, 187.38it/s]

 61%|██████    | 61/100 [00:00<00:00, 174.96it/s]

 79%|███████▉  | 79/100 [00:00<00:00, 176.76it/s]

 98%|█████████▊| 98/100 [00:00<00:00, 180.33it/s]

                                                 
Models:  30%|███       | 3/10 [00:01<00:03,  2.01it/s]

  0%|          | 0/100 [00:00<?, ?it/s]

 20%|██        | 20/100 [00:00<00:00, 199.59it/s]

 40%|████      | 40/100 [00:00<00:00, 176.71it/s]

 58%|█████▊    | 58/100 [00:00<00:00, 172.47it/s]

 76%|███████▌  | 76/100 [00:00<00:00, 174.83it/s]

 94%|█████████▍| 94/100 [00:00<00:00, 174.18it/s]

                                                 
Models:  40%|████      | 4/10 [00:02<00:03,  1.89it/s]

  0%|          | 0/100 [00:00<?, ?it/s]

 20%|██        | 20/100 [00:00<00:00, 194.51it/s]

 40%|████      | 40/100 [00:00<00:00, 172.24it/s]

 58%|█████▊    | 58/100 [00:00<00:00, 166.76it/s]

 75%|███████▌  | 75/100 [00:00<00:00, 167.03it/s]

 93%|█████████▎| 93/100 [00:00<00:00, 168.82it/s]

                                                 
Models:  50%|█████     | 5/10 [00:02<00:02,  1.82it/s]

  0%|          | 0/100 [00:00<?, ?it/s]

 20%|██        | 20/100 [00:00<00:00, 191.86it/s]

 40%|████      | 40/100 [00:00<00:00, 173.74it/s]

 58%|█████▊    | 58/100 [00:00<00:00, 170.29it/s]

 76%|███████▌  | 76/100 [00:00<00:00, 169.59it/s]

 94%|█████████▍| 94/100 [00:00<00:00, 172.18it/s]

                                                 
Models:  60%|██████    | 6/10 [00:03<00:02,  1.78it/s]

  0%|          | 0/100 [00:00<?, ?it/s]

 20%|██        | 20/100 [00:00<00:00, 194.90it/s]

 40%|████      | 40/100 [00:00<00:00, 181.63it/s]

 59%|█████▉    | 59/100 [00:00<00:00, 174.37it/s]

 77%|███████▋  | 77/100 [00:00<00:00, 171.35it/s]

 95%|█████████▌| 95/100 [00:00<00:00, 172.91it/s]

                                                 
Models:  70%|███████   | 7/10 [00:03<00:01,  1.76it/s]

  0%|          | 0/100 [00:00<?, ?it/s]

 20%|██        | 20/100 [00:00<00:00, 190.01it/s]

 40%|████      | 40/100 [00:00<00:00, 178.68it/s]

 58%|█████▊    | 58/100 [00:00<00:00, 173.92it/s]

 76%|███████▌  | 76/100 [00:00<00:00, 174.95it/s]

 94%|█████████▍| 94/100 [00:00<00:00, 175.79it/s]

                                                 
Models:  80%|████████  | 8/10 [00:04<00:01,  1.76it/s]

  0%|          | 0/100 [00:00<?, ?it/s]

 21%|██        | 21/100 [00:00<00:00, 208.86it/s]

 42%|████▏     | 42/100 [00:00<00:00, 189.03it/s]

 62%|██████▏   | 62/100 [00:00<00:00, 181.90it/s]

 81%|████████  | 81/100 [00:00<00:00, 180.15it/s]

100%|██████████| 100/100 [00:00<00:00, 180.62it/s]

                                                  
Models:  90%|█████████ | 9/10 [00:04<00:00,  1.78it/s]

  0%|          | 0/100 [00:00<?, ?it/s]

 21%|██        | 21/100 [00:00<00:00, 201.71it/s]

 42%|████▏     | 42/100 [00:00<00:00, 204.72it/s]

 63%|██████▎   | 63/100 [00:00<00:00, 198.11it/s]

 83%|████████▎ | 83/100 [00:00<00:00, 193.40it/s]

                                                 
Models: 100%|██████████| 10/10 [00:05<00:00,  1.83it/s]
Models: 100%|██████████| 10/10 [00:05<00:00,  1.86it/s]

Models:   0%|          | 0/10 [00:00<?, ?it/s]

  0%|          | 0/100 [00:00<?, ?it/s]

 27%|██▋       | 27/100 [00:00<00:00, 259.26it/s]

 53%|█████▎    | 53/100 [00:00<00:00, 256.58it/s]

 80%|████████  | 80/100 [00:00<00:00, 260.26it/s]

                                                 
Models:  10%|█         | 1/10 [00:00<00:03,  2.59it/s]

  0%|          | 0/100 [00:00<?, ?it/s]

 22%|██▏       | 22/100 [00:00<00:00, 216.75it/s]

 44%|████▍     | 44/100 [00:00<00:00, 201.54it/s]

 65%|██████▌   | 65/100 [00:00<00:00, 193.88it/s]

 85%|████████▌ | 85/100 [00:00<00:00, 187.48it/s]

                                                 
Models:  20%|██        | 2/10 [00:00<00:03,  2.13it/s]

  0%|          | 0/100 [00:00<?, ?it/s]

 21%|██        | 21/100 [00:00<00:00, 207.57it/s]

 42%|████▏     | 42/100 [00:00<00:00, 187.95it/s]

 61%|██████    | 61/100 [00:00<00:00, 177.85it/s]

 79%|███████▉  | 79/100 [00:00<00:00, 177.31it/s]

 98%|█████████▊| 98/100 [00:00<00:00, 180.61it/s]

                                                 
Models:  30%|███       | 3/10 [00:01<00:03,  1.97it/s]

  0%|          | 0/100 [00:00<?, ?it/s]

 20%|██        | 20/100 [00:00<00:00, 199.93it/s]

 40%|████      | 40/100 [00:00<00:00, 175.86it/s]

 58%|█████▊    | 58/100 [00:00<00:00, 171.36it/s]

 76%|███████▌  | 76/100 [00:00<00:00, 174.48it/s]

 94%|█████████▍| 94/100 [00:00<00:00, 174.04it/s]

                                                 
Models:  40%|████      | 4/10 [00:02<00:03,  1.87it/s]

  0%|          | 0/100 [00:00<?, ?it/s]

 20%|██        | 20/100 [00:00<00:00, 189.06it/s]

 39%|███▉      | 39/100 [00:00<00:00, 172.64it/s]

 57%|█████▋    | 57/100 [00:00<00:00, 167.42it/s]

 74%|███████▍  | 74/100 [00:00<00:00, 165.12it/s]

 91%|█████████ | 91/100 [00:00<00:00, 165.35it/s]

                                                 
Models:  50%|█████     | 5/10 [00:02<00:02,  1.79it/s]

  0%|          | 0/100 [00:00<?, ?it/s]

 19%|█▉        | 19/100 [00:00<00:00, 180.53it/s]

 38%|███▊      | 38/100 [00:00<00:00, 168.00it/s]

 55%|█████▌    | 55/100 [00:00<00:00, 166.49it/s]

 72%|███████▏  | 72/100 [00:00<00:00, 167.06it/s]

 89%|████████▉ | 89/100 [00:00<00:00, 165.93it/s]

                                                 
Models:  60%|██████    | 6/10 [00:03<00:02,  1.75it/s]

  0%|          | 0/100 [00:00<?, ?it/s]

 20%|██        | 20/100 [00:00<00:00, 196.85it/s]

 40%|████      | 40/100 [00:00<00:00, 181.68it/s]

 59%|█████▉    | 59/100 [00:00<00:00, 172.73it/s]

 77%|███████▋  | 77/100 [00:00<00:00, 172.22it/s]

 95%|█████████▌| 95/100 [00:00<00:00, 172.04it/s]

                                                 
Models:  70%|███████   | 7/10 [00:03<00:01,  1.74it/s]

  0%|          | 0/100 [00:00<?, ?it/s]

 20%|██        | 20/100 [00:00<00:00, 190.63it/s]

 40%|████      | 40/100 [00:00<00:00, 174.35it/s]

 58%|█████▊    | 58/100 [00:00<00:00, 166.69it/s]

 75%|███████▌  | 75/100 [00:00<00:00, 167.66it/s]

 93%|█████████▎| 93/100 [00:00<00:00, 170.06it/s]

                                                 
Models:  80%|████████  | 8/10 [00:04<00:01,  1.73it/s]

  0%|          | 0/100 [00:00<?, ?it/s]

 21%|██        | 21/100 [00:00<00:00, 209.24it/s]

 42%|████▏     | 42/100 [00:00<00:00, 188.21it/s]

 61%|██████    | 61/100 [00:00<00:00, 180.66it/s]

 80%|████████  | 80/100 [00:00<00:00, 179.81it/s]

 99%|█████████▉| 99/100 [00:00<00:00, 179.67it/s]

                                                 
Models:  90%|█████████ | 9/10 [00:04<00:00,  1.75it/s]

  0%|          | 0/100 [00:00<?, ?it/s]

 20%|██        | 20/100 [00:00<00:00, 197.76it/s]

 40%|████      | 40/100 [00:00<00:00, 198.09it/s]

 60%|██████    | 60/100 [00:00<00:00, 196.15it/s]

 80%|████████  | 80/100 [00:00<00:00, 190.06it/s]

100%|██████████| 100/100 [00:00<00:00, 192.00it/s]

                                                  
Models: 100%|██████████| 10/10 [00:05<00:00,  1.80it/s]
Models: 100%|██████████| 10/10 [00:05<00:00,  1.82it/s]
[ FAIL 0 | WARN 0 | SKIP 0 | PASS 29 ]
> 
> proc.time()
   user  system elapsed 
 72.699   1.227  73.971 

Example timings

spatialDE.Rcheck/spatialDE-Ex.timings

nameusersystemelapsed
FSV_sig5.3450.5667.012
mockSVG0.2830.1000.383
modelSearch2.4240.0442.475
model_search2.0860.0232.115
multiGenePlots2.2970.0922.395
regress_out0.2120.0000.213
run1.0970.0081.108
spatialDE1.1980.0041.205
spatialPatterns1.0830.0041.090
spatial_patterns22.934 0.02723.024
stabilize0.1110.0000.110