Back to Build/check report for BioC 3.20 experimental data |
|
This page was generated on 2025-02-11 15:42 -0500 (Tue, 11 Feb 2025).
Hostname | OS | Arch (*) | R version | Installed pkgs |
---|---|---|---|---|
nebbiolo2 | Linux (Ubuntu 24.04.1 LTS) | x86_64 | 4.4.2 (2024-10-31) -- "Pile of Leaves" | 4767 |
Click on any hostname to see more info about the system (e.g. compilers) (*) as reported by 'uname -p', except on Windows and Mac OS X |
Package 238/431 | Hostname | OS / Arch | INSTALL | BUILD | CHECK | ||||||||
MetaScope 1.6.0 (landing page) Aubrey Odom
| nebbiolo2 | Linux (Ubuntu 24.04.1 LTS) / x86_64 | OK | OK | OK | ![]() | |||||||
To the developers/maintainers of the MetaScope package: - Use the following Renviron settings to reproduce errors and warnings. - If 'R CMD check' started to fail recently on the Linux builder(s) over a missing dependency, add the missing dependency to 'Suggests:' in your DESCRIPTION file. See Renviron.bioc for more information. |
Package: MetaScope |
Version: 1.6.0 |
Command: /home/biocbuild/bbs-3.20-bioc/R/bin/R CMD check --install=check:MetaScope.install-out.txt --library=/home/biocbuild/bbs-3.20-bioc/R/site-library --timings MetaScope_1.6.0.tar.gz |
StartedAt: 2025-02-11 12:19:50 -0500 (Tue, 11 Feb 2025) |
EndedAt: 2025-02-11 12:30:13 -0500 (Tue, 11 Feb 2025) |
EllapsedTime: 623.0 seconds |
RetCode: 0 |
Status: OK |
CheckDir: MetaScope.Rcheck |
Warnings: 0 |
############################################################################## ############################################################################## ### ### Running command: ### ### /home/biocbuild/bbs-3.20-bioc/R/bin/R CMD check --install=check:MetaScope.install-out.txt --library=/home/biocbuild/bbs-3.20-bioc/R/site-library --timings MetaScope_1.6.0.tar.gz ### ############################################################################## ############################################################################## * using log directory ‘/home/biocbuild/bbs-3.20-data-experiment/meat/MetaScope.Rcheck’ * using R version 4.4.2 (2024-10-31) * using platform: x86_64-pc-linux-gnu * R was compiled by gcc (Ubuntu 13.2.0-23ubuntu4) 13.2.0 GNU Fortran (Ubuntu 13.2.0-23ubuntu4) 13.2.0 * running under: Ubuntu 24.04.1 LTS * using session charset: UTF-8 * checking for file ‘MetaScope/DESCRIPTION’ ... OK * checking extension type ... Package * this is package ‘MetaScope’ version ‘1.6.0’ * package encoding: UTF-8 * checking package namespace information ... OK * checking package dependencies ... OK * checking if this is a source package ... OK * checking if there is a namespace ... OK * checking for hidden files and directories ... OK * checking for portable file names ... OK * checking for sufficient/correct file permissions ... OK * checking whether package ‘MetaScope’ can be installed ... OK * checking installed package size ... OK * checking package directory ... OK * checking ‘build’ directory ... OK * checking DESCRIPTION meta-information ... OK * checking top-level files ... OK * checking for left-over files ... OK * checking index information ... OK * checking package subdirectories ... OK * checking code files for non-ASCII characters ... OK * checking R files for syntax errors ... OK * checking whether the package can be loaded ... OK * checking whether the package can be loaded with stated dependencies ... OK * checking whether the package can be unloaded cleanly ... OK * checking whether the namespace can be loaded with stated dependencies ... OK * checking whether the namespace can be unloaded cleanly ... OK * checking loading without being on the library search path ... OK * checking dependencies in R code ... OK * checking S3 generic/method consistency ... OK * checking replacement functions ... OK * checking foreign function calls ... OK * checking R code for possible problems ... OK * checking Rd files ... OK * checking Rd metadata ... OK * checking Rd cross-references ... OK * checking for missing documentation entries ... OK * checking for code/documentation mismatches ... OK * checking Rd \usage sections ... OK * checking Rd contents ... OK * checking for unstated dependencies in examples ... OK * checking contents of ‘data’ directory ... OK * checking data for non-ASCII characters ... OK * checking data for ASCII and uncompressed saves ... OK * checking R/sysdata.rda ... OK * checking files in ‘vignettes’ ... OK * checking examples ... OK Examples with CPU (user + system) or elapsed time > 5s user system elapsed mk_subread_index 8.685 2.424 13.614 convert_animalcules_silva 9.259 0.536 10.425 align_target_bowtie 6.432 0.448 9.343 convert_animalcules 4.339 0.524 6.221 download_refseq 2.206 0.164 5.984 mk_bowtie_index 1.897 0.448 5.055 * checking for unstated dependencies in ‘tests’ ... OK * checking tests ... Running ‘spelling.R’ OK * checking for unstated dependencies in vignettes ... OK * checking package vignettes ... OK * checking re-building of vignette outputs ... OK * checking PDF version of manual ... OK * DONE Status: OK
MetaScope.Rcheck/00install.out
############################################################################## ############################################################################## ### ### Running command: ### ### /home/biocbuild/bbs-3.20-bioc/R/bin/R CMD INSTALL MetaScope ### ############################################################################## ############################################################################## * installing to library ‘/home/biocbuild/bbs-3.20-bioc/R/site-library’ * installing *source* package ‘MetaScope’ ... ** using staged installation ** R ** data ** inst ** byte-compile and prepare package for lazy loading ** help *** installing help indices ** building package indices ** installing vignettes ** testing if installed package can be loaded from temporary location ** testing if installed package can be loaded from final location ** testing if installed package keeps a record of temporary installation path * DONE (MetaScope)
MetaScope.Rcheck/tests/spelling.Rout
R version 4.4.2 (2024-10-31) -- "Pile of Leaves" Copyright (C) 2024 The R Foundation for Statistical Computing Platform: x86_64-pc-linux-gnu R is free software and comes with ABSOLUTELY NO WARRANTY. You are welcome to redistribute it under certain conditions. Type 'license()' or 'licence()' for distribution details. R is a collaborative project with many contributors. Type 'contributors()' for more information and 'citation()' on how to cite R or R packages in publications. Type 'demo()' for some demos, 'help()' for on-line help, or 'help.start()' for an HTML browser interface to help. Type 'q()' to quit R. > if (requireNamespace("spelling", quietly = TRUE)) + spelling::spell_check_test(vignettes = TRUE, error = FALSE, + skip_on_cran = TRUE) NULL > > proc.time() user system elapsed 0.139 0.028 0.158
MetaScope.Rcheck/MetaScope-Ex.timings
name | user | system | elapsed | |
align_details | 0.012 | 0.002 | 0.014 | |
align_target | 0 | 0 | 0 | |
align_target_bowtie | 6.432 | 0.448 | 9.343 | |
bt2_16S_params | 0.001 | 0.000 | 0.000 | |
bt2_missing_params | 0 | 0 | 0 | |
bt2_regular_params | 0 | 0 | 0 | |
convert_animalcules | 4.339 | 0.524 | 6.221 | |
convert_animalcules_silva | 9.259 | 0.536 | 10.425 | |
count_matches | 0.001 | 0.000 | 0.001 | |
download_refseq | 2.206 | 0.164 | 5.984 | |
extract_reads | 0.149 | 0.021 | 0.170 | |
filter_host | 0 | 0 | 0 | |
filter_host_bowtie | 1.655 | 0.300 | 4.468 | |
get_children | 0.525 | 0.145 | 0.671 | |
meta_demultiplex | 0.081 | 0.002 | 0.083 | |
metascope_blast | 0.001 | 0.000 | 0.000 | |
metascope_id | 0.451 | 0.050 | 1.307 | |
mk_bowtie_index | 1.897 | 0.448 | 5.055 | |
mk_subread_index | 8.685 | 2.424 | 13.614 | |