Back to Build/check report for BioC 3.20 experimental data
ABCD[E]FGHIJKLMNOPQRSTUVWXYZ

This page was generated on 2025-02-06 15:42 -0500 (Thu, 06 Feb 2025).

HostnameOSArch (*)R versionInstalled pkgs
nebbiolo2Linux (Ubuntu 24.04.1 LTS)x86_644.4.2 (2024-10-31) -- "Pile of Leaves" 4753
Click on any hostname to see more info about the system (e.g. compilers)      (*) as reported by 'uname -p', except on Windows and Mac OS X

Package 121/431HostnameOS / ArchINSTALLBUILDCHECK
ewceData 1.14.0  (landing page)
Alan Murphy
Snapshot Date: 2025-02-06 07:30 -0500 (Thu, 06 Feb 2025)
git_url: https://git.bioconductor.org/packages/ewceData
git_branch: RELEASE_3_20
git_last_commit: 05ad00f
git_last_commit_date: 2024-10-29 09:52:23 -0500 (Tue, 29 Oct 2024)
nebbiolo2Linux (Ubuntu 24.04.1 LTS) / x86_64  OK    OK    OK  UNNEEDED, same version is already published


CHECK results for ewceData on nebbiolo2

To the developers/maintainers of the ewceData package:
- Use the following Renviron settings to reproduce errors and warnings.
- If 'R CMD check' started to fail recently on the Linux builder(s) over a missing dependency, add the missing dependency to 'Suggests:' in your DESCRIPTION file. See Renviron.bioc for more information.

raw results


Summary

Package: ewceData
Version: 1.14.0
Command: /home/biocbuild/bbs-3.20-bioc/R/bin/R CMD check --install=check:ewceData.install-out.txt --library=/home/biocbuild/bbs-3.20-bioc/R/site-library --timings ewceData_1.14.0.tar.gz
StartedAt: 2025-02-06 12:00:40 -0500 (Thu, 06 Feb 2025)
EndedAt: 2025-02-06 12:03:05 -0500 (Thu, 06 Feb 2025)
EllapsedTime: 145.4 seconds
RetCode: 0
Status:   OK  
CheckDir: ewceData.Rcheck
Warnings: 0

Command output

##############################################################################
##############################################################################
###
### Running command:
###
###   /home/biocbuild/bbs-3.20-bioc/R/bin/R CMD check --install=check:ewceData.install-out.txt --library=/home/biocbuild/bbs-3.20-bioc/R/site-library --timings ewceData_1.14.0.tar.gz
###
##############################################################################
##############################################################################


* using log directory ‘/home/biocbuild/bbs-3.20-data-experiment/meat/ewceData.Rcheck’
* using R version 4.4.2 (2024-10-31)
* using platform: x86_64-pc-linux-gnu
* R was compiled by
    gcc (Ubuntu 13.2.0-23ubuntu4) 13.2.0
    GNU Fortran (Ubuntu 13.2.0-23ubuntu4) 13.2.0
* running under: Ubuntu 24.04.1 LTS
* using session charset: UTF-8
* checking for file ‘ewceData/DESCRIPTION’ ... OK
* this is package ‘ewceData’ version ‘1.14.0’
* package encoding: UTF-8
* checking package namespace information ... OK
* checking package dependencies ... OK
* checking if this is a source package ... OK
* checking if there is a namespace ... OK
* checking for hidden files and directories ... OK
* checking for portable file names ... OK
* checking for sufficient/correct file permissions ... OK
* checking whether package ‘ewceData’ can be installed ... OK
* checking installed package size ... OK
* checking package directory ... OK
* checking ‘build’ directory ... OK
* checking DESCRIPTION meta-information ... OK
* checking top-level files ... OK
* checking for left-over files ... OK
* checking index information ... OK
* checking package subdirectories ... OK
* checking code files for non-ASCII characters ... OK
* checking R files for syntax errors ... OK
* checking whether the package can be loaded ... OK
* checking whether the package can be loaded with stated dependencies ... OK
* checking whether the package can be unloaded cleanly ... OK
* checking whether the namespace can be loaded with stated dependencies ... OK
* checking whether the namespace can be unloaded cleanly ... OK
* checking loading without being on the library search path ... OK
* checking dependencies in R code ... OK
* checking S3 generic/method consistency ... OK
* checking replacement functions ... OK
* checking foreign function calls ... OK
* checking R code for possible problems ... OK
* checking Rd files ... OK
* checking Rd metadata ... OK
* checking Rd cross-references ... OK
* checking for missing documentation entries ... OK
* checking for code/documentation mismatches ... OK
* checking Rd \usage sections ... OK
* checking Rd contents ... OK
* checking for unstated dependencies in examples ... OK
* checking files in ‘vignettes’ ... OK
* checking examples ... OK
* checking for unstated dependencies in vignettes ... OK
* checking package vignettes ... OK
* checking re-building of vignette outputs ... OK
* checking PDF version of manual ... OK
* DONE

Status: OK


Installation output

ewceData.Rcheck/00install.out

##############################################################################
##############################################################################
###
### Running command:
###
###   /home/biocbuild/bbs-3.20-bioc/R/bin/R CMD INSTALL ewceData
###
##############################################################################
##############################################################################


* installing to library ‘/home/biocbuild/bbs-3.20-bioc/R/site-library’
* installing *source* package ‘ewceData’ ...
** using staged installation
** R
** inst
** byte-compile and prepare package for lazy loading
** help
*** installing help indices
** building package indices
** installing vignettes
** testing if installed package can be loaded from temporary location
** testing if installed package can be loaded from final location
** testing if installed package keeps a record of temporary installation path
* DONE (ewceData)

Tests output


Example timings

ewceData.Rcheck/ewceData-Ex.timings

nameusersystemelapsed
all_hgnc1.7460.0642.094
all_hgnc_wtEnsembl0.7990.0960.973
all_mgi0.7290.0590.903
all_mgi_wtEnsembl0.7520.0680.896
alzh_gwas_top100000
cortex_mrna2.3350.3792.834
ctd3.1430.1183.344
ensembl_transcript_lengths_GCcontent0.9770.0801.133
ewceData-Package0.9950.0911.162
example_genelist0.6330.0280.736
hpsd_genes0.6470.0710.794
hypothalamus_mrna0.9240.0881.087
id_genes0.6520.0690.804
mgi_synonym_data1.0750.0741.240
mouse_to_human_homologs0.7310.0721.026
rbfox_genes0.7090.0430.829
schiz_genes0.7750.0731.025
tt_alzh0.9830.1721.244
tt_alzh_BA360.7990.1401.016
tt_alzh_BA440.8000.0670.946