Back to Build/check report for BioC 3.20 experimental data
ABCDEF[G]HIJKLMNOPQRSTUVWXYZ

This page was generated on 2025-02-11 15:42 -0500 (Tue, 11 Feb 2025).

HostnameOSArch (*)R versionInstalled pkgs
nebbiolo2Linux (Ubuntu 24.04.1 LTS)x86_644.4.2 (2024-10-31) -- "Pile of Leaves" 4767
Click on any hostname to see more info about the system (e.g. compilers)      (*) as reported by 'uname -p', except on Windows and Mac OS X

Package 148/431HostnameOS / ArchINSTALLBUILDCHECK
geneLenDataBase 1.42.0  (landing page)
Federico Marini
Snapshot Date: 2025-02-11 07:30 -0500 (Tue, 11 Feb 2025)
git_url: https://git.bioconductor.org/packages/geneLenDataBase
git_branch: RELEASE_3_20
git_last_commit: 8eb2611
git_last_commit_date: 2024-10-29 09:27:50 -0500 (Tue, 29 Oct 2024)
nebbiolo2Linux (Ubuntu 24.04.1 LTS) / x86_64  OK    OK    OK  UNNEEDED, same version is already published


CHECK results for geneLenDataBase on nebbiolo2

To the developers/maintainers of the geneLenDataBase package:
- Use the following Renviron settings to reproduce errors and warnings.
- If 'R CMD check' started to fail recently on the Linux builder(s) over a missing dependency, add the missing dependency to 'Suggests:' in your DESCRIPTION file. See Renviron.bioc for more information.

raw results


Summary

Package: geneLenDataBase
Version: 1.42.0
Command: /home/biocbuild/bbs-3.20-bioc/R/bin/R CMD check --install=check:geneLenDataBase.install-out.txt --library=/home/biocbuild/bbs-3.20-bioc/R/site-library --timings geneLenDataBase_1.42.0.tar.gz
StartedAt: 2025-02-11 12:07:28 -0500 (Tue, 11 Feb 2025)
EndedAt: 2025-02-11 12:16:30 -0500 (Tue, 11 Feb 2025)
EllapsedTime: 542.5 seconds
RetCode: 0
Status:   OK  
CheckDir: geneLenDataBase.Rcheck
Warnings: 0

Command output

##############################################################################
##############################################################################
###
### Running command:
###
###   /home/biocbuild/bbs-3.20-bioc/R/bin/R CMD check --install=check:geneLenDataBase.install-out.txt --library=/home/biocbuild/bbs-3.20-bioc/R/site-library --timings geneLenDataBase_1.42.0.tar.gz
###
##############################################################################
##############################################################################


* using log directory ‘/home/biocbuild/bbs-3.20-data-experiment/meat/geneLenDataBase.Rcheck’
* using R version 4.4.2 (2024-10-31)
* using platform: x86_64-pc-linux-gnu
* R was compiled by
    gcc (Ubuntu 13.2.0-23ubuntu4) 13.2.0
    GNU Fortran (Ubuntu 13.2.0-23ubuntu4) 13.2.0
* running under: Ubuntu 24.04.1 LTS
* using session charset: UTF-8
* checking for file ‘geneLenDataBase/DESCRIPTION’ ... OK
* this is package ‘geneLenDataBase’ version ‘1.42.0’
* package encoding: UTF-8
* checking package namespace information ... OK
* checking package dependencies ... OK
* checking if this is a source package ... OK
* checking if there is a namespace ... OK
* checking for hidden files and directories ... OK
* checking for portable file names ... OK
* checking for sufficient/correct file permissions ... OK
* checking whether package ‘geneLenDataBase’ can be installed ... OK
* checking installed package size ... NOTE
  installed size is 100.3Mb
  sub-directories of 1Mb or more:
    data  99.7Mb
* checking package directory ... OK
* checking DESCRIPTION meta-information ... OK
* checking top-level files ... OK
* checking for left-over files ... OK
* checking index information ... OK
* checking package subdirectories ... OK
* checking code files for non-ASCII characters ... OK
* checking R files for syntax errors ... OK
* checking whether the package can be loaded ... OK
* checking whether the package can be loaded with stated dependencies ... OK
* checking whether the package can be unloaded cleanly ... OK
* checking whether the namespace can be loaded with stated dependencies ... OK
* checking whether the namespace can be unloaded cleanly ... OK
* checking loading without being on the library search path ... OK
* checking dependencies in R code ... NOTE
Unexported object imported by a ':::' call: ‘txdbmaker:::.UCSC_TXNAME2GENEID_MAPDEFS’
  See the note in ?`:::` about the use of this operator.
* checking S3 generic/method consistency ... OK
* checking replacement functions ... OK
* checking foreign function calls ... OK
* checking R code for possible problems ... OK
* checking Rd files ... OK
* checking Rd metadata ... OK
* checking Rd cross-references ... OK
* checking for missing documentation entries ... OK
* checking for code/documentation mismatches ... OK
* checking Rd \usage sections ... OK
* checking Rd contents ... OK
* checking for unstated dependencies in examples ... OK
* checking contents of ‘data’ directory ... OK
* checking data for non-ASCII characters ... OK
* checking data for ASCII and uncompressed saves ... OK
* checking examples ... OK
* checking PDF version of manual ... OK
* DONE

Status: 2 NOTEs
See
  ‘/home/biocbuild/bbs-3.20-data-experiment/meat/geneLenDataBase.Rcheck/00check.log’
for details.


Installation output

geneLenDataBase.Rcheck/00install.out

##############################################################################
##############################################################################
###
### Running command:
###
###   /home/biocbuild/bbs-3.20-bioc/R/bin/R CMD INSTALL geneLenDataBase
###
##############################################################################
##############################################################################


* installing to library ‘/home/biocbuild/bbs-3.20-bioc/R/site-library’
* installing *source* package ‘geneLenDataBase’ ...
** using staged installation
** R
** data
** byte-compile and prepare package for lazy loading
** help
*** installing help indices
** building package indices
** testing if installed package can be loaded from temporary location
** testing if installed package can be loaded from final location
** testing if installed package keeps a record of temporary installation path
* DONE (geneLenDataBase)

Tests output


Example timings

geneLenDataBase.Rcheck/geneLenDataBase-Ex.timings

nameusersystemelapsed
anoCar1.ensGene.LENGTH0.0770.0010.078
anoCar1.genscan.LENGTH0.0450.0000.045
anoCar1.xenoRefGene.LENGTH0.7720.0070.780
anoGam1.ensGene.LENGTH0.0590.0000.060
anoGam1.geneid.LENGTH0.0420.0000.043
anoGam1.genscan.LENGTH0.0400.0010.042
apiMel1.genscan.LENGTH0.0350.0000.035
apiMel2.ensGene.LENGTH0.0860.0010.087
apiMel2.geneid.LENGTH0.1160.0020.119
apiMel2.genscan.LENGTH0.0310.0000.031
aplCal1.xenoRefGene.LENGTH0.4210.0070.428
bosTau2.geneSymbol.LENGTH0.0390.0010.040
bosTau2.geneid.LENGTH0.2430.0060.249
bosTau2.genscan.LENGTH0.0870.0020.089
bosTau2.refGene.LENGTH0.0400.0010.042
bosTau2.sgpGene.LENGTH0.1010.0000.102
bosTau3.ensGene.LENGTH0.1040.0020.106
bosTau3.geneSymbol.LENGTH0.0350.0000.036
bosTau3.geneid.LENGTH0.1190.0030.123
bosTau3.genscan.LENGTH0.1180.0070.123
bosTau3.refGene.LENGTH0.0320.0000.032
bosTau3.sgpGene.LENGTH0.0880.0010.089
bosTau4.ensGene.LENGTH0.0940.0020.096
bosTau4.geneSymbol.LENGTH0.0300.0000.031
bosTau4.genscan.LENGTH0.0650.0000.065
bosTau4.nscanGene.LENGTH0.0270.0000.027
bosTau4.refGene.LENGTH0.0310.0000.031
braFlo1.xenoRefGene.LENGTH0.3770.0080.386
caeJap1.xenoRefGene.LENGTH0.3310.0040.336
caePb1.xenoRefGene.LENGTH0.4470.0020.450
caePb2.xenoRefGene.LENGTH0.4190.0000.419
caeRem2.xenoRefGene.LENGTH0.3960.0000.396
caeRem3.xenoRefGene.LENGTH0.3650.0060.372
calJac1.genscan.LENGTH0.0880.0010.090
calJac1.nscanGene.LENGTH0.1060.0010.108
calJac1.xenoRefGene.LENGTH0.7330.0020.736
canFam1.ensGene.LENGTH0.1110.0020.113
canFam1.geneSymbol.LENGTH0.0050.0010.006
canFam1.genscan.LENGTH0.0640.0010.066
canFam1.nscanGene.LENGTH0.1660.0000.166
canFam1.refGene.LENGTH0.0030.0020.005
canFam1.xenoRefGene.LENGTH0.5960.0010.598
canFam2.ensGene.LENGTH0.0990.0000.099
canFam2.geneSymbol.LENGTH0.0040.0010.006
canFam2.genscan.LENGTH0.0580.0000.059
canFam2.nscanGene.LENGTH0.0640.0000.064
canFam2.refGene.LENGTH0.0050.0000.005
canFam2.xenoRefGene.LENGTH0.5580.0000.559
cavPor3.ensGene.LENGTH0.0890.0010.090
cavPor3.genscan.LENGTH0.2120.0030.215
cavPor3.nscanGene.LENGTH0.0650.0000.066
cavPor3.xenoRefGene.LENGTH0.5860.0030.587
cb1.xenoRefGene.LENGTH0.4870.0180.505
cb3.xenoRefGene.LENGTH0.3380.0030.341
ce2.geneSymbol.LENGTH0.0680.0000.068
ce2.geneid.LENGTH0.0590.0000.060
ce2.refGene.LENGTH0.0650.0000.066
ce4.geneSymbol.LENGTH0.0670.0010.068
ce4.refGene.LENGTH0.0610.0000.063
ce4.xenoRefGene.LENGTH0.0860.0000.086
ce6.ensGene.LENGTH0.1030.0010.104
ce6.geneSymbol.LENGTH0.0680.0030.071
ce6.refGene.LENGTH0.0640.0000.063
ce6.xenoRefGene.LENGTH0.0830.0000.083
ci1.geneSymbol.LENGTH0.0050.0000.005
ci1.refGene.LENGTH0.0040.0010.004
ci1.xenoRefGene.LENGTH0.1670.0020.170
ci2.ensGene.LENGTH0.0630.0010.062
ci2.geneSymbol.LENGTH0.0050.0000.005
ci2.refGene.LENGTH0.0040.0000.004
ci2.xenoRefGene.LENGTH0.2850.0010.286
danRer3.ensGene.LENGTH0.1040.0000.105
danRer3.geneSymbol.LENGTH0.0540.0000.054
danRer3.refGene.LENGTH0.0510.0000.050
danRer4.ensGene.LENGTH0.310.000.31
danRer4.geneSymbol.LENGTH0.0520.0000.052
danRer4.genscan.LENGTH0.0570.0000.058
danRer4.nscanGene.LENGTH0.0880.0000.088
danRer4.refGene.LENGTH0.0480.0000.048
danRer5.ensGene.LENGTH0.1110.0000.111
danRer5.geneSymbol.LENGTH0.0470.0000.047
danRer5.refGene.LENGTH0.0430.0000.043
danRer5.vegaGene.LENGTH0.0460.0000.046
danRer5.vegaPseudoGene.LENGTH0.0020.0000.003
danRer6.ensGene.LENGTH0.1070.0000.108
danRer6.geneSymbol.LENGTH0.0470.0000.048
danRer6.refGene.LENGTH0.0440.0010.044
danRer6.xenoRefGene.LENGTH0.4990.0020.501
dm1.geneSymbol.LENGTH0.0610.0000.061
dm1.genscan.LENGTH0.0210.0000.022
dm1.refGene.LENGTH0.0560.0010.057
dm2.geneSymbol.LENGTH0.0630.0000.063
dm2.geneid.LENGTH0.0340.0000.034
dm2.genscan.LENGTH0.0220.0000.022
dm2.nscanGene.LENGTH0.0470.0000.048
dm2.refGene.LENGTH0.0570.0000.057
dm3.geneSymbol.LENGTH0.0680.0000.068
dm3.nscanPasaGene.LENGTH0.0480.0010.049
dm3.refGene.LENGTH0.0620.0010.064
downloadLengthFromUCSC0.0010.0010.000
dp2.genscan.LENGTH0.0310.0000.031
dp2.xenoRefGene.LENGTH0.190.000.19
dp3.geneid.LENGTH0.0380.0000.037
dp3.genscan.LENGTH0.0250.0000.024
dp3.xenoRefGene.LENGTH0.1010.0010.102
droAna1.geneid.LENGTH0.0670.0050.074
droAna1.genscan.LENGTH0.0210.0010.022
droAna1.xenoRefGene.LENGTH0.2020.0020.204
droAna2.genscan.LENGTH0.0480.0000.050
droAna2.xenoRefGene.LENGTH0.2710.0000.271
droEre1.genscan.LENGTH0.0280.0010.029
droEre1.xenoRefGene.LENGTH0.3760.0060.384
droGri1.genscan.LENGTH0.0370.0000.038
droGri1.xenoRefGene.LENGTH0.2570.0010.258
droMoj1.geneid.LENGTH0.1260.0010.126
droMoj1.genscan.LENGTH0.0560.0000.056
droMoj1.xenoRefGene.LENGTH0.2080.0010.210
droMoj2.genscan.LENGTH0.0340.0000.036
droMoj2.xenoRefGene.LENGTH0.2520.0010.253
droPer1.genscan.LENGTH0.0380.0000.038
droPer1.xenoRefGene.LENGTH0.2580.0040.263
droSec1.genscan.LENGTH0.030.000.03
droSec1.xenoRefGene.LENGTH0.2520.0100.263
droSim1.geneid.LENGTH0.0350.0000.037
droSim1.genscan.LENGTH0.0230.0010.024
droSim1.xenoRefGene.LENGTH0.2240.0020.228
droVir1.geneid.LENGTH0.1020.0020.105
droVir1.genscan.LENGTH0.2510.0020.251
droVir1.xenoRefGene.LENGTH0.2190.0000.219
droVir2.genscan.LENGTH0.0340.0000.034
droVir2.xenoRefGene.LENGTH0.2440.0020.246
droYak1.geneid.LENGTH0.0400.0010.042
droYak1.genscan.LENGTH0.0280.0000.028
droYak1.xenoRefGene.LENGTH0.2010.0010.202
droYak2.genscan.LENGTH0.0260.0000.026
droYak2.xenoRefGene.LENGTH0.2280.0030.230
equCab1.geneSymbol.LENGTH0.0040.0010.004
equCab1.geneid.LENGTH0.0810.0000.081
equCab1.nscanGene.LENGTH0.0370.0000.038
equCab1.refGene.LENGTH0.0040.0000.004
equCab1.sgpGene.LENGTH0.0650.0020.068
equCab2.ensGene.LENGTH0.0940.0030.096
equCab2.geneSymbol.LENGTH0.0070.0000.007
equCab2.nscanGene.LENGTH0.0490.0000.049
equCab2.refGene.LENGTH0.0060.0000.006
equCab2.xenoRefGene.LENGTH0.5560.0010.558
felCat3.ensGene.LENGTH1.0390.1191.160
felCat3.geneSymbol.LENGTH0.0030.0000.003
felCat3.geneid.LENGTH0.4570.0000.457
felCat3.genscan.LENGTH0.1080.0000.108
felCat3.nscanGene.LENGTH0.0840.0000.085
felCat3.refGene.LENGTH0.0030.0000.003
felCat3.sgpGene.LENGTH0.1390.0010.140
felCat3.xenoRefGene.LENGTH1.0650.0021.067
fr1.ensGene.LENGTH0.070.000.07
fr1.genscan.LENGTH0.0520.0000.054
fr2.ensGene.LENGTH0.1280.0000.128
galGal2.ensGene.LENGTH0.0560.0000.055
galGal2.geneSymbol.LENGTH0.0150.0000.016
galGal2.geneid.LENGTH0.0380.0000.038
galGal2.genscan.LENGTH0.0480.0010.051
galGal2.refGene.LENGTH0.0150.0000.015
galGal2.sgpGene.LENGTH0.0430.0000.043
galGal3.ensGene.LENGTH0.0690.0020.072
galGal3.geneSymbol.LENGTH0.0160.0010.015
galGal3.genscan.LENGTH0.0430.0020.045
galGal3.nscanGene.LENGTH0.0680.0000.069
galGal3.refGene.LENGTH0.0130.0020.014
galGal3.xenoRefGene.LENGTH0.4420.0010.443
gasAcu1.ensGene.LENGTH0.0820.0070.089
gasAcu1.nscanGene.LENGTH0.0930.0000.095
hg16.acembly.LENGTH0.3460.0090.356
hg16.ensGene.LENGTH0.0690.0050.072
hg16.exoniphy.LENGTH0.2500.0030.254
hg16.geneSymbol.LENGTH0.1020.0000.103
hg16.geneid.LENGTH0.0450.0000.045
hg16.genscan.LENGTH0.0640.0010.065
hg16.knownGene.LENGTH0.3540.0020.355
hg16.refGene.LENGTH0.0930.0000.094
hg16.sgpGene.LENGTH0.0550.0000.055
hg17.acembly.LENGTH0.5630.0070.571
hg17.acescan.LENGTH0.0090.0000.009
hg17.ccdsGene.LENGTH0.0200.0000.021
hg17.ensGene.LENGTH0.0980.0000.099
hg17.exoniphy.LENGTH0.3790.0000.378
hg17.geneSymbol.LENGTH0.0970.0010.096
hg17.geneid.LENGTH0.0690.0000.070
hg17.genscan.LENGTH0.0570.0000.057
hg17.knownGene.LENGTH0.1040.0000.105
hg17.refGene.LENGTH0.0930.0000.093
hg17.sgpGene.LENGTH0.0680.0000.067
hg17.vegaGene.LENGTH0.0380.0000.039
hg17.vegaPseudoGene.LENGTH0.0160.0000.017
hg17.xenoRefGene.LENGTH0.1870.0000.188
hg18.acembly.LENGTH0.4440.0000.445
hg18.acescan.LENGTH0.0090.0000.009
hg18.ccdsGene.LENGTH0.0310.0010.032
hg18.ensGene.LENGTH0.1800.0030.185
hg18.exoniphy.LENGTH0.5440.0010.545
hg18.geneSymbol.LENGTH0.0990.0000.099
hg18.geneid.LENGTH0.0680.0000.069
hg18.genscan.LENGTH0.0550.0010.055
hg18.knownGene.LENGTH0.1430.0010.144
hg18.knownGeneOld3.LENGTH0.0660.0000.066
hg18.refGene.LENGTH0.0950.0000.095
hg18.sgpGene.LENGTH0.0720.0020.074
hg18.sibGene.LENGTH0.3350.0000.335
hg18.xenoRefGene.LENGTH0.3510.0020.353
hg19.ccdsGene.LENGTH0.0390.0010.040
hg19.ensGene.LENGTH0.3030.0010.305
hg19.exoniphy.LENGTH0.9350.0030.936
hg19.geneSymbol.LENGTH0.1000.0000.101
hg19.knownGene.LENGTH0.1670.0000.167
hg19.nscanGene.LENGTH0.1430.0000.143
hg19.refGene.LENGTH0.0910.0010.092
hg19.xenoRefGene.LENGTH0.3560.0030.359
loxAfr3.xenoRefGene.LENGTH0.7410.0040.744
mm7.ensGene.LENGTH0.1070.0000.107
mm7.geneSymbol.LENGTH0.0810.0010.083
mm7.geneid.LENGTH0.0770.0020.079
mm7.genscan.LENGTH0.0640.0000.065
mm7.knownGene.LENGTH0.0910.0000.091
mm7.refGene.LENGTH0.0780.0000.080
mm7.sgpGene.LENGTH0.0760.0000.076
mm7.xenoRefGene.LENGTH0.3100.0000.311
mm8.ccdsGene.LENGTH0.0210.0000.022
mm8.ensGene.LENGTH0.0730.0000.073
mm8.geneSymbol.LENGTH0.0840.0000.084
mm8.geneid.LENGTH0.0750.0010.075
mm8.genscan.LENGTH0.0610.0010.063
mm8.knownGene.LENGTH0.0860.0020.087
mm8.nscanGene.LENGTH0.0620.0000.063
mm8.refGene.LENGTH0.0800.0000.079
mm8.sgpGene.LENGTH0.0730.0020.074
mm8.sibGene.LENGTH1.2970.0031.299
mm8.xenoRefGene.LENGTH0.3260.0010.327
mm9.acembly.LENGTH0.2880.0000.287
mm9.ccdsGene.LENGTH0.0260.0010.027
mm9.ensGene.LENGTH0.1400.0010.140
mm9.exoniphy.LENGTH0.3970.0010.396
mm9.geneSymbol.LENGTH0.0840.0000.084
mm9.geneid.LENGTH0.0780.0000.079
mm9.genscan.LENGTH0.0590.0010.060
mm9.knownGene.LENGTH0.1030.0000.102
mm9.nscanGene.LENGTH0.0590.0010.058
mm9.refGene.LENGTH0.0740.0000.076
mm9.sgpGene.LENGTH0.0720.0000.073
mm9.xenoRefGene.LENGTH0.3390.0000.341
monDom1.genscan.LENGTH0.0580.0000.059
monDom4.ensGene.LENGTH0.0650.0000.065
monDom4.geneSymbol.LENGTH0.0020.0000.003
monDom4.genscan.LENGTH0.0480.0000.049
monDom4.nscanGene.LENGTH0.0480.0000.048
monDom4.refGene.LENGTH0.0030.0000.003
monDom4.xenoRefGene.LENGTH0.3090.0000.310
monDom5.ensGene.LENGTH0.0950.0010.097
monDom5.geneSymbol.LENGTH0.0020.0010.004
monDom5.genscan.LENGTH0.0500.0000.051
monDom5.nscanGene.LENGTH0.1030.0000.104
monDom5.refGene.LENGTH0.0020.0000.003
monDom5.xenoRefGene.LENGTH0.5580.0020.561
ornAna1.ensGene.LENGTH0.0830.0000.084
ornAna1.geneSymbol.LENGTH0.0020.0000.002
ornAna1.refGene.LENGTH0.0010.0010.002
ornAna1.xenoRefGene.LENGTH0.5170.0000.518
oryLat2.ensGene.LENGTH0.0760.0000.077
oryLat2.geneSymbol.LENGTH0.0020.0010.004
oryLat2.refGene.LENGTH0.0030.0000.004
oryLat2.xenoRefGene.LENGTH0.4760.0010.476
panTro1.ensGene.LENGTH0.0950.0000.096
panTro1.geneid.LENGTH0.0440.0000.044
panTro1.genscan.LENGTH0.0580.0000.058
panTro1.xenoRefGene.LENGTH0.1090.0010.110
panTro2.ensGene.LENGTH0.1050.0010.106
panTro2.geneSymbol.LENGTH0.0980.0000.098
panTro2.genscan.LENGTH0.0560.0000.056
panTro2.nscanGene.LENGTH0.060.000.06
panTro2.refGene.LENGTH0.0970.0010.098
panTro2.xenoRefGene.LENGTH0.4880.0000.488
petMar1.xenoRefGene.LENGTH0.2570.0000.257
ponAbe2.ensGene.LENGTH0.080.000.08
ponAbe2.geneSymbol.LENGTH0.0110.0010.012
ponAbe2.genscan.LENGTH0.0590.0010.060
ponAbe2.nscanGene.LENGTH0.0600.0010.061
ponAbe2.refGene.LENGTH0.0100.0000.011
ponAbe2.xenoRefGene.LENGTH0.6060.0030.609
priPac1.xenoRefGene.LENGTH0.3440.0000.344
rheMac2.ensGene.LENGTH0.1220.0040.126
rheMac2.geneSymbol.LENGTH0.0050.0000.005
rheMac2.geneid.LENGTH0.0660.0030.069
rheMac2.nscanGene.LENGTH0.0560.0000.056
rheMac2.refGene.LENGTH0.0050.0000.005
rheMac2.sgpGene.LENGTH0.0680.0010.069
rheMac2.xenoRefGene.LENGTH1.4580.0021.460
rn3.ensGene.LENGTH0.0850.0010.086
rn3.geneSymbol.LENGTH0.0460.0000.046
rn3.geneid.LENGTH0.0470.0000.047
rn3.genscan.LENGTH0.0580.0000.057
rn3.knownGene.LENGTH0.0210.0010.022
rn3.nscanGene.LENGTH0.0560.0000.056
rn3.refGene.LENGTH0.0440.0000.045
rn3.sgpGene.LENGTH0.0490.0010.051
rn3.xenoRefGene.LENGTH0.4810.0000.481
rn4.ensGene.LENGTH0.1110.0000.111
rn4.geneSymbol.LENGTH0.0460.0000.045
rn4.geneid.LENGTH0.0770.0010.077
rn4.genscan.LENGTH0.0550.0000.054
rn4.knownGene.LENGTH0.0230.0010.024
rn4.nscanGene.LENGTH0.0450.0000.045
rn4.refGene.LENGTH0.0430.0010.044
rn4.sgpGene.LENGTH0.070.000.07
rn4.xenoRefGene.LENGTH0.2860.0000.286
sacCer1.ensGene.LENGTH0.0160.0000.016
sacCer2.ensGene.LENGTH0.0140.0010.015
strPur1.geneSymbol.LENGTH0.0030.0010.004
strPur1.genscan.LENGTH0.0610.0000.061
strPur1.refGene.LENGTH0.0040.0000.004
strPur1.xenoRefGene.LENGTH0.4050.0010.405
strPur2.geneSymbol.LENGTH0.0020.0010.004
strPur2.genscan.LENGTH0.0920.0000.092
strPur2.refGene.LENGTH0.0030.0000.003
strPur2.xenoRefGene.LENGTH0.5570.0010.557
supportedGeneIDs2.1490.0794.643
supportedGenomes0.2500.0031.091
taeGut1.ensGene.LENGTH0.0580.0010.059
taeGut1.geneSymbol.LENGTH0.0020.0000.003
taeGut1.genscan.LENGTH0.0290.0000.030
taeGut1.nscanGene.LENGTH0.0230.0000.023
taeGut1.refGene.LENGTH0.0020.0000.002
taeGut1.xenoRefGene.LENGTH0.3860.0010.388
tetNig1.ensGene.LENGTH0.0810.0000.081
tetNig1.geneid.LENGTH0.0570.0000.057
tetNig1.genscan.LENGTH0.0450.0000.045
tetNig1.nscanGene.LENGTH0.0610.0010.061
tetNig2.ensGene.LENGTH0.1520.0020.154
unfactor0.0040.0000.003
xenTro1.genscan.LENGTH0.0780.0000.079
xenTro2.ensGene.LENGTH0.080.000.08
xenTro2.geneSymbol.LENGTH0.0290.0000.028
xenTro2.genscan.LENGTH0.0650.0010.066
xenTro2.refGene.LENGTH0.0280.0000.027