Back to Build/check report for BioC 3.20 experimental data
ABCDEFGHIJKLMNO[P]QRSTUVWXYZ

This page was generated on 2025-02-06 15:42 -0500 (Thu, 06 Feb 2025).

HostnameOSArch (*)R versionInstalled pkgs
nebbiolo2Linux (Ubuntu 24.04.1 LTS)x86_644.4.2 (2024-10-31) -- "Pile of Leaves" 4753
Click on any hostname to see more info about the system (e.g. compilers)      (*) as reported by 'uname -p', except on Windows and Mac OS X

Package 300/431HostnameOS / ArchINSTALLBUILDCHECK
pRolocdata 1.44.0  (landing page)
Laurent Gatto
Snapshot Date: 2025-02-06 07:30 -0500 (Thu, 06 Feb 2025)
git_url: https://git.bioconductor.org/packages/pRolocdata
git_branch: RELEASE_3_20
git_last_commit: 56b6486
git_last_commit_date: 2024-10-29 09:35:26 -0500 (Tue, 29 Oct 2024)
nebbiolo2Linux (Ubuntu 24.04.1 LTS) / x86_64  OK    OK    OK  UNNEEDED, same version is already published


CHECK results for pRolocdata on nebbiolo2

To the developers/maintainers of the pRolocdata package:
- Use the following Renviron settings to reproduce errors and warnings.
- If 'R CMD check' started to fail recently on the Linux builder(s) over a missing dependency, add the missing dependency to 'Suggests:' in your DESCRIPTION file. See Renviron.bioc for more information.

raw results


Summary

Package: pRolocdata
Version: 1.44.0
Command: /home/biocbuild/bbs-3.20-bioc/R/bin/R CMD check --install=check:pRolocdata.install-out.txt --library=/home/biocbuild/bbs-3.20-bioc/R/site-library --timings pRolocdata_1.44.0.tar.gz
StartedAt: 2025-02-06 12:28:31 -0500 (Thu, 06 Feb 2025)
EndedAt: 2025-02-06 12:36:18 -0500 (Thu, 06 Feb 2025)
EllapsedTime: 466.9 seconds
RetCode: 0
Status:   OK  
CheckDir: pRolocdata.Rcheck
Warnings: 0

Command output

##############################################################################
##############################################################################
###
### Running command:
###
###   /home/biocbuild/bbs-3.20-bioc/R/bin/R CMD check --install=check:pRolocdata.install-out.txt --library=/home/biocbuild/bbs-3.20-bioc/R/site-library --timings pRolocdata_1.44.0.tar.gz
###
##############################################################################
##############################################################################


* using log directory ‘/home/biocbuild/bbs-3.20-data-experiment/meat/pRolocdata.Rcheck’
* using R version 4.4.2 (2024-10-31)
* using platform: x86_64-pc-linux-gnu
* R was compiled by
    gcc (Ubuntu 13.2.0-23ubuntu4) 13.2.0
    GNU Fortran (Ubuntu 13.2.0-23ubuntu4) 13.2.0
* running under: Ubuntu 24.04.1 LTS
* using session charset: UTF-8
* checking for file ‘pRolocdata/DESCRIPTION’ ... OK
* checking extension type ... Package
* this is package ‘pRolocdata’ version ‘1.44.0’
* package encoding: UTF-8
* checking package namespace information ... OK
* checking package dependencies ... OK
* checking if this is a source package ... OK
* checking if there is a namespace ... OK
* checking for hidden files and directories ... OK
* checking for portable file names ... OK
* checking for sufficient/correct file permissions ... OK
* checking whether package ‘pRolocdata’ can be installed ... OK
* checking installed package size ... NOTE
  installed size is 192.1Mb
  sub-directories of 1Mb or more:
    data     190.3Mb
    extdata    1.1Mb
* checking package directory ... OK
* checking DESCRIPTION meta-information ... OK
* checking top-level files ... OK
* checking for left-over files ... OK
* checking index information ... OK
* checking package subdirectories ... OK
* checking code files for non-ASCII characters ... OK
* checking R files for syntax errors ... OK
* checking whether the package can be loaded ... OK
* checking whether the package can be loaded with stated dependencies ... OK
* checking whether the package can be unloaded cleanly ... OK
* checking whether the namespace can be loaded with stated dependencies ... OK
* checking whether the namespace can be unloaded cleanly ... OK
* checking loading without being on the library search path ... OK
* checking whether startup messages can be suppressed ... OK
* checking dependencies in R code ... OK
* checking S3 generic/method consistency ... OK
* checking replacement functions ... OK
* checking foreign function calls ... OK
* checking R code for possible problems ... OK
* checking Rd files ... NOTE
checkRd: (-1) thpLOPIT2021.Rd:82: Lost braces
    82 |   PSM-level csv files are available in the code{extdata} directory
       |                                                ^
checkRd: (-1) thpTimecourse2021.Rd:52: Lost braces
    52 |   code{extdata} directory and have been imported as 
       |       ^
* checking Rd metadata ... OK
* checking Rd cross-references ... OK
* checking for missing documentation entries ... OK
* checking for code/documentation mismatches ... OK
* checking Rd \usage sections ... OK
* checking Rd contents ... OK
* checking for unstated dependencies in examples ... OK
* checking contents of ‘data’ directory ... OK
* checking data for non-ASCII characters ... NOTE
  Note: found 24 marked UTF-8 strings
* checking data for ASCII and uncompressed saves ... OK
* checking examples ... OK
Examples with CPU (user + system) or elapsed time > 5s
                 user system elapsed
thpLOPIT2021   12.913  0.484  13.398
krahmer2018pcp 10.636  0.788  11.424
Shin2020        4.816  0.338   5.183
* checking for unstated dependencies in ‘tests’ ... OK
* checking tests ...
  Running ‘testthat.R’
 OK
* checking PDF version of manual ... OK
* DONE

Status: 3 NOTEs
See
  ‘/home/biocbuild/bbs-3.20-data-experiment/meat/pRolocdata.Rcheck/00check.log’
for details.


Installation output

pRolocdata.Rcheck/00install.out

##############################################################################
##############################################################################
###
### Running command:
###
###   /home/biocbuild/bbs-3.20-bioc/R/bin/R CMD INSTALL pRolocdata
###
##############################################################################
##############################################################################


* installing to library ‘/home/biocbuild/bbs-3.20-bioc/R/site-library’
* installing *source* package ‘pRolocdata’ ...
** using staged installation
** R
** data
** inst
** byte-compile and prepare package for lazy loading
** help
*** installing help indices
** building package indices
** testing if installed package can be loaded from temporary location
** testing if installed package can be loaded from final location
** testing if installed package keeps a record of temporary installation path
* DONE (pRolocdata)

Tests output

pRolocdata.Rcheck/tests/testthat.Rout


R version 4.4.2 (2024-10-31) -- "Pile of Leaves"
Copyright (C) 2024 The R Foundation for Statistical Computing
Platform: x86_64-pc-linux-gnu

R is free software and comes with ABSOLUTELY NO WARRANTY.
You are welcome to redistribute it under certain conditions.
Type 'license()' or 'licence()' for distribution details.

R is a collaborative project with many contributors.
Type 'contributors()' for more information and
'citation()' on how to cite R or R packages in publications.

Type 'demo()' for some demos, 'help()' for on-line help, or
'help.start()' for an HTML browser interface to help.
Type 'q()' to quit R.

> # setting R_TESTS to empty string because of 
> # https://github.com/hadley/testthat/issues/144
> # revert this when that issue in R is fixed.
> Sys.setenv("R_TESTS" = "")
> library(testthat)
> library(MSnbase)
Loading required package: BiocGenerics

Attaching package: 'BiocGenerics'

The following objects are masked from 'package:stats':

    IQR, mad, sd, var, xtabs

The following objects are masked from 'package:base':

    Filter, Find, Map, Position, Reduce, anyDuplicated, aperm, append,
    as.data.frame, basename, cbind, colnames, dirname, do.call,
    duplicated, eval, evalq, get, grep, grepl, intersect, is.unsorted,
    lapply, mapply, match, mget, order, paste, pmax, pmax.int, pmin,
    pmin.int, rank, rbind, rownames, sapply, saveRDS, setdiff, table,
    tapply, union, unique, unsplit, which.max, which.min

Loading required package: Biobase
Welcome to Bioconductor

    Vignettes contain introductory material; view with
    'browseVignettes()'. To cite Bioconductor, see
    'citation("Biobase")', and for packages 'citation("pkgname")'.

Loading required package: mzR
Loading required package: Rcpp
Loading required package: S4Vectors
Loading required package: stats4

Attaching package: 'S4Vectors'

The following object is masked from 'package:utils':

    findMatches

The following objects are masked from 'package:base':

    I, expand.grid, unname

Loading required package: ProtGenerics

Attaching package: 'ProtGenerics'

The following object is masked from 'package:stats':

    smooth


This is MSnbase version 2.32.0 
  Visit https://lgatto.github.io/MSnbase/ to get started.
 Consider switching to the 'R for Mass Spectrometry'
 packages - see https://RforMassSpectrometry.org for details.


Attaching package: 'MSnbase'

The following object is masked from 'package:base':

    trimws

> library(pRolocdata)

This is pRolocdata version 1.44.0.
Use 'pRolocdata()' to list available data sets.
> 
> test_check("pRolocdata")
[ FAIL 0 | WARN 0 | SKIP 0 | PASS 144 ]
> 
> proc.time()
   user  system elapsed 
 44.134   1.928  46.052 

Example timings

pRolocdata.Rcheck/pRolocdata-Ex.timings

nameusersystemelapsed
E14TG2a0.0280.0010.030
Shin20204.8160.3385.183
ToxoLopit0.5170.0220.540
andreyev20100.6030.0490.652
andy20110.0570.0020.059
at_chloro0.1060.0050.111
baers20180.3710.0230.394
beltran20160.5560.0150.571
courtland20200.5910.0370.628
davies20180.3340.0150.349
dunkley20060.0110.0010.011
fabre20150.2770.0100.286
foster20060.0300.0010.031
groen20140.9660.2131.180
hall20090.1730.0100.182
havugimana20120.0990.0200.119
hirst20180.4930.0220.514
hyperLOPIT20154.2690.3954.665
hyperLOPITU2OS20171.4150.0391.454
itzhak2016stcSILAC0.640.030.67
itzhak20171.7510.0891.839
itzhak2017dynamic1.3100.0261.337
kirkwood20130.0380.0030.041
kozik20200.2430.0140.258
krahmer2018pcp10.636 0.78811.424
kristensen20120.0210.0010.023
lopimsSyn20.6510.0150.666
moloney20230.7650.0100.801
mulvey20153.1930.2263.419
nikolovski20120.2940.0030.297
nikolovski20140.3540.0040.357
orre20190.4060.0060.412
pRolocdata0.0120.0030.015
pRolocmetadata0.0130.0010.014
rodriguez2012r10.6460.0120.659
stekhoven20140.2070.0080.215
tan20090.0130.0020.015
thpLOPIT202112.913 0.48413.398
thpTimecourse20210.1460.0020.148
trotter20100.3880.0060.393
yeast0.3750.0060.381