Back to the "Multiple platform build/check report"
Package 46/187 | OS | Arch | BUILD | CHECK | BUILD BIN |
EBImage1.3.019Oleg Sklyar | Linux (SUSE 9.2) | x86_64 | OK | ERROR | |
Linux (SUSE 9.2) | i686 | [ OK ] | ERROR | ||
Solaris 2.9 | sparc | OK | ERROR | ||
Linux (SUSE 10.0) | x86_64 | OK | ERROR | ||
Windows Server 2003 | x86_64 | OK | ERROR | ERROR |
Package: EBImage |
Version: 1.3.019 |
Command: /loc/biocbuild/1.9d/R/bin/R CMD build EBImage |
RetCode: 0 |
Time: 2.6 seconds |
Status: OK |
PackageFile: EBImage_1.3.019.tar.gz |
* checking for file 'EBImage/DESCRIPTION' ... OK * preparing 'EBImage': * checking DESCRIPTION meta-information ... OK * cleaning src * removing junk files * checking for LF line-endings in source files * checking for empty or unneeded directories * building 'EBImage_1.3.019.tar.gz'