* checking for file 'arji/DESCRIPTION' ... OK
* preparing 'arji':
* checking DESCRIPTION meta-information ... OK
* cleaning src
Makefile:1: Makevars: No such file or directory
make: *** No rule to make target `Makevars'. Stop.
* installing the package to re-build vignettes
* Installing *source* package 'arji' ...
configure: creating ./config.status
config.status: creating src/Makevars
** libs
** arch -
/bin/javac ../inst/java/*.java
/loc/biocbuild/1.9d/R/bin/R CMD SHLIB arji.c
make[1]: Entering directory `/loc/biocbuild/1.9d/Rpacks/arji/src'
gcc -I/loc/biocbuild/1.9d/R/include -I/loc/biocbuild/1.9d/R/include -I/usr/jdk/instances/jdk1.5.0/jre/include -I/usr/jdk/instances/jdk1.5.0/jre/include/linux -I/usr/local/include -fPIC -g -O2 -std=gnu99 -c arji.c -o arji.o
In file included from arji.c:7:
/usr/local/include/jni.h:17:31: error: gcj/libgcj-config.h: No such file or directory
make[1]: *** [arji.o] Error 1
make[1]: Leaving directory `/loc/biocbuild/1.9d/Rpacks/arji/src'
make: *** [arji.so] Error 2
ERROR: compilation failed for package 'arji'
** Removing '/tmp/Rinst1638499138/arji'
ERROR
Installation failed.
Removing '/tmp/Rinst1638499138'