gopher5 |
Linux (SUSE 9.2) | x86_64 | | | |
wellington |
Linux (SUSE 9.2) | i686 | | | |
churchill |
Solaris 2.9 | sparc | | | |
gladstone |
Linux (SUSE 10.0) | x86_64 | | | |
lemming |
Windows Server 2003 | x86_64 | | | |
matrix1 |
Windows XP | i686 | | | |
derby |
Mac OS X (10.4.6) | i686 | | | |
|
1.1.6Yongming Andrew Sun | Linux (SUSE 9.2) | x86_64 | OK | WARNINGS | |
Linux (SUSE 9.2) | i686 | OK | WARNINGS | |
Solaris 2.9 | sparc | OK | OK | |
Linux (SUSE 10.0) | x86_64 | OK | WARNINGS | |
Windows Server 2003 | x86_64 | OK | WARNINGS | OK |
Windows XP | i686 | OK | WARNINGS | OK |
Mac OS X (10.4.6) | i686 | OK | WARNINGS | |
1.7.0Jane Fridlyand | Linux (SUSE 9.2) | x86_64 | OK | OK | |
Linux (SUSE 9.2) | i686 | OK | OK | |
Solaris 2.9 | sparc | OK | OK | |
Linux (SUSE 10.0) | x86_64 | OK | OK | |
Windows Server 2003 | x86_64 | OK | OK | OK |
Windows XP | i686 | OK | OK | OK |
Mac OS X (10.4.6) | i686 | OK | OK | |
1.3.2Claudio Lottaz | Linux (SUSE 9.2) | x86_64 | ERROR | skipped | |
Linux (SUSE 9.2) | i686 | ERROR | skipped | |
Solaris 2.9 | sparc | ERROR | skipped | |
Linux (SUSE 10.0) | x86_64 | ERROR | skipped | |
Windows Server 2003 | x86_64 | ERROR | skipped | skipped |
Windows XP | i686 | ERROR | skipped | skipped |
Mac OS X (10.4.6) | i686 | ERROR | skipped | |
1.5.4Kasper Daniel Hansen | Linux (SUSE 9.2) | x86_64 | OK | WARNINGS | |
Linux (SUSE 9.2) | i686 | OK | WARNINGS | |
Solaris 2.9 | sparc | OK | ERROR | |
Linux (SUSE 10.0) | x86_64 | OK | WARNINGS | |
Windows Server 2003 | x86_64 | OK | WARNINGS | OK |
Windows XP | i686 | OK | WARNINGS | OK |
Mac OS X (10.4.6) | i686 | OK | WARNINGS | |
1.11.6Rafael A. Irizarry | Linux (SUSE 9.2) | x86_64 | OK | WARNINGS | |
Linux (SUSE 9.2) | i686 | OK | WARNINGS | |
Solaris 2.9 | sparc | OK | OK | |
Linux (SUSE 10.0) | x86_64 | OK | WARNINGS | |
Windows Server 2003 | x86_64 | OK | WARNINGS | OK |
Windows XP | i686 | OK | WARNINGS | OK |
Mac OS X (10.4.6) | i686 | OK | WARNINGS | |
1.9.0Rafael A. Irizarry | Linux (SUSE 9.2) | x86_64 | OK | OK | |
Linux (SUSE 9.2) | i686 | OK | OK | |
Solaris 2.9 | sparc | OK | OK | |
Linux (SUSE 10.0) | x86_64 | OK | OK | |
Windows Server 2003 | x86_64 | OK | OK | OK |
Windows XP | i686 | OK | OK | OK |
Mac OS X (10.4.6) | i686 | OK | OK | |
1.5.9James W. MacDonald | Linux (SUSE 9.2) | x86_64 | OK | WARNINGS | |
Linux (SUSE 9.2) | i686 | OK | WARNINGS | |
Solaris 2.9 | sparc | OK | OK | |
Linux (SUSE 10.0) | x86_64 | OK | WARNINGS | |
Windows Server 2003 | x86_64 | ERROR | skipped | skipped |
Windows XP | i686 | ERROR | skipped | skipped |
Mac OS X (10.4.6) | i686 | OK | OK | |
1.9.0Laurent | Linux (SUSE 9.2) | x86_64 | OK | OK | |
Linux (SUSE 9.2) | i686 | OK | OK | |
Solaris 2.9 | sparc | OK | OK | |
Linux (SUSE 10.0) | x86_64 | OK | OK | |
Windows Server 2003 | x86_64 | OK | OK | OK |
Windows XP | i686 | OK | OK | OK |
Mac OS X (10.4.6) | i686 | OK | OK | |
1.1.8Benjamin Milo Bolstad | Linux (SUSE 9.2) | x86_64 | OK | OK | |
Linux (SUSE 9.2) | i686 | OK | OK | |
Solaris 2.9 | sparc | OK | OK | |
Linux (SUSE 10.0) | x86_64 | OK | OK | |
Windows Server 2003 | x86_64 | OK | OK | OK |
Windows XP | i686 | OK | OK | OK |
Mac OS X (10.4.6) | i686 | OK | OK | |
1.7.1Keith Satterley | Linux (SUSE 9.2) | x86_64 | OK | WARNINGS | |
Linux (SUSE 9.2) | i686 | OK | WARNINGS | |
Solaris 2.9 | sparc | OK | OK | |
Linux (SUSE 10.0) | x86_64 | OK | WARNINGS | |
Windows Server 2003 | x86_64 | OK | WARNINGS | OK |
Windows XP | i686 | OK | ERROR | OK |
Mac OS X (10.4.6) | i686 | OK | WARNINGS | |
1.7.0Laurent | Linux (SUSE 9.2) | x86_64 | OK | WARNINGS | |
Linux (SUSE 9.2) | i686 | OK | WARNINGS | |
Solaris 2.9 | sparc | OK | WARNINGS | |
Linux (SUSE 10.0) | x86_64 | OK | WARNINGS | |
Windows Server 2003 | x86_64 | OK | WARNINGS | OK |
Windows XP | i686 | OK | WARNINGS | OK |
Mac OS X (10.4.6) | i686 | OK | WARNINGS | |
1.9.15Ben Bolstad | Linux (SUSE 9.2) | x86_64 | OK | WARNINGS | |
Linux (SUSE 9.2) | i686 | OK | WARNINGS | |
Solaris 2.9 | sparc | OK | ERROR | |
Linux (SUSE 10.0) | x86_64 | OK | WARNINGS | |
Windows Server 2003 | x86_64 | ERROR | skipped | skipped |
Windows XP | i686 | ERROR | skipped | skipped |
Mac OS X (10.4.6) | i686 | OK | WARNINGS | |
1.11.1Craig Parman | Linux (SUSE 9.2) | x86_64 | ERROR | skipped | |
Linux (SUSE 9.2) | i686 | ERROR | skipped | |
Solaris 2.9 | sparc | OK | OK | |
Linux (SUSE 10.0) | x86_64 | ERROR | skipped | |
Windows Server 2003 | x86_64 | ERROR | skipped | skipped |
Windows XP | i686 | ERROR | skipped | skipped |
Mac OS X (10.4.6) | i686 | ERROR | skipped | |
1.7.0Laurent Gautier | Linux (SUSE 9.2) | x86_64 | OK | WARNINGS | |
Linux (SUSE 9.2) | i686 | OK | WARNINGS | |
Solaris 2.9 | sparc | OK | OK | |
Linux (SUSE 10.0) | x86_64 | OK | WARNINGS | |
Windows Server 2003 | x86_64 | ERROR | skipped | skipped |
Windows XP | i686 | ERROR | skipped | skipped |
Mac OS X (10.4.6) | i686 | OK | WARNINGS | |
1.5.2Colin A. Smith | Linux (SUSE 9.2) | x86_64 | OK | WARNINGS | |
Linux (SUSE 9.2) | i686 | OK | WARNINGS | |
Solaris 2.9 | sparc | OK | WARNINGS | |
Linux (SUSE 10.0) | x86_64 | OK | WARNINGS | |
Windows Server 2003 | x86_64 | OK | WARNINGS | OK |
Windows XP | i686 | OK | WARNINGS | OK |
Mac OS X (10.4.6) | i686 | OK | WARNINGS | |
1.11.11J. Zhang | Linux (SUSE 9.2) | x86_64 | OK | OK | |
Linux (SUSE 9.2) | i686 | OK | OK | |
Solaris 2.9 | sparc | OK | OK | |
Linux (SUSE 10.0) | x86_64 | OK | OK | |
Windows Server 2003 | x86_64 | OK | OK | OK |
Windows XP | i686 | OK | OK | OK |
Mac OS X (10.4.6) | i686 | ERROR | skipped | |
1.11.5Biocore Team | Linux (SUSE 9.2) | x86_64 | OK | ERROR | |
Linux (SUSE 9.2) | i686 | OK | ERROR | |
Solaris 2.9 | sparc | OK | ERROR | |
Linux (SUSE 10.0) | x86_64 | OK | ERROR | |
Windows Server 2003 | x86_64 | OK | ERROR | OK |
Windows XP | i686 | OK | ERROR | OK |
Mac OS X (10.4.6) | i686 | OK | ERROR | |
1.7.1Denise Scholtens | Linux (SUSE 9.2) | x86_64 | OK | OK | |
Linux (SUSE 9.2) | i686 | OK | OK | |
Solaris 2.9 | sparc | OK | OK | |
Linux (SUSE 10.0) | x86_64 | OK | OK | |
Windows Server 2003 | x86_64 | OK | WARNINGS | OK |
Windows XP | i686 | OK | WARNINGS | OK |
Mac OS X (10.4.6) | i686 | OK | WARNINGS | |
1.3.0Francesca Cordero | Linux (SUSE 9.2) | x86_64 | OK | OK | |
Linux (SUSE 9.2) | i686 | OK | OK | |
Solaris 2.9 | sparc | OK | OK | |
Linux (SUSE 10.0) | x86_64 | OK | OK | |
Windows Server 2003 | x86_64 | OK | OK | OK |
Windows XP | i686 | OK | OK | OK |
Mac OS X (10.4.6) | i686 | OK | OK | |
0.3.10Vince Carey | Linux (SUSE 9.2) | x86_64 | OK | WARNINGS | |
Linux (SUSE 9.2) | i686 | OK | WARNINGS | |
Solaris 2.9 | sparc | ERROR | skipped | |
Linux (SUSE 10.0) | x86_64 | OK | WARNINGS | |
Windows Server 2003 | x86_64 | ERROR | skipped | skipped |
Windows XP | i686 | ERROR | skipped | skipped |
Mac OS X (10.4.6) | i686 | ERROR | skipped | |
1.1.0Henrik Bengtsson | Linux (SUSE 9.2) | x86_64 | OK | WARNINGS | |
Linux (SUSE 9.2) | i686 | OK | WARNINGS | |
Solaris 2.9 | sparc | OK | OK | |
Linux (SUSE 10.0) | x86_64 | OK | WARNINGS | |
Windows Server 2003 | x86_64 | OK | WARNINGS | OK |
Windows XP | i686 | OK | WARNINGS | OK |
Mac OS X (10.4.6) | i686 | OK | WARNINGS | |
1.11.0Andreas Buness | Linux (SUSE 9.2) | x86_64 | OK | ERROR | |
Linux (SUSE 9.2) | i686 | OK | ERROR | |
Solaris 2.9 | sparc | OK | ERROR | |
Linux (SUSE 10.0) | x86_64 | OK | ERROR | |
Windows Server 2003 | x86_64 | OK | ERROR | OK |
Windows XP | i686 | OK | ERROR | OK |
Mac OS X (10.4.6) | i686 | OK | ERROR | |
2.0.0Eun-kyung Lee | Linux (SUSE 9.2) | x86_64 | ERROR | skipped | |
Linux (SUSE 9.2) | i686 | ERROR | skipped | |
Solaris 2.9 | sparc | ERROR | skipped | |
Linux (SUSE 10.0) | x86_64 | ERROR | skipped | |
Windows Server 2003 | x86_64 | ERROR | skipped | skipped |
Windows XP | i686 | ERROR | skipped | skipped |
Mac OS X (10.4.6) | i686 | ERROR | skipped | |
1.9.0A. Paquet | Linux (SUSE 9.2) | x86_64 | OK | OK | |
Linux (SUSE 9.2) | i686 | OK | OK | |
Solaris 2.9 | sparc | OK | OK | |
Linux (SUSE 10.0) | x86_64 | OK | OK | |
Windows Server 2003 | x86_64 | OK | OK | OK |
Windows XP | i686 | OK | OK | skipped |
Mac OS X (10.4.6) | i686 | OK | OK | |
1.1.6Mark Dunning | Linux (SUSE 9.2) | x86_64 | OK | WARNINGS | |
Linux (SUSE 9.2) | i686 | OK | WARNINGS | |
Solaris 2.9 | sparc | OK | ERROR | |
Linux (SUSE 10.0) | x86_64 | OK | WARNINGS | |
Windows Server 2003 | x86_64 | OK | WARNINGS | OK |
Windows XP | i686 | OK | WARNINGS | skipped |
Mac OS X (10.4.6) | i686 | OK | WARNINGS | |
0.9.7Jan Oosting | Linux (SUSE 9.2) | x86_64 | ERROR | skipped | |
Linux (SUSE 9.2) | i686 | ERROR | skipped | |
Solaris 2.9 | sparc | ERROR | skipped | |
Linux (SUSE 10.0) | x86_64 | ERROR | skipped | |
Windows Server 2003 | x86_64 | ERROR | skipped | skipped |
Windows XP | i686 | ERROR | skipped | skipped |
Mac OS X (10.4.6) | i686 | ERROR | skipped | |
1.0.0Gareth Elvidge | Linux (SUSE 9.2) | x86_64 | OK | WARNINGS | |
Linux (SUSE 9.2) | i686 | OK | WARNINGS | |
Solaris 2.9 | sparc | OK | OK | |
Linux (SUSE 10.0) | x86_64 | OK | WARNINGS | |
Windows Server 2003 | x86_64 | OK | WARNINGS | OK |
Windows XP | i686 | OK | WARNINGS | skipped |
Mac OS X (10.4.6) | i686 | OK | WARNINGS | |
1.5.0Brian S. Yandell | Linux (SUSE 9.2) | x86_64 | OK | OK | |
Linux (SUSE 9.2) | i686 | OK | OK | |
Solaris 2.9 | sparc | OK | OK | |
Linux (SUSE 10.0) | x86_64 | OK | OK | |
Windows Server 2003 | x86_64 | OK | OK | OK |
Windows XP | i686 | OK | OK | skipped |
Mac OS X (10.4.6) | i686 | OK | OK | |
1.11.35Biocore Team | Linux (SUSE 9.2) | x86_64 | OK | OK | |
Linux (SUSE 9.2) | i686 | OK | OK | |
Solaris 2.9 | sparc | ERROR | skipped | |
Linux (SUSE 10.0) | x86_64 | OK | OK | |
Windows Server 2003 | x86_64 | OK | OK | OK |
Windows XP | i686 | OK | OK | skipped |
Mac OS X (10.4.6) | i686 | OK | OK | |
1.1.3Seth Falcon | Linux (SUSE 9.2) | x86_64 | OK | OK | |
Linux (SUSE 9.2) | i686 | OK | OK | |
Solaris 2.9 | sparc | OK | OK | |
Linux (SUSE 10.0) | x86_64 | OK | OK | |
Windows Server 2003 | x86_64 | OK | WARNINGS | OK |
Windows XP | i686 | OK | WARNINGS | skipped |
Mac OS X (10.4.6) | i686 | OK | OK | |
1.5.0Biocore Team | Linux (SUSE 9.2) | x86_64 | OK | WARNINGS | |
Linux (SUSE 9.2) | i686 | OK | WARNINGS | |
Solaris 2.9 | sparc | OK | OK | |
Linux (SUSE 10.0) | x86_64 | OK | WARNINGS | |
Windows Server 2003 | x86_64 | OK | WARNINGS | OK |
Windows XP | i686 | OK | WARNINGS | skipped |
Mac OS X (10.4.6) | i686 | OK | WARNINGS | |
1.7.9Steffen Durinck | Linux (SUSE 9.2) | x86_64 | OK | OK | |
Linux (SUSE 9.2) | i686 | OK | OK | |
Solaris 2.9 | sparc | OK | OK | |
Linux (SUSE 10.0) | x86_64 | OK | OK | |
Windows Server 2003 | x86_64 | ERROR | skipped | skipped |
Windows XP | i686 | ERROR | skipped | skipped |
Mac OS X (10.4.6) | i686 | OK | OK | |
1.0.6Elizabeth Whalen | Linux (SUSE 9.2) | x86_64 | OK | WARNINGS | |
Linux (SUSE 9.2) | i686 | OK | WARNINGS | |
Solaris 2.9 | sparc | OK | OK | |
Linux (SUSE 10.0) | x86_64 | OK | WARNINGS | |
Windows Server 2003 | x86_64 | OK | WARNINGS | OK |
Windows XP | i686 | OK | WARNINGS | skipped |
Mac OS X (10.4.6) | i686 | OK | WARNINGS | |
2.1.6H. Pages | Linux (SUSE 9.2) | x86_64 | OK | WARNINGS | |
Linux (SUSE 9.2) | i686 | OK | WARNINGS | |
Solaris 2.9 | sparc | OK | WARNINGS | |
Linux (SUSE 10.0) | x86_64 | OK | WARNINGS | |
Windows Server 2003 | x86_64 | OK | WARNINGS | OK |
Windows XP | i686 | OK | WARNINGS | skipped |
Mac OS X (10.4.6) | i686 | OK | WARNINGS | |
1.5.0Raphael Gottardo | Linux (SUSE 9.2) | x86_64 | OK | OK | |
Linux (SUSE 9.2) | i686 | OK | OK | |
Solaris 2.9 | sparc | OK | OK | |
Linux (SUSE 10.0) | x86_64 | OK | OK | |
Windows Server 2003 | x86_64 | OK | OK | OK |
Windows XP | i686 | OK | OK | skipped |
Mac OS X (10.4.6) | i686 | OK | OK | |
1.1.2H. Pages | Linux (SUSE 9.2) | x86_64 | OK | OK | |
Linux (SUSE 9.2) | i686 | OK | OK | |
Solaris 2.9 | sparc | OK | OK | |
Linux (SUSE 10.0) | x86_64 | OK | OK | |
Windows Server 2003 | x86_64 | OK | OK | OK |
Windows XP | i686 | OK | OK | skipped |
Mac OS X (10.4.6) | i686 | OK | OK | |
1.5.9R. Gentleman | Linux (SUSE 9.2) | x86_64 | OK | ERROR | |
Linux (SUSE 9.2) | i686 | OK | ERROR | |
Solaris 2.9 | sparc | OK | ERROR | |
Linux (SUSE 10.0) | x86_64 | OK | ERROR | |
Windows Server 2003 | x86_64 | ERROR | skipped | skipped |
Windows XP | i686 | ERROR | skipped | skipped |
Mac OS X (10.4.6) | i686 | ERROR | skipped | |
1.3.34Ligia Bras | Linux (SUSE 9.2) | x86_64 | OK | ERROR | |
Linux (SUSE 9.2) | i686 | OK | ERROR | |
Solaris 2.9 | sparc | ERROR | skipped | |
Linux (SUSE 10.0) | x86_64 | OK | ERROR | |
Windows Server 2003 | x86_64 | OK | ERROR | OK |
Windows XP | i686 | OK | ERROR | skipped |
Mac OS X (10.4.6) | i686 | OK | ERROR | |
1.3.2J. Zhang | Linux (SUSE 9.2) | x86_64 | ERROR | skipped | |
Linux (SUSE 9.2) | i686 | ERROR | skipped | |
Solaris 2.9 | sparc | ERROR | skipped | |
Linux (SUSE 10.0) | x86_64 | ERROR | skipped | |
Windows Server 2003 | x86_64 | ERROR | skipped | skipped |
Windows XP | i686 | ERROR | skipped | skipped |
Mac OS X (10.4.6) | i686 | ERROR | skipped | |
1.5.0Jihoon Kim | Linux (SUSE 9.2) | x86_64 | OK | OK | |
Linux (SUSE 9.2) | i686 | OK | OK | |
Solaris 2.9 | sparc | OK | OK | |
Linux (SUSE 10.0) | x86_64 | OK | OK | |
Windows Server 2003 | x86_64 | OK | WARNINGS | OK |
Windows XP | i686 | OK | WARNINGS | skipped |
Mac OS X (10.4.6) | i686 | OK | OK | |
1.5.0James W. MacDonald | Linux (SUSE 9.2) | x86_64 | OK | WARNINGS | |
Linux (SUSE 9.2) | i686 | OK | WARNINGS | |
Solaris 2.9 | sparc | OK | OK | |
Linux (SUSE 10.0) | x86_64 | OK | WARNINGS | |
Windows Server 2003 | x86_64 | ERROR | skipped | skipped |
Windows XP | i686 | ERROR | skipped | skipped |
Mac OS X (10.4.6) | i686 | ERROR | skipped | |
1.5.1R. Gentleman | Linux (SUSE 9.2) | x86_64 | OK | OK | |
Linux (SUSE 9.2) | i686 | OK | OK | |
Solaris 2.9 | sparc | OK | OK | |
Linux (SUSE 10.0) | x86_64 | OK | OK | |
Windows Server 2003 | x86_64 | OK | OK | OK |
Windows XP | i686 | OK | OK | skipped |
Mac OS X (10.4.6) | i686 | OK | OK | |
1.1.5Diego Diez | Linux (SUSE 9.2) | x86_64 | OK | OK | |
Linux (SUSE 9.2) | i686 | OK | OK | |
Solaris 2.9 | sparc | OK | OK | |
Linux (SUSE 10.0) | x86_64 | OK | OK | |
Windows Server 2003 | x86_64 | OK | OK | OK |
Windows XP | i686 | OK | OK | skipped |
Mac OS X (10.4.6) | i686 | OK | OK | |
1.7.0Yee Hwa (Jean) Yang | Linux (SUSE 9.2) | x86_64 | OK | OK | |
Linux (SUSE 9.2) | i686 | OK | OK | |
Solaris 2.9 | sparc | OK | OK | |
Linux (SUSE 10.0) | x86_64 | OK | OK | |
Windows Server 2003 | x86_64 | OK | OK | OK |
Windows XP | i686 | ERROR | skipped | skipped |
Mac OS X (10.4.6) | i686 | OK | OK | |
1.1.2James W. MacDonald | Linux (SUSE 9.2) | x86_64 | OK | WARNINGS | |
Linux (SUSE 9.2) | i686 | OK | WARNINGS | |
Solaris 2.9 | sparc | ERROR | skipped | |
Linux (SUSE 10.0) | x86_64 | OK | WARNINGS | |
Windows Server 2003 | x86_64 | OK | WARNINGS | OK |
Windows XP | i686 | OK | WARNINGS | skipped |
Mac OS X (10.4.6) | i686 | OK | WARNINGS | |
1.7.0Antoine Lucas | Linux (SUSE 9.2) | x86_64 | OK | OK | |
Linux (SUSE 9.2) | i686 | OK | OK | |
Solaris 2.9 | sparc | OK | OK | |
Linux (SUSE 10.0) | x86_64 | OK | OK | |
Windows Server 2003 | x86_64 | OK | OK | OK |
Windows XP | i686 | OK | OK | skipped |
Mac OS X (10.4.6) | i686 | OK | OK | |
1.5.0Jobst Landgrebe | Linux (SUSE 9.2) | x86_64 | OK | OK | |
Linux (SUSE 9.2) | i686 | OK | OK | |
Solaris 2.9 | sparc | OK | OK | |
Linux (SUSE 10.0) | x86_64 | OK | OK | |
Windows Server 2003 | x86_64 | OK | OK | OK |
Windows XP | i686 | OK | OK | skipped |
Mac OS X (10.4.6) | i686 | OK | OK | |
1.5.0Yuanyuan Xiao | Linux (SUSE 9.2) | x86_64 | OK | OK | |
Linux (SUSE 9.2) | i686 | OK | OK | |
Solaris 2.9 | sparc | OK | OK | |
Linux (SUSE 10.0) | x86_64 | OK | OK | |
Windows Server 2003 | x86_64 | OK | OK | OK |
Windows XP | i686 | OK | OK | skipped |
Mac OS X (10.4.6) | i686 | OK | OK | |
1.15.0Choudary Jagarlamudi | Linux (SUSE 9.2) | x86_64 | OK | OK | |
Linux (SUSE 9.2) | i686 | OK | OK | |
Solaris 2.9 | sparc | OK | OK | |
Linux (SUSE 10.0) | x86_64 | OK | OK | |
Windows Server 2003 | x86_64 | OK | OK | OK |
Windows XP | i686 | OK | OK | skipped |
Mac OS X (10.4.6) | i686 | OK | OK | |
1.7.0E. S. Venkatraman | Linux (SUSE 9.2) | x86_64 | OK | OK | |
Linux (SUSE 9.2) | i686 | OK | OK | |
Solaris 2.9 | sparc | OK | OK | |
Linux (SUSE 10.0) | x86_64 | OK | OK | |
Windows Server 2003 | x86_64 | OK | OK | OK |
Windows XP | i686 | OK | OK | skipped |
Mac OS X (10.4.6) | i686 | OK | OK | |
1.11.2Biocore Team | Linux (SUSE 9.2) | x86_64 | OK | OK | |
Linux (SUSE 9.2) | i686 | OK | OK | |
Solaris 2.9 | sparc | OK | OK | |
Linux (SUSE 10.0) | x86_64 | OK | OK | |
Windows Server 2003 | x86_64 | OK | OK | OK |
Windows XP | i686 | OK | OK | skipped |
Mac OS X (10.4.6) | i686 | OK | OK | |
1.5.0Deepayan Sarkar | Linux (SUSE 9.2) | x86_64 | OK | WARNINGS | |
Linux (SUSE 9.2) | i686 | OK | WARNINGS | |
Solaris 2.9 | sparc | OK | OK | |
Linux (SUSE 10.0) | x86_64 | OK | WARNINGS | |
Windows Server 2003 | x86_64 | OK | WARNINGS | OK |
Windows XP | i686 | ERROR | skipped | skipped |
Mac OS X (10.4.6) | i686 | OK | WARNINGS | |
1.3.102Oleg Sklyar | Linux (SUSE 9.2) | x86_64 | OK | OK | |
Linux (SUSE 9.2) | i686 | OK | OK | |
Solaris 2.9 | sparc | OK | OK | |
Linux (SUSE 10.0) | x86_64 | OK | OK | |
Windows Server 2003 | x86_64 | ERROR | skipped | skipped |
Windows XP | i686 | ERROR | skipped | skipped |
Mac OS X (10.4.6) | i686 | ERROR | skipped | |
1.5.0Laurent | Linux (SUSE 9.2) | x86_64 | OK | WARNINGS | |
Linux (SUSE 9.2) | i686 | OK | WARNINGS | |
Solaris 2.9 | sparc | OK | OK | |
Linux (SUSE 10.0) | x86_64 | OK | WARNINGS | |
Windows Server 2003 | x86_64 | OK | WARNINGS | OK |
Windows XP | i686 | OK | WARNINGS | skipped |
Mac OS X (10.4.6) | i686 | OK | WARNINGS | |
1.11.1Vince Carey | Linux (SUSE 9.2) | x86_64 | OK | OK | |
Linux (SUSE 9.2) | i686 | OK | OK | |
Solaris 2.9 | sparc | OK | OK | |
Linux (SUSE 10.0) | x86_64 | OK | OK | |
Windows Server 2003 | x86_64 | OK | ERROR | OK |
Windows XP | i686 | OK | ERROR | skipped |
Mac OS X (10.4.6) | i686 | OK | ERROR | |
0.3.0Byron Ellis | Linux (SUSE 9.2) | x86_64 | OK | ERROR | |
Linux (SUSE 9.2) | i686 | OK | ERROR | |
Solaris 2.9 | sparc | ERROR | skipped | |
Linux (SUSE 10.0) | x86_64 | OK | ERROR | |
Windows Server 2003 | x86_64 | ERROR | skipped | skipped |
Windows XP | i686 | ERROR | skipped | skipped |
Mac OS X (10.4.6) | i686 | ERROR | skipped | |
1.5.0Biocore Team | Linux (SUSE 9.2) | x86_64 | OK | ERROR | |
Linux (SUSE 9.2) | i686 | OK | ERROR | |
Solaris 2.9 | sparc | OK | ERROR | |
Linux (SUSE 10.0) | x86_64 | OK | ERROR | |
Windows Server 2003 | x86_64 | OK | ERROR | OK |
Windows XP | i686 | OK | ERROR | skipped |
Mac OS X (10.4.6) | i686 | OK | ERROR | |
1.5.0Biocore Team | Linux (SUSE 9.2) | x86_64 | OK | ERROR | |
Linux (SUSE 9.2) | i686 | OK | ERROR | |
Solaris 2.9 | sparc | OK | ERROR | |
Linux (SUSE 10.0) | x86_64 | OK | ERROR | |
Windows Server 2003 | x86_64 | OK | ERROR | ERROR |
Windows XP | i686 | OK | ERROR | skipped |
Mac OS X (10.4.6) | i686 | OK | ERROR | |
1.7.0Denise Scholtens | Linux (SUSE 9.2) | x86_64 | OK | OK | |
Linux (SUSE 9.2) | i686 | OK | OK | |
Solaris 2.9 | sparc | OK | OK | |
Linux (SUSE 10.0) | x86_64 | OK | OK | |
Windows Server 2003 | x86_64 | OK | OK | OK |
Windows XP | i686 | OK | OK | skipped |
Mac OS X (10.4.6) | i686 | OK | OK | |
1.5.0Effi Kenigsberg | Linux (SUSE 9.2) | x86_64 | OK | OK | |
Linux (SUSE 9.2) | i686 | OK | OK | |
Solaris 2.9 | sparc | OK | OK | |
Linux (SUSE 10.0) | x86_64 | OK | OK | |
Windows Server 2003 | x86_64 | OK | OK | OK |
Windows XP | i686 | OK | OK | skipped |
Mac OS X (10.4.6) | i686 | OK | OK | |
1.1.5Paul Shannon | Linux (SUSE 9.2) | x86_64 | OK | WARNINGS | |
Linux (SUSE 9.2) | i686 | OK | WARNINGS | |
Solaris 2.9 | sparc | OK | ERROR | |
Linux (SUSE 10.0) | x86_64 | OK | WARNINGS | |
Windows Server 2003 | x86_64 | OK | WARNINGS | OK |
Windows XP | i686 | OK | ERROR | skipped |
Mac OS X (10.4.6) | i686 | OK | WARNINGS | |
2.5.1Z. Wu | Linux (SUSE 9.2) | x86_64 | OK | WARNINGS | |
Linux (SUSE 9.2) | i686 | OK | WARNINGS | |
Solaris 2.9 | sparc | OK | OK | |
Linux (SUSE 10.0) | x86_64 | OK | WARNINGS | |
Windows Server 2003 | x86_64 | OK | WARNINGS | OK |
Windows XP | i686 | OK | WARNINGS | skipped |
Mac OS X (10.4.6) | i686 | OK | WARNINGS | |
1.9.0IFC Development Team | Linux (SUSE 9.2) | x86_64 | OK | OK | |
Linux (SUSE 9.2) | i686 | OK | OK | |
Solaris 2.9 | sparc | OK | OK | |
Linux (SUSE 10.0) | x86_64 | OK | OK | |
Windows Server 2003 | x86_64 | OK | OK | OK |
Windows XP | i686 | OK | OK | skipped |
Mac OS X (10.4.6) | i686 | OK | OK | |
1.11.8Biocore Team | Linux (SUSE 9.2) | x86_64 | OK | WARNINGS | |
Linux (SUSE 9.2) | i686 | OK | WARNINGS | |
Solaris 2.9 | sparc | OK | WARNINGS | |
Linux (SUSE 10.0) | x86_64 | OK | WARNINGS | |
Windows Server 2003 | x86_64 | OK | WARNINGS | OK |
Windows XP | i686 | OK | WARNINGS | skipped |
Mac OS X (10.4.6) | i686 | OK | WARNINGS | |
1.5.0Biocore Team | Linux (SUSE 9.2) | x86_64 | OK | ERROR | |
Linux (SUSE 9.2) | i686 | OK | ERROR | |
Solaris 2.9 | sparc | OK | OK | |
Linux (SUSE 10.0) | x86_64 | OK | ERROR | |
Windows Server 2003 | x86_64 | OK | ERROR | OK |
Windows XP | i686 | OK | ERROR | skipped |
Mac OS X (10.4.6) | i686 | OK | ERROR | |
1.11.9Biocore Team | Linux (SUSE 9.2) | x86_64 | OK | OK | |
Linux (SUSE 9.2) | i686 | OK | OK | |
Solaris 2.9 | sparc | OK | OK | |
Linux (SUSE 10.0) | x86_64 | OK | OK | |
Windows Server 2003 | x86_64 | OK | OK | OK |
Windows XP | i686 | OK | OK | skipped |
Mac OS X (10.4.6) | i686 | OK | OK | |
2.3.0Y. d'Aubenton-Carafa | Linux (SUSE 9.2) | x86_64 | OK | ERROR | |
Linux (SUSE 9.2) | i686 | OK | ERROR | |
Solaris 2.9 | sparc | OK | OK | |
Linux (SUSE 10.0) | x86_64 | OK | ERROR | |
Windows Server 2003 | x86_64 | OK | ERROR | OK |
Windows XP | i686 | OK | ERROR | skipped |
Mac OS X (10.4.6) | i686 | OK | ERROR | |
1.5.0Greg Hather | Linux (SUSE 9.2) | x86_64 | OK | OK | |
Linux (SUSE 9.2) | i686 | OK | OK | |
Solaris 2.9 | sparc | OK | OK | |
Linux (SUSE 10.0) | x86_64 | OK | OK | |
Windows Server 2003 | x86_64 | OK | OK | OK |
Windows XP | i686 | OK | OK | skipped |
Mac OS X (10.4.6) | i686 | OK | OK | |
0.1.3Antoine Lucas | Linux (SUSE 9.2) | x86_64 | OK | OK | |
Linux (SUSE 9.2) | i686 | ERROR | skipped | |
Solaris 2.9 | sparc | ERROR | skipped | |
Linux (SUSE 10.0) | x86_64 | OK | OK | |
Windows Server 2003 | x86_64 | ERROR | skipped | skipped |
Windows XP | i686 | ERROR | skipped | skipped |
Mac OS X (10.4.6) | i686 | ERROR | skipped | |
2.5.0Thon de Boer | Linux (SUSE 9.2) | x86_64 | OK | WARNINGS | |
Linux (SUSE 9.2) | i686 | OK | WARNINGS | |
Solaris 2.9 | sparc | OK | OK | |
Linux (SUSE 10.0) | x86_64 | OK | WARNINGS | |
Windows Server 2003 | x86_64 | OK | WARNINGS | OK |
Windows XP | i686 | OK | WARNINGS | skipped |
Mac OS X (10.4.6) | i686 | OK | WARNINGS | |
1.5.0Daniel Iordan | Linux (SUSE 9.2) | x86_64 | OK | WARNINGS | |
Linux (SUSE 9.2) | i686 | OK | WARNINGS | |
Solaris 2.9 | sparc | OK | OK | |
Linux (SUSE 10.0) | x86_64 | OK | WARNINGS | |
Windows Server 2003 | x86_64 | OK | ERROR | ERROR |
Windows XP | i686 | OK | ERROR | skipped |
Mac OS X (10.4.6) | i686 | OK | WARNINGS | |
2.11.1Korbinian Strimmer | Linux (SUSE 9.2) | x86_64 | OK | OK | |
Linux (SUSE 9.2) | i686 | OK | OK | |
Solaris 2.9 | sparc | OK | ERROR | |
Linux (SUSE 10.0) | x86_64 | OK | OK | |
Windows Server 2003 | x86_64 | OK | OK | OK |
Windows XP | i686 | OK | OK | skipped |
Mac OS X (10.4.6) | i686 | OK | OK | |
1.7.3Sean Davis | Linux (SUSE 9.2) | x86_64 | OK | WARNINGS | |
Linux (SUSE 9.2) | i686 | OK | WARNINGS | |
Solaris 2.9 | sparc | OK | WARNINGS | |
Linux (SUSE 10.0) | x86_64 | OK | WARNINGS | |
Windows Server 2003 | x86_64 | OK | WARNINGS | OK |
Windows XP | i686 | OK | WARNINGS | skipped |
Mac OS X (10.4.6) | i686 | OK | WARNINGS | |
1.7.0Oleg Sklyar | Linux (SUSE 9.2) | x86_64 | OK | WARNINGS | |
Linux (SUSE 9.2) | i686 | OK | WARNINGS | |
Solaris 2.9 | sparc | OK | OK | |
Linux (SUSE 10.0) | x86_64 | OK | WARNINGS | |
Windows Server 2003 | x86_64 | OK | WARNINGS | OK |
Windows XP | i686 | OK | WARNINGS | skipped |
Mac OS X (10.4.6) | i686 | OK | WARNINGS | |
1.0-0stvjc | Linux (SUSE 9.2) | x86_64 | ERROR | skipped | |
Linux (SUSE 9.2) | i686 | ERROR | skipped | |
Solaris 2.9 | sparc | ERROR | skipped | |
Linux (SUSE 10.0) | x86_64 | ERROR | skipped | |
Windows Server 2003 | x86_64 | ERROR | skipped | skipped |
Windows XP | i686 | ERROR | skipped | skipped |
Mac OS X (10.4.6) | i686 | ERROR | skipped | |
1.7.2Philippe Hupé | Linux (SUSE 9.2) | x86_64 | OK | OK | |
Linux (SUSE 9.2) | i686 | OK | OK | |
Solaris 2.9 | sparc | OK | OK | |
Linux (SUSE 10.0) | x86_64 | OK | OK | |
Windows Server 2003 | x86_64 | OK | OK | OK |
Windows XP | i686 | OK | OK | skipped |
Mac OS X (10.4.6) | i686 | OK | OK | |
2.3.0R. Meister | Linux (SUSE 9.2) | x86_64 | ERROR | skipped | |
Linux (SUSE 9.2) | i686 | ERROR | skipped | |
Solaris 2.9 | sparc | ERROR | skipped | |
Linux (SUSE 10.0) | x86_64 | ERROR | skipped | |
Windows Server 2003 | x86_64 | ERROR | skipped | skipped |
Windows XP | i686 | ERROR | skipped | skipped |
Mac OS X (10.4.6) | i686 | ERROR | skipped | |
4.3.5Jelle Goeman | Linux (SUSE 9.2) | x86_64 | ERROR | skipped | |
Linux (SUSE 9.2) | i686 | ERROR | skipped | |
Solaris 2.9 | sparc | ERROR | skipped | |
Linux (SUSE 10.0) | x86_64 | ERROR | skipped | |
Windows Server 2003 | x86_64 | ERROR | skipped | skipped |
Windows XP | i686 | ERROR | skipped | skipped |
Mac OS X (10.4.6) | i686 | OK | OK | |
1.7.13S. Falcon | Linux (SUSE 9.2) | x86_64 | OK | WARNINGS | |
Linux (SUSE 9.2) | i686 | OK | WARNINGS | |
Solaris 2.9 | sparc | OK | TIMEOUT | |
Linux (SUSE 10.0) | x86_64 | OK | WARNINGS | |
Windows Server 2003 | x86_64 | OK | WARNINGS | OK |
Windows XP | i686 | TIMEOUT | skipped | skipped |
Mac OS X (10.4.6) | i686 | OK | WARNINGS | |
1.5.0Agnes Paquet | Linux (SUSE 9.2) | x86_64 | ERROR | skipped | |
Linux (SUSE 9.2) | i686 | ERROR | skipped | |
Solaris 2.9 | sparc | ERROR | skipped | |
Linux (SUSE 10.0) | x86_64 | ERROR | skipped | |
Windows Server 2003 | x86_64 | ERROR | skipped | skipped |
Windows XP | i686 | ERROR | skipped | skipped |
Mac OS X (10.4.6) | i686 | ERROR | skipped | |
1.5.0Biocore Team | Linux (SUSE 9.2) | x86_64 | OK | OK | |
Linux (SUSE 9.2) | i686 | OK | OK | |
Solaris 2.9 | sparc | OK | OK | |
Linux (SUSE 10.0) | x86_64 | OK | OK | |
Windows Server 2003 | x86_64 | OK | OK | OK |
Windows XP | i686 | OK | OK | skipped |
Mac OS X (10.4.6) | i686 | OK | OK | |
1.11.14Seth Falcon | Linux (SUSE 9.2) | x86_64 | OK | WARNINGS | |
Linux (SUSE 9.2) | i686 | OK | WARNINGS | |
Solaris 2.9 | sparc | OK | OK | |
Linux (SUSE 10.0) | x86_64 | OK | WARNINGS | |
Windows Server 2003 | x86_64 | OK | WARNINGS | OK |
Windows XP | i686 | OK | WARNINGS | skipped |
Mac OS X (10.4.6) | i686 | OK | WARNINGS | |
1.5.0Thomas LaFramboise | Linux (SUSE 9.2) | x86_64 | OK | OK | |
Linux (SUSE 9.2) | i686 | OK | OK | |
Solaris 2.9 | sparc | OK | OK | |
Linux (SUSE 10.0) | x86_64 | OK | OK | |
Windows Server 2003 | x86_64 | OK | OK | OK |
Windows XP | i686 | OK | OK | skipped |
Mac OS X (10.4.6) | i686 | OK | OK | |
0.11.0Jianhua Zhang | Linux (SUSE 9.2) | x86_64 | OK | OK | |
Linux (SUSE 9.2) | i686 | OK | OK | |
Solaris 2.9 | sparc | OK | OK | |
Linux (SUSE 10.0) | x86_64 | OK | OK | |
Windows Server 2003 | x86_64 | OK | OK | OK |
Windows XP | i686 | OK | ERROR | skipped |
Mac OS X (10.4.6) | i686 | OK | OK | |
1.1.2Maurizio Pellegrino | Linux (SUSE 9.2) | x86_64 | OK | OK | |
Linux (SUSE 9.2) | i686 | OK | OK | |
Solaris 2.9 | sparc | OK | OK | |
Linux (SUSE 10.0) | x86_64 | OK | OK | |
Windows Server 2003 | x86_64 | OK | OK | OK |
Windows XP | i686 | OK | OK | skipped |
Mac OS X (10.4.6) | i686 | OK | OK | |
1.3.1Alexander Ploner | Linux (SUSE 9.2) | x86_64 | OK | OK | |
Linux (SUSE 9.2) | i686 | OK | OK | |
Solaris 2.9 | sparc | OK | OK | |
Linux (SUSE 10.0) | x86_64 | OK | OK | |
Windows Server 2003 | x86_64 | OK | OK | OK |
Windows XP | i686 | OK | OK | skipped |
Mac OS X (10.4.6) | i686 | OK | OK | |
1.5.0HyungJun Cho | Linux (SUSE 9.2) | x86_64 | OK | OK | |
Linux (SUSE 9.2) | i686 | OK | OK | |
Solaris 2.9 | sparc | OK | OK | |
Linux (SUSE 10.0) | x86_64 | OK | OK | |
Windows Server 2003 | x86_64 | OK | OK | OK |
Windows XP | i686 | OK | OK | skipped |
Mac OS X (10.4.6) | i686 | OK | OK | |
1.7.1Nicholas Lewin-Koh | Linux (SUSE 9.2) | x86_64 | OK | WARNINGS | |
Linux (SUSE 9.2) | i686 | OK | WARNINGS | |
Solaris 2.9 | sparc | OK | OK | |
Linux (SUSE 10.0) | x86_64 | OK | WARNINGS | |
Windows Server 2003 | x86_64 | OK | WARNINGS | OK |
Windows XP | i686 | OK | WARNINGS | skipped |
Mac OS X (10.4.6) | i686 | OK | WARNINGS | |
1.7.0Katherine S. Pollard | Linux (SUSE 9.2) | x86_64 | OK | WARNINGS | |
Linux (SUSE 9.2) | i686 | OK | WARNINGS | |
Solaris 2.9 | sparc | OK | WARNINGS | |
Linux (SUSE 10.0) | x86_64 | OK | WARNINGS | |
Windows Server 2003 | x86_64 | OK | WARNINGS | OK |
Windows XP | i686 | OK | WARNINGS | skipped |
Mac OS X (10.4.6) | i686 | OK | WARNINGS | |
1.5.2Seth Falcon | Linux (SUSE 9.2) | x86_64 | OK | ERROR | |
Linux (SUSE 9.2) | i686 | OK | ERROR | |
Solaris 2.9 | sparc | OK | OK | |
Linux (SUSE 10.0) | x86_64 | OK | ERROR | |
Windows Server 2003 | x86_64 | OK | ERROR | OK |
Windows XP | i686 | OK | ERROR | skipped |
Mac OS X (10.4.6) | i686 | OK | ERROR | |
1.5.0Biocore Team | Linux (SUSE 9.2) | x86_64 | OK | OK | |
Linux (SUSE 9.2) | i686 | OK | OK | |
Solaris 2.9 | sparc | OK | OK | |
Linux (SUSE 10.0) | x86_64 | OK | OK | |
Windows Server 2003 | x86_64 | OK | OK | OK |
Windows XP | i686 | OK | OK | skipped |
Mac OS X (10.4.6) | i686 | OK | OK | |
1.7.1Karl J. Dykema | Linux (SUSE 9.2) | x86_64 | OK | OK | |
Linux (SUSE 9.2) | i686 | OK | OK | |
Solaris 2.9 | sparc | OK | OK | |
Linux (SUSE 10.0) | x86_64 | OK | OK | |
Windows Server 2003 | x86_64 | OK | OK | OK |
Windows XP | i686 | OK | OK | skipped |
Mac OS X (10.4.6) | i686 | OK | OK | |
1.5.0Balasubramanian Narasimhan | Linux (SUSE 9.2) | x86_64 | OK | OK | |
Linux (SUSE 9.2) | i686 | OK | OK | |
Solaris 2.9 | sparc | OK | ERROR | |
Linux (SUSE 10.0) | x86_64 | OK | ERROR | |
Windows Server 2003 | x86_64 | OK | OK | OK |
Windows XP | i686 | OK | OK | skipped |
Mac OS X (10.4.6) | i686 | OK | ERROR | |
1.3.37Elizabeth Whalen | Linux (SUSE 9.2) | x86_64 | OK | ERROR | |
Linux (SUSE 9.2) | i686 | OK | ERROR | |
Solaris 2.9 | sparc | OK | WARNINGS | |
Linux (SUSE 10.0) | x86_64 | OK | ERROR | |
Windows Server 2003 | x86_64 | ERROR | skipped | skipped |
Windows XP | i686 | ERROR | skipped | skipped |
Mac OS X (10.4.6) | i686 | ERROR | skipped | |
1.7.8Elizabeth Whalen | Linux (SUSE 9.2) | x86_64 | OK | ERROR | |
Linux (SUSE 9.2) | i686 | OK | ERROR | |
Solaris 2.9 | sparc | OK | OK | |
Linux (SUSE 10.0) | x86_64 | OK | ERROR | |
Windows Server 2003 | x86_64 | ERROR | skipped | skipped |
Windows XP | i686 | ERROR | skipped | skipped |
Mac OS X (10.4.6) | i686 | ERROR | skipped | |
1.7.0J. Zhang | Linux (SUSE 9.2) | x86_64 | OK | WARNINGS | |
Linux (SUSE 9.2) | i686 | OK | WARNINGS | |
Solaris 2.9 | sparc | OK | OK | |
Linux (SUSE 10.0) | x86_64 | OK | WARNINGS | |
Windows Server 2003 | x86_64 | OK | ERROR | ERROR |
Windows XP | i686 | OK | ERROR | skipped |
Mac OS X (10.4.6) | i686 | OK | WARNINGS | |
0.1.2Yann Ruffieux | Linux (SUSE 9.2) | x86_64 | OK | OK | |
Linux (SUSE 9.2) | i686 | OK | OK | |
Solaris 2.9 | sparc | OK | OK | |
Linux (SUSE 10.0) | x86_64 | OK | OK | |
Windows Server 2003 | x86_64 | OK | OK | OK |
Windows XP | i686 | OK | OK | skipped |
Mac OS X (10.4.6) | i686 | OK | OK | |
2.7.15Gordon Smyth | Linux (SUSE 9.2) | x86_64 | OK | OK | |
Linux (SUSE 9.2) | i686 | OK | OK | |
Solaris 2.9 | sparc | OK | OK | |
Linux (SUSE 10.0) | x86_64 | OK | OK | |
Windows Server 2003 | x86_64 | OK | OK | OK |
Windows XP | i686 | OK | OK | skipped |
Mac OS X (10.4.6) | i686 | OK | OK | |
1.9.2Keith Satterley | Linux (SUSE 9.2) | x86_64 | OK | OK | |
Linux (SUSE 9.2) | i686 | OK | OK | |
Solaris 2.9 | sparc | OK | OK | |
Linux (SUSE 10.0) | x86_64 | OK | OK | |
Windows Server 2003 | x86_64 | OK | OK | OK |
Windows XP | i686 | OK | OK | skipped |
Mac OS X (10.4.6) | i686 | OK | OK | |
1.1.0Geun Cheol Lee | Linux (SUSE 9.2) | x86_64 | OK | OK | |
Linux (SUSE 9.2) | i686 | OK | OK | |
Solaris 2.9 | sparc | OK | OK | |
Linux (SUSE 10.0) | x86_64 | OK | OK | |
Windows Server 2003 | x86_64 | OK | OK | OK |
Windows XP | i686 | OK | OK | skipped |
Mac OS X (10.4.6) | i686 | OK | OK | |
1.3.1Holger Schwender | Linux (SUSE 9.2) | x86_64 | OK | OK | |
Linux (SUSE 9.2) | i686 | OK | OK | |
Solaris 2.9 | sparc | OK | OK | |
Linux (SUSE 10.0) | x86_64 | OK | OK | |
Windows Server 2003 | x86_64 | OK | OK | OK |
Windows XP | i686 | OK | OK | skipped |
Mac OS X (10.4.6) | i686 | OK | OK | |
1.7.0Nitin Jain | Linux (SUSE 9.2) | x86_64 | OK | OK | |
Linux (SUSE 9.2) | i686 | OK | OK | |
Solaris 2.9 | sparc | OK | OK | |
Linux (SUSE 10.0) | x86_64 | OK | OK | |
Windows Server 2003 | x86_64 | OK | OK | OK |
Windows XP | i686 | OK | OK | skipped |
Mac OS X (10.4.6) | i686 | OK | OK | |
0.0.4HyungJun Cho | Linux (SUSE 9.2) | x86_64 | ERROR | skipped | |
Linux (SUSE 9.2) | i686 | ERROR | skipped | |
Solaris 2.9 | sparc | ERROR | skipped | |
Linux (SUSE 10.0) | x86_64 | ERROR | skipped | |
Windows Server 2003 | x86_64 | ERROR | skipped | skipped |
Windows XP | i686 | ERROR | skipped | skipped |
Mac OS X (10.4.6) | i686 | ERROR | skipped | |
1.3.1Lei Wu | Linux (SUSE 9.2) | x86_64 | ERROR | skipped | |
Linux (SUSE 9.2) | i686 | ERROR | skipped | |
Solaris 2.9 | sparc | ERROR | skipped | |
Linux (SUSE 10.0) | x86_64 | ERROR | skipped | |
Windows Server 2003 | x86_64 | ERROR | skipped | skipped |
Windows XP | i686 | ERROR | skipped | skipped |
Mac OS X (10.4.6) | i686 | ERROR | skipped | |
1.7.2Joern Toedling | Linux (SUSE 9.2) | x86_64 | OK | WARNINGS | |
Linux (SUSE 9.2) | i686 | OK | WARNINGS | |
Solaris 2.9 | sparc | OK | WARNINGS | |
Linux (SUSE 10.0) | x86_64 | OK | WARNINGS | |
Windows Server 2003 | x86_64 | OK | WARNINGS | OK |
Windows XP | i686 | OK | WARNINGS | skipped |
Mac OS X (10.4.6) | i686 | ERROR | skipped | |
1.3.0Alexander Ploner | Linux (SUSE 9.2) | x86_64 | OK | OK | |
Linux (SUSE 9.2) | i686 | OK | OK | |
Solaris 2.9 | sparc | OK | OK | |
Linux (SUSE 10.0) | x86_64 | OK | OK | |
Windows Server 2003 | x86_64 | OK | OK | OK |
Windows XP | i686 | OK | OK | skipped |
Mac OS X (10.4.6) | i686 | OK | OK | |
1.5.3Johannes Rainer | Linux (SUSE 9.2) | x86_64 | OK | WARNINGS | |
Linux (SUSE 9.2) | i686 | OK | WARNINGS | |
Solaris 2.9 | sparc | OK | OK | |
Linux (SUSE 10.0) | x86_64 | OK | WARNINGS | |
Windows Server 2003 | x86_64 | OK | WARNINGS | OK |
Windows XP | i686 | OK | ERROR | skipped |
Mac OS X (10.4.6) | i686 | OK | ERROR | |
1.7.2Aedin Culhane | Linux (SUSE 9.2) | x86_64 | OK | OK | |
Linux (SUSE 9.2) | i686 | OK | OK | |
Solaris 2.9 | sparc | OK | OK | |
Linux (SUSE 10.0) | x86_64 | OK | OK | |
Windows Server 2003 | x86_64 | OK | OK | OK |
Windows XP | i686 | OK | OK | skipped |
Mac OS X (10.4.6) | i686 | OK | OK | |
1.11.0James W. MacDonald | Linux (SUSE 9.2) | x86_64 | OK | OK | |
Linux (SUSE 9.2) | i686 | OK | OK | |
Solaris 2.9 | sparc | OK | OK | |
Linux (SUSE 10.0) | x86_64 | OK | OK | |
Windows Server 2003 | x86_64 | ERROR | skipped | skipped |
Windows XP | i686 | ERROR | skipped | skipped |
Mac OS X (10.4.6) | i686 | OK | OK | |
0.99.16Benilton Carvalho | Linux (SUSE 9.2) | x86_64 | OK | WARNINGS | |
Linux (SUSE 9.2) | i686 | OK | WARNINGS | |
Solaris 2.9 | sparc | OK | WARNINGS | |
Linux (SUSE 10.0) | x86_64 | OK | WARNINGS | |
Windows Server 2003 | x86_64 | OK | WARNINGS | OK |
Windows XP | i686 | OK | WARNINGS | skipped |
Mac OS X (10.4.6) | i686 | OK | WARNINGS | |
1.5.3Pierre Neuvial | Linux (SUSE 9.2) | x86_64 | OK | OK | |
Linux (SUSE 9.2) | i686 | OK | OK | |
Solaris 2.9 | sparc | OK | OK | |
Linux (SUSE 10.0) | x86_64 | OK | OK | |
Windows Server 2003 | x86_64 | OK | OK | OK |
Windows XP | i686 | OK | OK | skipped |
Mac OS X (10.4.6) | i686 | OK | OK | |
1.3.0Brian Steinmeyer | Linux (SUSE 9.2) | x86_64 | OK | OK | |
Linux (SUSE 9.2) | i686 | OK | OK | |
Solaris 2.9 | sparc | OK | OK | |
Linux (SUSE 10.0) | x86_64 | OK | OK | |
Windows Server 2003 | x86_64 | OK | OK | OK |
Windows XP | i686 | OK | OK | skipped |
Mac OS X (10.4.6) | i686 | OK | OK | |
1.11.0Yee Hwa (Jean) Yang | Linux (SUSE 9.2) | x86_64 | OK | WARNINGS | |
Linux (SUSE 9.2) | i686 | OK | WARNINGS | |
Solaris 2.9 | sparc | OK | OK | |
Linux (SUSE 10.0) | x86_64 | OK | WARNINGS | |
Windows Server 2003 | x86_64 | OK | WARNINGS | OK |
Windows XP | i686 | OK | WARNINGS | skipped |
Mac OS X (10.4.6) | i686 | OK | WARNINGS | |
1.5.0Ana Conesa | Linux (SUSE 9.2) | x86_64 | OK | OK | |
Linux (SUSE 9.2) | i686 | OK | OK | |
Solaris 2.9 | sparc | OK | OK | |
Linux (SUSE 10.0) | x86_64 | OK | OK | |
Windows Server 2003 | x86_64 | ERROR | skipped | skipped |
Windows XP | i686 | OK | OK | skipped |
Mac OS X (10.4.6) | i686 | OK | OK | |
1.5.0Biocore Team | Linux (SUSE 9.2) | x86_64 | OK | WARNINGS | |
Linux (SUSE 9.2) | i686 | OK | WARNINGS | |
Solaris 2.9 | sparc | OK | OK | |
Linux (SUSE 10.0) | x86_64 | OK | WARNINGS | |
Windows Server 2003 | x86_64 | OK | WARNINGS | OK |
Windows XP | i686 | OK | WARNINGS | skipped |
Mac OS X (10.4.6) | i686 | OK | WARNINGS | |
1.7.2Markus Ruschhaupt | Linux (SUSE 9.2) | x86_64 | OK | OK | |
Linux (SUSE 9.2) | i686 | OK | OK | |
Solaris 2.9 | sparc | OK | OK | |
Linux (SUSE 10.0) | x86_64 | OK | OK | |
Windows Server 2003 | x86_64 | OK | ERROR | OK |
Windows XP | i686 | OK | ERROR | skipped |
Mac OS X (10.4.6) | i686 | OK | ERROR | |
1.5.0Beiying Ding | Linux (SUSE 9.2) | x86_64 | OK | OK | |
Linux (SUSE 9.2) | i686 | OK | OK | |
Solaris 2.9 | sparc | OK | OK | |
Linux (SUSE 10.0) | x86_64 | OK | OK | |
Windows Server 2003 | x86_64 | OK | OK | OK |
Windows XP | i686 | OK | OK | skipped |
Mac OS X (10.4.6) | i686 | OK | OK | |
2.5.0Xiaogang Zhong | Linux (SUSE 9.2) | x86_64 | OK | WARNINGS | |
Linux (SUSE 9.2) | i686 | OK | WARNINGS | |
Solaris 2.9 | sparc | OK | OK | |
Linux (SUSE 10.0) | x86_64 | OK | WARNINGS | |
Windows Server 2003 | x86_64 | OK | WARNINGS | OK |
Windows XP | i686 | OK | WARNINGS | skipped |
Mac OS X (10.4.6) | i686 | OK | WARNINGS | |
1.5.4Hyungwon Choi | Linux (SUSE 9.2) | x86_64 | OK | OK | |
Linux (SUSE 9.2) | i686 | OK | OK | |
Solaris 2.9 | sparc | OK | OK | |
Linux (SUSE 10.0) | x86_64 | OK | OK | |
Windows Server 2003 | x86_64 | OK | OK | OK |
Windows XP | i686 | OK | OK | skipped |
Mac OS X (10.4.6) | i686 | OK | OK | |
1.1.0Matthias Futschik | Linux (SUSE 9.2) | x86_64 | OK | OK | |
Linux (SUSE 9.2) | i686 | OK | OK | |
Solaris 2.9 | sparc | OK | OK | |
Linux (SUSE 10.0) | x86_64 | OK | OK | |
Windows Server 2003 | x86_64 | OK | OK | OK |
Windows XP | i686 | OK | OK | skipped |
Mac OS X (10.4.6) | i686 | OK | OK | |
1.5.0HyungJun Cho | Linux (SUSE 9.2) | x86_64 | OK | ERROR | |
Linux (SUSE 9.2) | i686 | OK | ERROR | |
Solaris 2.9 | sparc | OK | ERROR | |
Linux (SUSE 10.0) | x86_64 | OK | ERROR | |
Windows Server 2003 | x86_64 | OK | ERROR | OK |
Windows XP | i686 | OK | ERROR | skipped |
Mac OS X (10.4.6) | i686 | OK | ERROR | |
1.5.2V. Carey | Linux (SUSE 9.2) | x86_64 | ERROR | skipped | |
Linux (SUSE 9.2) | i686 | ERROR | skipped | |
Solaris 2.9 | sparc | OK | ERROR | |
Linux (SUSE 10.0) | x86_64 | ERROR | skipped | |
Windows Server 2003 | x86_64 | ERROR | skipped | skipped |
Windows XP | i686 | ERROR | skipped | skipped |
Mac OS X (10.4.6) | i686 | ERROR | skipped | |
1.5.0Xuejun Liu | Linux (SUSE 9.2) | x86_64 | OK | WARNINGS | |
Linux (SUSE 9.2) | i686 | OK | WARNINGS | |
Solaris 2.9 | sparc | OK | OK | |
Linux (SUSE 10.0) | x86_64 | OK | WARNINGS | |
Windows Server 2003 | x86_64 | OK | WARNINGS | OK |
Windows XP | i686 | OK | WARNINGS | skipped |
Mac OS X (10.4.6) | i686 | OK | WARNINGS | |
1.5.0Witold Wolski | Linux (SUSE 9.2) | x86_64 | ERROR | skipped | |
Linux (SUSE 9.2) | i686 | ERROR | skipped | |
Solaris 2.9 | sparc | ERROR | skipped | |
Linux (SUSE 10.0) | x86_64 | ERROR | skipped | |
Windows Server 2003 | x86_64 | ERROR | skipped | skipped |
Windows XP | i686 | ERROR | skipped | skipped |
Mac OS X (10.4.6) | i686 | ERROR | skipped | |
1.3.0Witold Wolski | Linux (SUSE 9.2) | x86_64 | ERROR | skipped | |
Linux (SUSE 9.2) | i686 | ERROR | skipped | |
Solaris 2.9 | sparc | ERROR | skipped | |
Linux (SUSE 10.0) | x86_64 | ERROR | skipped | |
Windows Server 2003 | x86_64 | ERROR | skipped | skipped |
Windows XP | i686 | ERROR | skipped | skipped |
Mac OS X (10.4.6) | i686 | ERROR | skipped | |
1.11.2Katherine S. Pollard | Linux (SUSE 9.2) | x86_64 | OK | WARNINGS | |
Linux (SUSE 9.2) | i686 | OK | WARNINGS | |
Solaris 2.9 | sparc | OK | WARNINGS | |
Linux (SUSE 10.0) | x86_64 | OK | WARNINGS | |
Windows Server 2003 | x86_64 | OK | WARNINGS | OK |
Windows XP | i686 | OK | WARNINGS | skipped |
Mac OS X (10.4.6) | i686 | OK | WARNINGS | |
1.7.14Elizabeth Whalen | Linux (SUSE 9.2) | x86_64 | OK | WARNINGS | |
Linux (SUSE 9.2) | i686 | OK | WARNINGS | |
Solaris 2.9 | sparc | OK | OK | |
Linux (SUSE 10.0) | x86_64 | OK | WARNINGS | |
Windows Server 2003 | x86_64 | OK | WARNINGS | OK |
Windows XP | i686 | OK | WARNINGS | skipped |
Mac OS X (10.4.6) | i686 | OK | WARNINGS | |
1.0.1Florian Markowetz | Linux (SUSE 9.2) | x86_64 | OK | OK | |
Linux (SUSE 9.2) | i686 | OK | OK | |
Solaris 2.9 | sparc | OK | OK | |
Linux (SUSE 10.0) | x86_64 | OK | OK | |
Windows Server 2003 | x86_64 | OK | OK | OK |
Windows XP | i686 | ERROR | skipped | skipped |
Mac OS X (10.4.6) | i686 | OK | ERROR | |
1.9.1Tarca Laurentiu | Linux (SUSE 9.2) | x86_64 | OK | OK | |
Linux (SUSE 9.2) | i686 | OK | OK | |
Solaris 2.9 | sparc | OK | OK | |
Linux (SUSE 10.0) | x86_64 | OK | OK | |
Windows Server 2003 | x86_64 | OK | OK | OK |
Windows XP | i686 | OK | OK | skipped |
Mac OS X (10.4.6) | i686 | OK | OK | |
1.3.0N. Dean | Linux (SUSE 9.2) | x86_64 | OK | OK | |
Linux (SUSE 9.2) | i686 | OK | OK | |
Solaris 2.9 | sparc | OK | OK | |
Linux (SUSE 10.0) | x86_64 | OK | OK | |
Windows Server 2003 | x86_64 | OK | OK | OK |
Windows XP | i686 | OK | OK | skipped |
Mac OS X (10.4.6) | i686 | OK | OK | |
1.7.0Alexander Ploner | Linux (SUSE 9.2) | x86_64 | OK | OK | |
Linux (SUSE 9.2) | i686 | OK | OK | |
Solaris 2.9 | sparc | OK | OK | |
Linux (SUSE 10.0) | x86_64 | OK | OK | |
Windows Server 2003 | x86_64 | OK | OK | OK |
Windows XP | i686 | OK | OK | skipped |
Mac OS X (10.4.6) | i686 | OK | OK | |
0.99.18Benilton Carvalho | Linux (SUSE 9.2) | x86_64 | OK | ERROR | |
Linux (SUSE 9.2) | i686 | OK | ERROR | |
Solaris 2.9 | sparc | OK | ERROR | |
Linux (SUSE 10.0) | x86_64 | OK | ERROR | |
Windows Server 2003 | x86_64 | OK | ERROR | ERROR |
Windows XP | i686 | OK | ERROR | skipped |
Mac OS X (10.4.6) | i686 | OK | ERROR | |
1.9.0Matthias Futschik | Linux (SUSE 9.2) | x86_64 | OK | OK | |
Linux (SUSE 9.2) | i686 | OK | OK | |
Solaris 2.9 | sparc | OK | OK | |
Linux (SUSE 10.0) | x86_64 | OK | OK | |
Windows Server 2003 | x86_64 | OK | OK | OK |
Windows XP | i686 | OK | OK | skipped |
Mac OS X (10.4.6) | i686 | OK | OK | |
1.7.0Matthias Futschik | Linux (SUSE 9.2) | x86_64 | OK | OK | |
Linux (SUSE 9.2) | i686 | OK | OK | |
Solaris 2.9 | sparc | OK | OK | |
Linux (SUSE 10.0) | x86_64 | OK | OK | |
Windows Server 2003 | x86_64 | OK | OK | OK |
Windows XP | i686 | OK | OK | skipped |
Mac OS X (10.4.6) | i686 | OK | OK | |
1.9.0Vince Carey | Linux (SUSE 9.2) | x86_64 | OK | OK | |
Linux (SUSE 9.2) | i686 | OK | OK | |
Solaris 2.9 | sparc | OK | OK | |
Linux (SUSE 10.0) | x86_64 | OK | OK | |
Windows Server 2003 | x86_64 | OK | WARNINGS | OK |
Windows XP | i686 | OK | WARNINGS | skipped |
Mac OS X (10.4.6) | i686 | OK | OK | |
1.5.2Claudio Lottaz | Linux (SUSE 9.2) | x86_64 | OK | OK | |
Linux (SUSE 9.2) | i686 | OK | OK | |
Solaris 2.9 | sparc | ERROR | skipped | |
Linux (SUSE 10.0) | x86_64 | OK | OK | |
Windows Server 2003 | x86_64 | OK | OK | OK |
Windows XP | i686 | OK | OK | skipped |
Mac OS X (10.4.6) | i686 | OK | OK | |
1.7.0Witold Wolski | Linux (SUSE 9.2) | x86_64 | OK | WARNINGS | |
Linux (SUSE 9.2) | i686 | OK | WARNINGS | |
Solaris 2.9 | sparc | OK | OK | |
Linux (SUSE 10.0) | x86_64 | OK | WARNINGS | |
Windows Server 2003 | x86_64 | OK | WARNINGS | OK |
Windows XP | i686 | OK | WARNINGS | skipped |
Mac OS X (10.4.6) | i686 | OK | WARNINGS | |
1.31.0Rob TIbshirani | Linux (SUSE 9.2) | x86_64 | OK | OK | |
Linux (SUSE 9.2) | i686 | OK | OK | |
Solaris 2.9 | sparc | OK | OK | |
Linux (SUSE 10.0) | x86_64 | OK | OK | |
Windows Server 2003 | x86_64 | OK | OK | OK |
Windows XP | i686 | OK | OK | skipped |
Mac OS X (10.4.6) | i686 | OK | OK | |
1.3.0Peter Warren | Linux (SUSE 9.2) | x86_64 | OK | OK | |
Linux (SUSE 9.2) | i686 | OK | OK | |
Solaris 2.9 | sparc | OK | OK | |
Linux (SUSE 10.0) | x86_64 | OK | OK | |
Windows Server 2003 | x86_64 | OK | OK | OK |
Windows XP | i686 | OK | OK | skipped |
Mac OS X (10.4.6) | i686 | OK | OK | |
1.1.0Li Long | Linux (SUSE 9.2) | x86_64 | OK | OK | |
Linux (SUSE 9.2) | i686 | OK | OK | |
Solaris 2.9 | sparc | OK | OK | |
Linux (SUSE 10.0) | x86_64 | OK | OK | |
Windows Server 2003 | x86_64 | OK | WARNINGS | OK |
Windows XP | i686 | OK | WARNINGS | skipped |
Mac OS X (10.4.6) | i686 | OK | ERROR | |
1.1.1Sarah Song | Linux (SUSE 9.2) | x86_64 | OK | OK | |
Linux (SUSE 9.2) | i686 | OK | OK | |
Solaris 2.9 | sparc | OK | OK | |
Linux (SUSE 10.0) | x86_64 | OK | OK | |
Windows Server 2003 | x86_64 | OK | OK | OK |
Windows XP | i686 | OK | OK | skipped |
Mac OS X (10.4.6) | i686 | OK | OK | |
1.5.0James W. MacDonald | Linux (SUSE 9.2) | x86_64 | OK | OK | |
Linux (SUSE 9.2) | i686 | OK | OK | |
Solaris 2.9 | sparc | OK | OK | |
Linux (SUSE 10.0) | x86_64 | OK | OK | |
Windows Server 2003 | x86_64 | OK | OK | OK |
Windows XP | i686 | OK | OK | skipped |
Mac OS X (10.4.6) | i686 | OK | OK | |
1.5.2Johannes Rainer | Linux (SUSE 9.2) | x86_64 | OK | WARNINGS | |
Linux (SUSE 9.2) | i686 | OK | WARNINGS | |
Solaris 2.9 | sparc | OK | OK | |
Linux (SUSE 10.0) | x86_64 | OK | WARNINGS | |
Windows Server 2003 | x86_64 | OK | ERROR | ERROR |
Windows XP | i686 | OK | ERROR | skipped |
Mac OS X (10.4.6) | i686 | OK | ERROR | |
1.5.0Brian S. Yandell | Linux (SUSE 9.2) | x86_64 | OK | WARNINGS | |
Linux (SUSE 9.2) | i686 | OK | WARNINGS | |
Solaris 2.9 | sparc | OK | OK | |
Linux (SUSE 10.0) | x86_64 | OK | WARNINGS | |
Windows Server 2003 | x86_64 | OK | WARNINGS | OK |
Windows XP | i686 | OK | WARNINGS | skipped |
Mac OS X (10.4.6) | i686 | OK | WARNINGS | |
0.0.4Seth Falcon | Linux (SUSE 9.2) | x86_64 | OK | WARNINGS | |
Linux (SUSE 9.2) | i686 | OK | WARNINGS | |
Solaris 2.9 | sparc | OK | WARNINGS | |
Linux (SUSE 10.0) | x86_64 | OK | WARNINGS | |
Windows Server 2003 | x86_64 | OK | ERROR | OK |
Windows XP | i686 | OK | ERROR | skipped |
Mac OS X (10.4.6) | i686 | OK | WARNINGS | |
1.5.0Mattia Pelizzola | Linux (SUSE 9.2) | x86_64 | OK | OK | |
Linux (SUSE 9.2) | i686 | OK | OK | |
Solaris 2.9 | sparc | OK | OK | |
Linux (SUSE 10.0) | x86_64 | OK | OK | |
Windows Server 2003 | x86_64 | OK | OK | OK |
Windows XP | i686 | OK | OK | skipped |
Mac OS X (10.4.6) | i686 | OK | OK | |
1.3.2Crispin Miller | Linux (SUSE 9.2) | x86_64 | OK | OK | |
Linux (SUSE 9.2) | i686 | OK | OK | |
Solaris 2.9 | sparc | OK | OK | |
Linux (SUSE 10.0) | x86_64 | OK | OK | |
Windows Server 2003 | x86_64 | OK | OK | OK |
Windows XP | i686 | OK | OK | skipped |
Mac OS X (10.4.6) | i686 | OK | ERROR | |
1.9.8Florian Hahne | Linux (SUSE 9.2) | x86_64 | OK | WARNINGS | |
Linux (SUSE 9.2) | i686 | OK | WARNINGS | |
Solaris 2.9 | sparc | OK | OK | |
Linux (SUSE 10.0) | x86_64 | OK | WARNINGS | |
Windows Server 2003 | x86_64 | OK | WARNINGS | OK |
Windows XP | i686 | OK | WARNINGS | skipped |
Mac OS X (10.4.6) | i686 | OK | WARNINGS | |
0.1.1Raphael Gottardo | Linux (SUSE 9.2) | x86_64 | OK | WARNINGS | |
Linux (SUSE 9.2) | i686 | OK | WARNINGS | |
Solaris 2.9 | sparc | OK | OK | |
Linux (SUSE 10.0) | x86_64 | OK | WARNINGS | |
Windows Server 2003 | x86_64 | ERROR | skipped | skipped |
Windows XP | i686 | ERROR | skipped | skipped |
Mac OS X (10.4.6) | i686 | ERROR | skipped | |
1.9.2Xiaochun Li | Linux (SUSE 9.2) | x86_64 | OK | OK | |
Linux (SUSE 9.2) | i686 | OK | OK | |
Solaris 2.9 | sparc | OK | OK | |
Linux (SUSE 10.0) | x86_64 | OK | OK | |
Windows Server 2003 | x86_64 | OK | OK | OK |
Windows XP | i686 | OK | OK | skipped |
Mac OS X (10.4.6) | i686 | OK | OK | |
0.9.4Jan Oosting | Linux (SUSE 9.2) | x86_64 | OK | OK | |
Linux (SUSE 9.2) | i686 | OK | OK | |
Solaris 2.9 | sparc | OK | OK | |
Linux (SUSE 10.0) | x86_64 | OK | OK | |
Windows Server 2003 | x86_64 | OK | OK | OK |
Windows XP | i686 | OK | OK | skipped |
Mac OS X (10.4.6) | i686 | OK | OK | |
1.7.0John D. Storey | Linux (SUSE 9.2) | x86_64 | OK | OK | |
Linux (SUSE 9.2) | i686 | OK | OK | |
Solaris 2.9 | sparc | OK | OK | |
Linux (SUSE 10.0) | x86_64 | OK | OK | |
Windows Server 2003 | x86_64 | OK | OK | OK |
Windows XP | i686 | OK | OK | skipped |
Mac OS X (10.4.6) | i686 | OK | OK | |
1.5.0Raphael Gottardo | Linux (SUSE 9.2) | x86_64 | OK | OK | |
Linux (SUSE 9.2) | i686 | OK | OK | |
Solaris 2.9 | sparc | OK | OK | |
Linux (SUSE 10.0) | x86_64 | OK | OK | |
Windows Server 2003 | x86_64 | OK | OK | OK |
Windows XP | i686 | OK | OK | skipped |
Mac OS X (10.4.6) | i686 | OK | OK | |
2.5.0Fangxin Hong | Linux (SUSE 9.2) | x86_64 | OK | OK | |
Linux (SUSE 9.2) | i686 | OK | OK | |
Solaris 2.9 | sparc | OK | OK | |
Linux (SUSE 10.0) | x86_64 | OK | OK | |
Windows Server 2003 | x86_64 | OK | OK | OK |
Windows XP | i686 | OK | OK | skipped |
Mac OS X (10.4.6) | i686 | OK | OK | |
1.9.9Li Long | Linux (SUSE 9.2) | x86_64 | OK | OK | |
Linux (SUSE 9.2) | i686 | OK | OK | |
Solaris 2.9 | sparc | TIMEOUT | skipped | |
Linux (SUSE 10.0) | x86_64 | OK | OK | |
Windows Server 2003 | x86_64 | OK | WARNINGS | OK |
Windows XP | i686 | OK | WARNINGS | skipped |
Mac OS X (10.4.6) | i686 | OK | ERROR | |
1.7.0Jianhua Zhang | Linux (SUSE 9.2) | x86_64 | OK | OK | |
Linux (SUSE 9.2) | i686 | OK | OK | |
Solaris 2.9 | sparc | OK | OK | |
Linux (SUSE 10.0) | x86_64 | OK | OK | |
Windows Server 2003 | x86_64 | OK | OK | OK |
Windows XP | i686 | OK | OK | skipped |
Mac OS X (10.4.6) | i686 | OK | OK | |
1.7.2Jianhua Zhang | Linux (SUSE 9.2) | x86_64 | OK | WARNINGS | |
Linux (SUSE 9.2) | i686 | OK | WARNINGS | |
Solaris 2.9 | sparc | OK | WARNINGS | |
Linux (SUSE 10.0) | x86_64 | OK | WARNINGS | |
Windows Server 2003 | x86_64 | OK | ERROR | ERROR |
Windows XP | i686 | OK | ERROR | skipped |
Mac OS X (10.4.6) | i686 | OK | ERROR | |
1.5.1Karl J. Dykema | Linux (SUSE 9.2) | x86_64 | OK | OK | |
Linux (SUSE 9.2) | i686 | OK | OK | |
Solaris 2.9 | sparc | OK | OK | |
Linux (SUSE 10.0) | x86_64 | OK | OK | |
Windows Server 2003 | x86_64 | OK | OK | OK |
Windows XP | i686 | OK | OK | skipped |
Mac OS X (10.4.6) | i686 | OK | OK | |
1.7.0Jianhua Zhang | Linux (SUSE 9.2) | x86_64 | OK | OK | |
Linux (SUSE 9.2) | i686 | OK | OK | |
Solaris 2.9 | sparc | OK | OK | |
Linux (SUSE 10.0) | x86_64 | OK | OK | |
Windows Server 2003 | x86_64 | OK | OK | OK |
Windows XP | i686 | OK | OK | skipped |
Mac OS X (10.4.6) | i686 | ERROR | skipped | |
1.5.2N. Le Meur | Linux (SUSE 9.2) | x86_64 | OK | OK | |
Linux (SUSE 9.2) | i686 | OK | OK | |
Solaris 2.9 | sparc | OK | OK | |
Linux (SUSE 10.0) | x86_64 | OK | OK | |
Windows Server 2003 | x86_64 | OK | OK | OK |
Windows XP | i686 | OK | OK | skipped |
Mac OS X (10.4.6) | i686 | OK | OK | |
1.5.5N. Le Meur | Linux (SUSE 9.2) | x86_64 | ERROR | skipped | |
Linux (SUSE 9.2) | i686 | ERROR | skipped | |
Solaris 2.9 | sparc | OK | WARNINGS | |
Linux (SUSE 10.0) | x86_64 | ERROR | skipped | |
Windows Server 2003 | x86_64 | ERROR | skipped | skipped |
Windows XP | i686 | ERROR | skipped | skipped |
Mac OS X (10.4.6) | i686 | ERROR | skipped | |
1.11.10Jeff Gentry | Linux (SUSE 9.2) | x86_64 | OK | WARNINGS | |
Linux (SUSE 9.2) | i686 | OK | WARNINGS | |
Solaris 2.9 | sparc | OK | WARNINGS | |
Linux (SUSE 10.0) | x86_64 | OK | WARNINGS | |
Windows Server 2003 | x86_64 | OK | WARNINGS | OK |
Windows XP | i686 | OK | WARNINGS | skipped |
Mac OS X (10.4.6) | i686 | OK | ERROR | |
1.7.0Biocore Team | Linux (SUSE 9.2) | x86_64 | ERROR | skipped | |
Linux (SUSE 9.2) | i686 | ERROR | skipped | |
Solaris 2.9 | sparc | OK | OK | |
Linux (SUSE 10.0) | x86_64 | ERROR | skipped | |
Windows Server 2003 | x86_64 | ERROR | skipped | skipped |
Windows XP | i686 | ERROR | skipped | skipped |
Mac OS X (10.4.6) | i686 | ERROR | skipped | |
0.11.0Nusrat Rabbee | Linux (SUSE 9.2) | x86_64 | OK | OK | |
Linux (SUSE 9.2) | i686 | OK | OK | |
Solaris 2.9 | sparc | OK | OK | |
Linux (SUSE 10.0) | x86_64 | OK | OK | |
Windows Server 2003 | x86_64 | OK | OK | OK |
Windows XP | i686 | OK | OK | skipped |
Mac OS X (10.4.6) | i686 | OK | OK | |
2.7.0Steffen Durinck | Linux (SUSE 9.2) | x86_64 | OK | WARNINGS | |
Linux (SUSE 9.2) | i686 | OK | WARNINGS | |
Solaris 2.9 | sparc | ERROR | skipped | |
Linux (SUSE 10.0) | x86_64 | OK | WARNINGS | |
Windows Server 2003 | x86_64 | ERROR | skipped | skipped |
Windows XP | i686 | ERROR | skipped | skipped |
Mac OS X (10.4.6) | i686 | ERROR | skipped | |
1.3.0VJ Carey | Linux (SUSE 9.2) | x86_64 | OK | OK | |
Linux (SUSE 9.2) | i686 | OK | OK | |
Solaris 2.9 | sparc | OK | OK | |
Linux (SUSE 10.0) | x86_64 | OK | OK | |
Windows Server 2003 | x86_64 | OK | OK | OK |
Windows XP | i686 | OK | OK | skipped |
Mac OS X (10.4.6) | i686 | OK | OK | |
1.7.0Vince Carey | Linux (SUSE 9.2) | x86_64 | OK | OK | |
Linux (SUSE 9.2) | i686 | OK | OK | |
Solaris 2.9 | sparc | OK | OK | |
Linux (SUSE 10.0) | x86_64 | OK | OK | |
Windows Server 2003 | x86_64 | OK | OK | OK |
Windows XP | i686 | OK | OK | skipped |
Mac OS X (10.4.6) | i686 | OK | OK | |
0.0.0H. Pages | Linux (SUSE 9.2) | x86_64 | OK | ERROR | |
Linux (SUSE 9.2) | i686 | OK | ERROR | |
Solaris 2.9 | sparc | OK | ERROR | |
Linux (SUSE 10.0) | x86_64 | OK | ERROR | |
Windows Server 2003 | x86_64 | OK | ERROR | ERROR |
Windows XP | i686 | OK | ERROR | skipped |
Mac OS X (10.4.6) | i686 | OK | ERROR | |
1.1.3VJ Carey | Linux (SUSE 9.2) | x86_64 | OK | WARNINGS | |
Linux (SUSE 9.2) | i686 | OK | ERROR | |
Solaris 2.9 | sparc | ERROR | skipped | |
Linux (SUSE 10.0) | x86_64 | OK | WARNINGS | |
Windows Server 2003 | x86_64 | OK | WARNINGS | OK |
Windows XP | i686 | OK | WARNINGS | skipped |
Mac OS X (10.4.6) | i686 | ERROR | skipped | |
1.6.2VJ Carey | Linux (SUSE 9.2) | x86_64 | ERROR | skipped | |
Linux (SUSE 9.2) | i686 | ERROR | skipped | |
Solaris 2.9 | sparc | ERROR | skipped | |
Linux (SUSE 10.0) | x86_64 | ERROR | skipped | |
Windows Server 2003 | x86_64 | ERROR | skipped | skipped |
Windows XP | i686 | ERROR | skipped | skipped |
Mac OS X (10.4.6) | i686 | ERROR | skipped | |
1.11.2Biocore Team | Linux (SUSE 9.2) | x86_64 | OK | WARNINGS | |
Linux (SUSE 9.2) | i686 | OK | WARNINGS | |
Solaris 2.9 | sparc | OK | OK | |
Linux (SUSE 10.0) | x86_64 | OK | WARNINGS | |
Windows Server 2003 | x86_64 | OK | WARNINGS | OK |
Windows XP | i686 | OK | WARNINGS | skipped |
Mac OS X (10.4.6) | i686 | OK | WARNINGS | |
1.5.0William T. Barry | Linux (SUSE 9.2) | x86_64 | OK | OK | |
Linux (SUSE 9.2) | i686 | OK | OK | |
Solaris 2.9 | sparc | OK | OK | |
Linux (SUSE 10.0) | x86_64 | OK | OK | |
Windows Server 2003 | x86_64 | OK | OK | OK |
Windows XP | i686 | OK | OK | skipped |
Mac OS X (10.4.6) | i686 | OK | OK | |
1.11.0Jianhua Zhang | Linux (SUSE 9.2) | x86_64 | OK | OK | |
Linux (SUSE 9.2) | i686 | OK | OK | |
Solaris 2.9 | sparc | OK | OK | |
Linux (SUSE 10.0) | x86_64 | OK | OK | |
Windows Server 2003 | x86_64 | OK | ERROR | OK |
Windows XP | i686 | OK | ERROR | skipped |
Mac OS X (10.4.6) | i686 | ERROR | skipped | |
1.5.0Tim Beissbarth | Linux (SUSE 9.2) | x86_64 | OK | OK | |
Linux (SUSE 9.2) | i686 | OK | OK | |
Solaris 2.9 | sparc | OK | OK | |
Linux (SUSE 10.0) | x86_64 | OK | OK | |
Windows Server 2003 | x86_64 | OK | OK | OK |
Windows XP | i686 | OK | OK | skipped |
Mac OS X (10.4.6) | i686 | OK | OK | |
1.6-4Per Broberg | Linux (SUSE 9.2) | x86_64 | OK | WARNINGS | |
Linux (SUSE 9.2) | i686 | OK | WARNINGS | |
Solaris 2.9 | sparc | OK | OK | |
Linux (SUSE 10.0) | x86_64 | OK | WARNINGS | |
Windows Server 2003 | x86_64 | OK | WARNINGS | OK |
Windows XP | i686 | OK | WARNINGS | skipped |
Mac OS X (10.4.6) | i686 | OK | WARNINGS | |
1.27.0Tomas Radivoyevitch | Linux (SUSE 9.2) | x86_64 | OK | OK | |
Linux (SUSE 9.2) | i686 | OK | OK | |
Solaris 2.9 | sparc | OK | OK | |
Linux (SUSE 10.0) | x86_64 | OK | OK | |
Windows Server 2003 | x86_64 | OK | WARNINGS | OK |
Windows XP | i686 | OK | WARNINGS | skipped |
Mac OS X (10.4.6) | i686 | OK | OK | |
1.3.2Tony Chiang | Linux (SUSE 9.2) | x86_64 | OK | WARNINGS | |
Linux (SUSE 9.2) | i686 | OK | WARNINGS | |
Solaris 2.9 | sparc | OK | OK | |
Linux (SUSE 10.0) | x86_64 | OK | WARNINGS | |
Windows Server 2003 | x86_64 | OK | WARNINGS | OK |
Windows XP | i686 | OK | WARNINGS | skipped |
Mac OS X (10.4.6) | i686 | OK | WARNINGS | |
1.7.1Holger Schwender | Linux (SUSE 9.2) | x86_64 | OK | WARNINGS | |
Linux (SUSE 9.2) | i686 | OK | WARNINGS | |
Solaris 2.9 | sparc | OK | OK | |
Linux (SUSE 10.0) | x86_64 | OK | WARNINGS | |
Windows Server 2003 | x86_64 | OK | WARNINGS | OK |
Windows XP | i686 | OK | WARNINGS | skipped |
Mac OS X (10.4.6) | i686 | OK | WARNINGS | |
1.1.7Weil Lai | Linux (SUSE 9.2) | x86_64 | OK | OK | |
Linux (SUSE 9.2) | i686 | OK | OK | |
Solaris 2.9 | sparc | OK | OK | |
Linux (SUSE 10.0) | x86_64 | OK | OK | |
Windows Server 2003 | x86_64 | OK | OK | OK |
Windows XP | i686 | OK | OK | skipped |
Mac OS X (10.4.6) | i686 | OK | OK | |
2.7.0Crispin Miller | Linux (SUSE 9.2) | x86_64 | OK | WARNINGS | |
Linux (SUSE 9.2) | i686 | OK | WARNINGS | |
Solaris 2.9 | sparc | OK | OK | |
Linux (SUSE 10.0) | x86_64 | OK | WARNINGS | |
Windows Server 2003 | x86_64 | OK | WARNINGS | OK |
Windows XP | i686 | OK | WARNINGS | skipped |
Mac OS X (10.4.6) | i686 | OK | WARNINGS | |
1.5.0Tony Chiang | Linux (SUSE 9.2) | x86_64 | OK | OK | |
Linux (SUSE 9.2) | i686 | OK | OK | |
Solaris 2.9 | sparc | OK | OK | |
Linux (SUSE 10.0) | x86_64 | OK | OK | |
Windows Server 2003 | x86_64 | OK | WARNINGS | OK |
Windows XP | i686 | OK | WARNINGS | skipped |
Mac OS X (10.4.6) | i686 | OK | OK | |
1.3.0Weiliang Qiu | Linux (SUSE 9.2) | x86_64 | OK | OK | |
Linux (SUSE 9.2) | i686 | OK | OK | |
Solaris 2.9 | sparc | OK | OK | |
Linux (SUSE 10.0) | x86_64 | OK | OK | |
Windows Server 2003 | x86_64 | OK | OK | OK |
Windows XP | i686 | OK | OK | skipped |
Mac OS X (10.4.6) | i686 | OK | OK | |
1.7.0Denise Scholtens | Linux (SUSE 9.2) | x86_64 | ERROR | skipped | |
Linux (SUSE 9.2) | i686 | ERROR | skipped | |
Solaris 2.9 | sparc | ERROR | skipped | |
Linux (SUSE 10.0) | x86_64 | ERROR | skipped | |
Windows Server 2003 | x86_64 | ERROR | skipped | skipped |
Windows XP | i686 | ERROR | skipped | skipped |
Mac OS X (10.4.6) | i686 | ERROR | skipped | |
1.1.7Mike Smith | Linux (SUSE 9.2) | x86_64 | OK | WARNINGS | |
Linux (SUSE 9.2) | i686 | OK | WARNINGS | |
Solaris 2.9 | sparc | OK | OK | |
Linux (SUSE 10.0) | x86_64 | OK | WARNINGS | |
Windows Server 2003 | x86_64 | OK | WARNINGS | OK |
Windows XP | i686 | OK | WARNINGS | skipped |
Mac OS X (10.4.6) | i686 | OK | WARNINGS | |
0.1.17Robert Scharpf | Linux (SUSE 9.2) | x86_64 | OK | ERROR | |
Linux (SUSE 9.2) | i686 | OK | ERROR | |
Solaris 2.9 | sparc | OK | ERROR | |
Linux (SUSE 10.0) | x86_64 | OK | ERROR | |
Windows Server 2003 | x86_64 | OK | ERROR | ERROR |
Windows XP | i686 | OK | ERROR | skipped |
Mac OS X (10.4.6) | i686 | OK | ERROR | |
1.1.0Enrico Carlon | Linux (SUSE 9.2) | x86_64 | OK | WARNINGS | |
Linux (SUSE 9.2) | i686 | OK | WARNINGS | |
Solaris 2.9 | sparc | OK | OK | |
Linux (SUSE 10.0) | x86_64 | OK | WARNINGS | |
Windows Server 2003 | x86_64 | OK | WARNINGS | OK |
Windows XP | i686 | OK | WARNINGS | skipped |
Mac OS X (10.4.6) | i686 | OK | WARNINGS | |
1.5.0Laurent | Linux (SUSE 9.2) | x86_64 | OK | ERROR | |
Linux (SUSE 9.2) | i686 | OK | ERROR | |
Solaris 2.9 | sparc | OK | WARNINGS | |
Linux (SUSE 10.0) | x86_64 | OK | ERROR | |
Windows Server 2003 | x86_64 | OK | WARNINGS | OK |
Windows XP | i686 | OK | WARNINGS | skipped |
Mac OS X (10.4.6) | i686 | OK | WARNINGS | |
0.9.1Oleg Sklyar | Linux (SUSE 9.2) | x86_64 | OK | OK | |
Linux (SUSE 9.2) | i686 | OK | OK | |
Solaris 2.9 | sparc | OK | OK | |
Linux (SUSE 10.0) | x86_64 | OK | OK | |
Windows Server 2003 | x86_64 | OK | OK | OK |
Windows XP | i686 | OK | OK | skipped |
Mac OS X (10.4.6) | i686 | OK | OK | |
1.5.0Chris Fraley | Linux (SUSE 9.2) | x86_64 | OK | OK | |
Linux (SUSE 9.2) | i686 | OK | OK | |
Solaris 2.9 | sparc | OK | OK | |
Linux (SUSE 10.0) | x86_64 | OK | OK | |
Windows Server 2003 | x86_64 | OK | OK | OK |
Windows XP | i686 | OK | OK | skipped |
Mac OS X (10.4.6) | i686 | OK | OK | |
1.5.2Richard Kennedy | Linux (SUSE 9.2) | x86_64 | OK | OK | |
Linux (SUSE 9.2) | i686 | OK | OK | |
Solaris 2.9 | sparc | OK | OK | |
Linux (SUSE 10.0) | x86_64 | OK | OK | |
Windows Server 2003 | x86_64 | OK | OK | OK |
Windows XP | i686 | OK | OK | skipped |
Mac OS X (10.4.6) | i686 | OK | OK | |
1.5.0Gregory R. Warnes | Linux (SUSE 9.2) | x86_64 | OK | OK | |
Linux (SUSE 9.2) | i686 | OK | OK | |
Solaris 2.9 | sparc | OK | OK | |
Linux (SUSE 10.0) | x86_64 | OK | OK | |
Windows Server 2003 | x86_64 | OK | OK | OK |
Windows XP | i686 | OK | OK | skipped |
Mac OS X (10.4.6) | i686 | OK | OK | |
1.5.2Claudio Lottaz | Linux (SUSE 9.2) | x86_64 | OK | OK | |
Linux (SUSE 9.2) | i686 | OK | OK | |
Solaris 2.9 | sparc | OK | TIMEOUT | |
Linux (SUSE 10.0) | x86_64 | OK | OK | |
Windows Server 2003 | x86_64 | OK | OK | OK |
Windows XP | i686 | OK | OK | skipped |
Mac OS X (10.4.6) | i686 | OK | OK | |
1.5.0Yuanyuan Xiao | Linux (SUSE 9.2) | x86_64 | OK | WARNINGS | |
Linux (SUSE 9.2) | i686 | OK | WARNINGS | |
Solaris 2.9 | sparc | OK | OK | |
Linux (SUSE 10.0) | x86_64 | OK | WARNINGS | |
Windows Server 2003 | x86_64 | OK | WARNINGS | OK |
Windows XP | i686 | OK | WARNINGS | skipped |
Mac OS X (10.4.6) | i686 | OK | WARNINGS | |
1.11.12W. Huber | Linux (SUSE 9.2) | x86_64 | OK | WARNINGS | |
Linux (SUSE 9.2) | i686 | OK | WARNINGS | |
Solaris 2.9 | sparc | OK | OK | |
Linux (SUSE 10.0) | x86_64 | OK | WARNINGS | |
Windows Server 2003 | x86_64 | OK | WARNINGS | OK |
Windows XP | i686 | OK | WARNINGS | skipped |
Mac OS X (10.4.6) | i686 | OK | WARNINGS | |
1.5.0Yu Chuan Tai | Linux (SUSE 9.2) | x86_64 | OK | OK | |
Linux (SUSE 9.2) | i686 | OK | OK | |
Solaris 2.9 | sparc | OK | OK | |
Linux (SUSE 10.0) | x86_64 | OK | OK | |
Windows Server 2003 | x86_64 | OK | OK | OK |
Windows XP | i686 | OK | OK | skipped |
Mac OS X (10.4.6) | i686 | OK | OK | |
1.11.2J. Zhang | Linux (SUSE 9.2) | x86_64 | OK | OK | |
Linux (SUSE 9.2) | i686 | OK | OK | |
Solaris 2.9 | sparc | OK | OK | |
Linux (SUSE 10.0) | x86_64 | OK | OK | |
Windows Server 2003 | x86_64 | OK | WARNINGS | OK |
Windows XP | i686 | OK | WARNINGS | skipped |
Mac OS X (10.4.6) | i686 | OK | OK | |
1.9.2Stefanie Scheid | Linux (SUSE 9.2) | x86_64 | OK | WARNINGS | |
Linux (SUSE 9.2) | i686 | OK | WARNINGS | |
Solaris 2.9 | sparc | OK | OK | |
Linux (SUSE 10.0) | x86_64 | OK | WARNINGS | |
Windows Server 2003 | x86_64 | OK | WARNINGS | OK |
Windows XP | i686 | OK | WARNINGS | skipped |
Mac OS X (10.4.6) | i686 | OK | WARNINGS | |
0.3.1Duncan Temple Lang | Linux (SUSE 9.2) | x86_64 | OK | WARNINGS | |
Linux (SUSE 9.2) | i686 | OK | WARNINGS | |
Solaris 2.9 | sparc | OK | WARNINGS | |
Linux (SUSE 10.0) | x86_64 | OK | WARNINGS | |
Windows Server 2003 | x86_64 | OK | WARNINGS | OK |
Windows XP | i686 | OK | WARNINGS | skipped |
Mac OS X (10.4.6) | i686 | OK | WARNINGS | |
1.11.2Wolfgang Huber | Linux (SUSE 9.2) | x86_64 | ERROR | skipped | |
Linux (SUSE 9.2) | i686 | ERROR | skipped | |
Solaris 2.9 | sparc | OK | OK | |
Linux (SUSE 10.0) | x86_64 | ERROR | skipped | |
Windows Server 2003 | x86_64 | ERROR | skipped | skipped |
Windows XP | i686 | ERROR | skipped | skipped |
Mac OS X (10.4.6) | i686 | ERROR | skipped | |
0.1.3Seth Falcon | Linux (SUSE 9.2) | x86_64 | OK | WARNINGS | |
Linux (SUSE 9.2) | i686 | OK | WARNINGS | |
Solaris 2.9 | sparc | OK | WARNINGS | |
Linux (SUSE 10.0) | x86_64 | OK | WARNINGS | |
Windows Server 2003 | x86_64 | OK | WARNINGS | OK |
Windows XP | i686 | OK | WARNINGS | skipped |
Mac OS X (10.4.6) | i686 | OK | WARNINGS | |
1.5.0Colin A. Smith | Linux (SUSE 9.2) | x86_64 | OK | WARNINGS | |
Linux (SUSE 9.2) | i686 | OK | WARNINGS | |
Solaris 2.9 | sparc | OK | OK | |
Linux (SUSE 10.0) | x86_64 | OK | WARNINGS | |
Windows Server 2003 | x86_64 | OK | WARNINGS | OK |
Windows XP | i686 | OK | WARNINGS | skipped |
Mac OS X (10.4.6) | i686 | OK | WARNINGS | |
1.5.0Jeff Gentry | Linux (SUSE 9.2) | x86_64 | OK | OK | |
Linux (SUSE 9.2) | i686 | OK | OK | |
Solaris 2.9 | sparc | OK | OK | |
Linux (SUSE 10.0) | x86_64 | OK | OK | |
Windows Server 2003 | x86_64 | ERROR | skipped | skipped |
Windows XP | i686 | ERROR | skipped | skipped |
Mac OS X (10.4.6) | i686 | ERROR | skipped | |
1.9.1Jianhua Zhang | Linux (SUSE 9.2) | x86_64 | OK | OK | |
Linux (SUSE 9.2) | i686 | OK | OK | |
Solaris 2.9 | sparc | OK | OK | |
Linux (SUSE 10.0) | x86_64 | OK | OK | |
Windows Server 2003 | x86_64 | OK | WARNINGS | OK |
Windows XP | i686 | OK | WARNINGS | skipped |
Mac OS X (10.4.6) | i686 | OK | OK | |
1.5.2Colin A. Smith | Linux (SUSE 9.2) | x86_64 | OK | WARNINGS | |
Linux (SUSE 9.2) | i686 | OK | WARNINGS | |
Solaris 2.9 | sparc | ERROR | skipped | |
Linux (SUSE 10.0) | x86_64 | OK | WARNINGS | |
Windows Server 2003 | x86_64 | OK | WARNINGS | OK |
Windows XP | i686 | OK | WARNINGS | skipped |
Mac OS X (10.4.6) | i686 | OK | WARNINGS | |
1.3.12Tony Chiang | Linux (SUSE 9.2) | x86_64 | OK | WARNINGS | |
Linux (SUSE 9.2) | i686 | OK | WARNINGS | |
Solaris 2.9 | sparc | OK | TIMEOUT | |
Linux (SUSE 10.0) | x86_64 | OK | WARNINGS | |
Windows Server 2003 | x86_64 | OK | WARNINGS | OK |
Windows XP | i686 | OK | WARNINGS | skipped |
Mac OS X (10.4.6) | i686 | OK | WARNINGS | |