* checking for file 'Biostrings/DESCRIPTION' ... OK
* preparing 'Biostrings':
* checking DESCRIPTION meta-information ... OK
* cleaning src
* installing the package to re-build vignettes
* Installing *source* package 'Biostrings' ...
** libs
** arch - i386
gcc-4.0 -arch i386 -I/Library/Frameworks/R.framework/Resources/include -I/Library/Frameworks/R.framework/Resources/include/i386 -msse3 -D__NO_MATH_INLINES -fPIC -g -O2 -std=gnu99 -march=pentium-m -mtune=prescott -c R_init_Biostrings.c -o R_init_Biostrings.o
gcc-4.0 -arch i386 -I/Library/Frameworks/R.framework/Resources/include -I/Library/Frameworks/R.framework/Resources/include/i386 -msse3 -D__NO_MATH_INLINES -fPIC -g -O2 -std=gnu99 -march=pentium-m -mtune=prescott -c alphabetFrequency.c -o alphabetFrequency.o
gcc-4.0 -arch i386 -I/Library/Frameworks/R.framework/Resources/include -I/Library/Frameworks/R.framework/Resources/include/i386 -msse3 -D__NO_MATH_INLINES -fPIC -g -O2 -std=gnu99 -march=pentium-m -mtune=prescott -c bbuf.c -o bbuf.o
gcc-4.0 -arch i386 -I/Library/Frameworks/R.framework/Resources/include -I/Library/Frameworks/R.framework/Resources/include/i386 -msse3 -D__NO_MATH_INLINES -fPIC -g -O2 -std=gnu99 -march=pentium-m -mtune=prescott -c ibuf.c -o ibuf.o
gcc-4.0 -arch i386 -I/Library/Frameworks/R.framework/Resources/include -I/Library/Frameworks/R.framework/Resources/include/i386 -msse3 -D__NO_MATH_INLINES -fPIC -g -O2 -std=gnu99 -march=pentium-m -mtune=prescott -c reverseComplement.c -o reverseComplement.o
gcc-4.0 -arch i386 -I/Library/Frameworks/R.framework/Resources/include -I/Library/Frameworks/R.framework/Resources/include/i386 -msse3 -D__NO_MATH_INLINES -fPIC -g -O2 -std=gnu99 -march=pentium-m -mtune=prescott -c shiftor.c -o shiftor.o
gcc-4.0 -arch i386 -I/Library/Frameworks/R.framework/Resources/include -I/Library/Frameworks/R.framework/Resources/include/i386 -msse3 -D__NO_MATH_INLINES -fPIC -g -O2 -std=gnu99 -march=pentium-m -mtune=prescott -c utils.c -o utils.o
gcc-4.0 -arch i386 -dynamiclib -Wl,-macosx_version_min -Wl,10.3 -undefined dynamic_lookup -single_module -multiply_defined suppress -L/usr/local/lib -o Biostrings.so R_init_Biostrings.o alphabetFrequency.o bbuf.o ibuf.o reverseComplement.o shiftor.o utils.o -L/Library/Frameworks/R.framework/Resources/lib/i386 -lR -dylib_file libRblas.dylib:/Library/Frameworks/R.framework/Resources/lib/i386/libRblas.dylib
** arch - ppc
gcc-4.0 -arch ppc -I/Library/Frameworks/R.framework/Resources/include -I/Library/Frameworks/R.framework/Resources/include/ppc -I/usr/local/include -fPIC -g -O2 -std=gnu99 -c R_init_Biostrings.c -o R_init_Biostrings.o
gcc-4.0 -arch ppc -I/Library/Frameworks/R.framework/Resources/include -I/Library/Frameworks/R.framework/Resources/include/ppc -I/usr/local/include -fPIC -g -O2 -std=gnu99 -c alphabetFrequency.c -o alphabetFrequency.o
gcc-4.0 -arch ppc -I/Library/Frameworks/R.framework/Resources/include -I/Library/Frameworks/R.framework/Resources/include/ppc -I/usr/local/include -fPIC -g -O2 -std=gnu99 -c bbuf.c -o bbuf.o
gcc-4.0 -arch ppc -I/Library/Frameworks/R.framework/Resources/include -I/Library/Frameworks/R.framework/Resources/include/ppc -I/usr/local/include -fPIC -g -O2 -std=gnu99 -c ibuf.c -o ibuf.o
gcc-4.0 -arch ppc -I/Library/Frameworks/R.framework/Resources/include -I/Library/Frameworks/R.framework/Resources/include/ppc -I/usr/local/include -fPIC -g -O2 -std=gnu99 -c reverseComplement.c -o reverseComplement.o
gcc-4.0 -arch ppc -I/Library/Frameworks/R.framework/Resources/include -I/Library/Frameworks/R.framework/Resources/include/ppc -I/usr/local/include -fPIC -g -O2 -std=gnu99 -c shiftor.c -o shiftor.o
gcc-4.0 -arch ppc -I/Library/Frameworks/R.framework/Resources/include -I/Library/Frameworks/R.framework/Resources/include/ppc -I/usr/local/include -fPIC -g -O2 -std=gnu99 -c utils.c -o utils.o
gcc-4.0 -arch ppc -dynamiclib -Wl,-macosx_version_min -Wl,10.3 -undefined dynamic_lookup -single_module -multiply_defined suppress -L/usr/local/lib -o Biostrings.so R_init_Biostrings.o alphabetFrequency.o bbuf.o ibuf.o reverseComplement.o shiftor.o utils.o -L/Library/Frameworks/R.framework/Resources/lib/ppc -lR -dylib_file libRblas.dylib:/Library/Frameworks/R.framework/Resources/lib/ppc/libRblas.dylib
** R
** data
** inst
** save image
Creating a new generic function for 'as.integer' in 'Biostrings'
Creating a new generic function for 'toString' in 'Biostrings'
Creating a new generic function for 'nchar' in 'Biostrings'
Creating a new generic function for 'as.complex' in 'Biostrings'
Creating a new generic function for 'as.matrix' in 'Biostrings'
Creating a new generic function for 'as.list' in 'Biostrings'
Warning message:
in the method signature for function 'BStringViews' no definition for class: "file" in: matchSignature(signature, fdef, where)
** help
>>> Building/Updating help pages for package 'Biostrings'
Formats: text html latex example
BString-class text html latex example
BStringViews-class text html latex example
Biostrings-internals text html latex
alphabetFrequency text html latex example
as.complex text html latex example
blosum50 text html latex example
matchPattern text html latex example
needwunsQS text html latex example
readFASTA text html latex example
reverseComplement text html latex example
yeastSEQCHR1 text html latex example
** building package indices ...
* DONE (Biostrings)
* creating vignettes ... OK
* cleaning src
* removing junk files
* checking for LF line-endings in source files
* checking for empty or unneeded directories
* building 'Biostrings_2.1.6.tar.gz'