1.11.0Jianhua Zhang | Linux (SUSE 9.2) | x86_64 | OK | OK | |
Linux (SUSE 9.2) | i686 | OK | OK | |
Solaris 2.9 | sparc | OK | OK | |
Linux (SUSE 10.0) | x86_64 | OK | OK | |
Windows Server 2003 | x86_64 | OK | ERROR | OK |
Windows XP | i686 | OK | ERROR | skipped |
Mac OS X (10.4.6) | i686 | [ ERROR ] | skipped | |
* checking for file 'SAGElyzer/DESCRIPTION' ... OK
* preparing 'SAGElyzer':
* checking DESCRIPTION meta-information ... OK
* installing the package to re-build vignettes
* Installing *source* package 'SAGElyzer' ...
** R
** data
** exec
** inst
** preparing package for lazy loading
Loading required package: AnnBuilder
Warning in library(pkg, character.only = TRUE, logical = TRUE, lib.loc = lib.loc) :
there is no package called 'AnnBuilder'
Error: package 'AnnBuilder' could not be loaded
Execution halted
ERROR: lazy loading failed for package 'SAGElyzer'
** Removing '/private/tmp/Rinst104244989/SAGElyzer'
ERROR
Installation failed.
Removing '/tmp/Rinst104244989'