1.7.0Witold Wolski | Linux (SUSE 9.2) | x86_64 | OK | WARNINGS | |
Linux (SUSE 9.2) | i686 | OK | WARNINGS | |
Solaris 2.9 | sparc | OK | OK | |
Linux (SUSE 10.0) | x86_64 | OK | WARNINGS | |
Windows Server 2003 | x86_64 | OK | WARNINGS | OK |
Windows XP | i686 | OK | WARNINGS | skipped |
Mac OS X (10.4.6) | i686 | [ OK ] | WARNINGS | |
* checking for file 'pairseqsim/DESCRIPTION' ... OK
* preparing 'pairseqsim':
* checking DESCRIPTION meta-information ... OK
* cleaning src
* checking whether 'INDEX' is up-to-date ... NO
* use '--force' to overwrite the existing 'INDEX'
* installing the package to re-build vignettes
* Installing *source* package 'pairseqsim' ...
** libs
** arch - i386
gcc-4.0 -arch i386 -I/Library/Frameworks/R.framework/Resources/include -I/Library/Frameworks/R.framework/Resources/include/i386 -msse3 -D__NO_MATH_INLINES -fPIC -g -O2 -std=gnu99 -march=pentium-m -mtune=prescott -c align.c -o align.o
gcc-4.0 -arch i386 -I/Library/Frameworks/R.framework/Resources/include -I/Library/Frameworks/R.framework/Resources/include/i386 -msse3 -D__NO_MATH_INLINES -fPIC -g -O2 -std=gnu99 -march=pentium-m -mtune=prescott -c basic.c -o basic.o
gcc-4.0 -arch i386 -I/Library/Frameworks/R.framework/Resources/include -I/Library/Frameworks/R.framework/Resources/include/i386 -msse3 -D__NO_MATH_INLINES -fPIC -g -O2 -std=gnu99 -march=pentium-m -mtune=prescott -c callalign.c -o callalign.o
gcc-4.0 -arch i386 -dynamiclib -Wl,-macosx_version_min -Wl,10.3 -undefined dynamic_lookup -single_module -multiply_defined suppress -L/usr/local/lib -o pairseqsim.so align.o basic.o callalign.o -L/Library/Frameworks/R.framework/Resources/lib/i386 -lR -dylib_file libRblas.dylib:/Library/Frameworks/R.framework/Resources/lib/i386/libRblas.dylib
** arch - ppc
gcc-4.0 -arch ppc -I/Library/Frameworks/R.framework/Resources/include -I/Library/Frameworks/R.framework/Resources/include/ppc -I/usr/local/include -fPIC -g -O2 -std=gnu99 -c align.c -o align.o
gcc-4.0 -arch ppc -I/Library/Frameworks/R.framework/Resources/include -I/Library/Frameworks/R.framework/Resources/include/ppc -I/usr/local/include -fPIC -g -O2 -std=gnu99 -c basic.c -o basic.o
gcc-4.0 -arch ppc -I/Library/Frameworks/R.framework/Resources/include -I/Library/Frameworks/R.framework/Resources/include/ppc -I/usr/local/include -fPIC -g -O2 -std=gnu99 -c callalign.c -o callalign.o
gcc-4.0 -arch ppc -dynamiclib -Wl,-macosx_version_min -Wl,10.3 -undefined dynamic_lookup -single_module -multiply_defined suppress -L/usr/local/lib -o pairseqsim.so align.o basic.o callalign.o -L/Library/Frameworks/R.framework/Resources/lib/ppc -lR -dylib_file libRblas.dylib:/Library/Frameworks/R.framework/Resources/lib/ppc/libRblas.dylib
** R
** data
** inst
** help
>>> Building/Updating help pages for package 'pairseqsim'
Formats: text html latex example
AAAlignment-class text html latex example
AAAlphabet-class text html latex example
AASequence-class text html latex example
AASequence text html latex example
AASequenceList-class text html latex example
EPAM110 text html latex example
Submatrix-class text html latex
listdist-methods text html latex
readFasta-methods text html latex example
salign-methods text html latex example
sequlist text html latex example
testalign-methods text html latex
** building package indices ...
* DONE (pairseqsim)
* creating vignettes ... OK
* cleaning src
* removing junk files
* checking for LF line-endings in source files
* checking for empty or unneeded directories
* building 'pairseqsim_1.7.0.tar.gz'