1.7.9Steffen Durinck | Linux (SUSE 9.2) | x86_64 | OK | OK | |
Linux (SUSE 9.2) | i686 | OK | OK | |
Solaris 2.9 | sparc | OK | OK | |
Linux (SUSE 10.0) | x86_64 | OK | OK | |
Windows Server 2003 | x86_64 | ERROR | skipped | skipped |
Windows XP | i686 | [ ERROR ] | skipped | skipped |
Mac OS X (10.4.6) | i686 | OK | OK | |
* checking for file 'biomaRt/DESCRIPTION' ... OK
* preparing 'biomaRt':
* checking DESCRIPTION meta-information ... OK
* installing the package to re-build vignettes
installing R.css in E:/hpages/1.9d/tmpdir/Rinst260880545
---------- Making package biomaRt ------------
adding build stamp to DESCRIPTION
installing NAMESPACE file and metadata
installing R files
save image
Loading required package: XML
Loading required package: RCurl
Error in loadNamespace(package, c(which.lib.loc, lib.loc), keep.source = keep.source) :
in 'RCurl' methods specified for export, but none defined: pop, push
Error: package 'RCurl' could not be loaded
Execution halted
execution of package source for 'biomaRt' failed
make[2]: *** [E:/hpages/1.9d/tmpdir/Rinst260880545/biomaRt/R/biomaRt] Error 1
make[1]: *** [all] Error 2
make: *** [pkg-biomaRt] Error 2
*** Installation of biomaRt failed ***
Removing 'E:/hpages/1.9d/tmpdir/Rinst260880545/biomaRt'
ERROR
Installation failed.
Removing 'E:/hpages/1.9d/tmpdir/Rinst260880545'