Back to the "Multiple platform build/check report"

Package 18/234HostnameOSArchBUILDCHECKBUILD BIN

AnnotationDbi

0.0.76

Biocore Team
Last Changed Date: 2007-05-21 02:20:20 -0700
Last Changed Rev: 24871
lamb1 Linux (SUSE 10.1) x86_64 [ OK ] ERROR 
wellington Linux (SUSE 9.2) i686  OK  ERROR 
churchill Solaris 2.9 sparc  OK  ERROR 
lemming Windows Server 2003 (32-bit) x64  OK  ERROR  OK 
Package: AnnotationDbi
Version: 0.0.76
Command: /home/biocbuild/bbs-2.1-bioc/R/bin/R CMD build AnnotationDbi
RetCode: 0
Time: 17.5 seconds
Status: OK
PackageFile: AnnotationDbi_0.0.76.tar.gz

Command output

* checking for file 'AnnotationDbi/DESCRIPTION' ... OK
* preparing 'AnnotationDbi':
* checking DESCRIPTION meta-information ... OK
* installing the package to re-build vignettes
* Installing *source* package 'AnnotationDbi' ...
** R
** inst
** preparing package for lazy loading
Loading required package: Biobase
Loading required package: tools

Welcome to Bioconductor

  Vignettes contain introductory material. To view, type
  'openVignette()'. To cite Bioconductor, see
  'citation("Biobase")' and for packages 'citation(pkgname)'.

Loading required package: DBI
Loading required package: RSQLite
Creating a new generic function for "ncol" in "AnnotationDbi"
Creating a new generic function for "colnames" in "AnnotationDbi"
Creating a new generic function for "nrow" in "AnnotationDbi"
Creating a new generic function for "head" in "AnnotationDbi"
Creating a new generic function for "tail" in "AnnotationDbi"
Creating a new generic function for "toString" in "AnnotationDbi"
Creating a new generic function for "rev" in "AnnotationDbi"
Creating a new generic function for "ls" in "AnnotationDbi"
Creating a new generic function for "as.list" in "AnnotationDbi"
Creating a new generic function for "mget" in "AnnotationDbi"
Creating a new generic function for "eapply" in "AnnotationDbi"
Creating a new generic function for "get" in "AnnotationDbi"
Creating a new generic function for "exists" in "AnnotationDbi"
Creating a new generic function for "sample" in "AnnotationDbi"
** help
 >>> Building/Updating help pages for package 'AnnotationDbi'
     Formats: text html latex example 
  AnnDbPkgSeed-class                text    html    latex   example
  GONode-class                      text    html    latex   example
  makeAnnDbPkg                      text    html    latex   example
** building package indices ...
* DONE (AnnotationDbi)
* creating vignettes ... OK
* removing junk files
* checking for LF line-endings in source files
* checking for empty or unneeded directories
WARNING: directory 'AnnotationDbi/inst/AnnDbPkg-templates/GODB/inst/extdata' is empty
WARNING: directory 'AnnotationDbi/inst/AnnDbPkg-templates/HGU95AV2DB/inst/extdata' is empty
WARNING: directory 'AnnotationDbi/inst/AnnDbPkg-templates/LLMAPPINGSDB/inst/extdata' is empty
WARNING: directory 'AnnotationDbi/inst/AnnDbPkg-templates/AFFYHUEXDB/inst/extdata' is empty
WARNING: directory 'AnnotationDbi/inst/AnnDbPkg-templates/YEASTDB/inst/extdata' is empty
* building 'AnnotationDbi_0.0.76.tar.gz'