Back to the "Multiple platform build/check report" A  B  C  D  E  F [G] H  I  J  K  L  M  N  O  P  Q  R  S  T  U  V  W  X  Y  Z 

Package 203/532HostnameOS / ArchBUILDCHECKBUILD BIN
GeneR 2.25.1
Y. d'Aubenton-Carafa
Snapshot Date: 2012-02-28 17:01:26 -0800 (Tue, 28 Feb 2012)
URL: https://hedgehog.fhcrc.org/bioconductor/trunk/madman/Rpacks/GeneR
Last Changed Rev: 60019 / Revision: 63265
Last Changed Date: 2011-11-02 12:09:18 -0700 (Wed, 02 Nov 2011)
lamb2 Linux (openSUSE 11.4) / x86_64  OK  OK 
moscato2 Windows Server 2008 R2 Enterprise SP1 (64-bit) / x64  OK  ERROR [ OK ]
petty Mac OS X Snow Leopard (10.6.7) / i386  OK  OK  OK 

Summary

Package: GeneR
Version: 2.25.1
Command: rm -rf GeneR.buildbin-libdir && mkdir GeneR.buildbin-libdir && E:\biocbld\bbs-2.10-bioc\R\bin\R.exe CMD INSTALL --build --merge-multiarch --library=GeneR.buildbin-libdir GeneR_2.25.1.tar.gz
StartedAt: 2012-02-29 02:32:23 -0800 (Wed, 29 Feb 2012)
EndedAt: 2012-02-29 02:33:14 -0800 (Wed, 29 Feb 2012)
EllapsedTime: 50.5 seconds
RetCode: 0
Status:  OK  
PackageFile: GeneR_2.25.1.zip
PackageFileSize: 831.5 KiB

Command output


install for i386

* installing *source* package 'GeneR' ...
** libs
g++ -m32 -I"E:/biocbld/BBS-2˜1.10-/R/include" -DNDEBUG     -I"d:/RCompile/CRANpkg/extralibs64/local/include"     -O2 -Wall  -mtune=core2 -c GeneR_glob.cc -o GeneR_glob.o
g++ -m32 -I"E:/biocbld/BBS-2˜1.10-/R/include" -DNDEBUG     -I"d:/RCompile/CRANpkg/extralibs64/local/include"     -O2 -Wall  -mtune=core2 -c GeneR_seq.cc -o GeneR_seq.o
g++ -m32 -I"E:/biocbld/BBS-2˜1.10-/R/include" -DNDEBUG     -I"d:/RCompile/CRANpkg/extralibs64/local/include"     -O2 -Wall  -mtune=core2 -c complementaire.cc -o complementaire.o
complementaire.cc: In function 'void buf_complementaire(int*)':
complementaire.cc:43:8: warning: variable 'comp' set but not used [-Wunused-but-set-variable]
g++ -m32 -I"E:/biocbld/BBS-2˜1.10-/R/include" -DNDEBUG     -I"d:/RCompile/CRANpkg/extralibs64/local/include"     -O2 -Wall  -mtune=core2 -c compoSeq.cc -o compoSeq.o
compoSeq.cc: In function 'void sys_exactmatch(int*, char**, int*, int*, int*, int*, int*, int*, int*, int*, int*, int*)':
compoSeq.cc:66:7: warning: variable 'lengthRegion' set but not used [-Wunused-but-set-variable]
g++ -m32 -I"E:/biocbld/BBS-2˜1.10-/R/include" -DNDEBUG     -I"d:/RCompile/CRANpkg/extralibs64/local/include"     -O2 -Wall  -mtune=core2 -c dnaRna.cc -o dnaRna.o
dnaRna.cc: In function 'void dna_rna(int*, int*, int*, int*, int*)':
dnaRna.cc:62:15: warning: value computed is not used [-Wunused-value]
dnaRna.cc:63:13: warning: value computed is not used [-Wunused-value]
dnaRna.cc: In function 'void rna_dna(int*, int*, int*, int*, int*)':
dnaRna.cc:108:15: warning: value computed is not used [-Wunused-value]
dnaRna.cc:109:13: warning: value computed is not used [-Wunused-value]
g++ -m32 -I"E:/biocbld/BBS-2˜1.10-/R/include" -DNDEBUG     -I"d:/RCompile/CRANpkg/extralibs64/local/include"     -O2 -Wall  -mtune=core2 -c libIndex.cc -o libIndex.o
g++ -m32 -I"E:/biocbld/BBS-2˜1.10-/R/include" -DNDEBUG     -I"d:/RCompile/CRANpkg/extralibs64/local/include"     -O2 -Wall  -mtune=core2 -c libStrings.cc -o libStrings.o
g++ -m32 -I"E:/biocbld/BBS-2˜1.10-/R/include" -DNDEBUG     -I"d:/RCompile/CRANpkg/extralibs64/local/include"     -O2 -Wall  -mtune=core2 -c makeIndex.cc -o makeIndex.o
g++ -m32 -I"E:/biocbld/BBS-2˜1.10-/R/include" -DNDEBUG     -I"d:/RCompile/CRANpkg/extralibs64/local/include"     -O2 -Wall  -mtune=core2 -c masked.cc -o masked.o
g++ -m32 -I"E:/biocbld/BBS-2˜1.10-/R/include" -DNDEBUG     -I"d:/RCompile/CRANpkg/extralibs64/local/include"     -O2 -Wall  -mtune=core2 -c misc.cc -o misc.o
misc.cc: In function 'SEXPREC* str_to_nbstr(SEXP, SEXP)':
misc.cc:166:10: warning: 'ans' may be used uninitialized in this function [-Wuninitialized]
misc.cc:97:72: warning: 'multiple' may be used uninitialized in this function [-Wuninitialized]
g++ -m32 -I"E:/biocbld/BBS-2˜1.10-/R/include" -DNDEBUG     -I"d:/RCompile/CRANpkg/extralibs64/local/include"     -O2 -Wall  -mtune=core2 -c readEmblDescript.cc -o readEmblDescript.o
g++ -m32 -I"E:/biocbld/BBS-2˜1.10-/R/include" -DNDEBUG     -I"d:/RCompile/CRANpkg/extralibs64/local/include"     -O2 -Wall  -mtune=core2 -c readIndex.cc -o readIndex.o
g++ -m32 -I"E:/biocbld/BBS-2˜1.10-/R/include" -DNDEBUG     -I"d:/RCompile/CRANpkg/extralibs64/local/include"     -O2 -Wall  -mtune=core2 -c readLocation.cc -o readLocation.o
readLocation.cc: In function 'SEXPREC* readLocation(SEXP, SEXP, SEXP, SEXP, SEXP, SEXP, SEXP)':
readLocation.cc:54:9: warning: variable 'lengthkey' set but not used [-Wunused-but-set-variable]
g++ -m32 -I"E:/biocbld/BBS-2˜1.10-/R/include" -DNDEBUG     -I"d:/RCompile/CRANpkg/extralibs64/local/include"     -O2 -Wall  -mtune=core2 -c readSeqEmbl.cc -o readSeqEmbl.o
readSeqEmbl.cc: In function 'void ReadSeqEMBL(char**, char**, int*, int*, int*, int*, int*)':
readSeqEmbl.cc:111:7: warning: variable 'LLBuf' set but not used [-Wunused-but-set-variable]
g++ -m32 -I"E:/biocbld/BBS-2˜1.10-/R/include" -DNDEBUG     -I"d:/RCompile/CRANpkg/extralibs64/local/include"     -O2 -Wall  -mtune=core2 -c readSeqFasta.cc -o readSeqFasta.o
readSeqFasta.cc: In function 'void ReadSeqFASTA(char**, char**, int*, int*, int*, int*, int*)':
readSeqFasta.cc:101:32: warning: variable 'length' set but not used [-Wunused-but-set-variable]
g++ -m32 -I"E:/biocbld/BBS-2˜1.10-/R/include" -DNDEBUG     -I"d:/RCompile/CRANpkg/extralibs64/local/include"     -O2 -Wall  -mtune=core2 -c readSeqGbk.cc -o readSeqGbk.o
readSeqGbk.cc: In function 'void ReadSeqGBK(char**, char**, int*, int*, int*, int*, int*)':
readSeqGbk.cc:92:7: warning: variable 'LLBuf' set but not used [-Wunused-but-set-variable]
g++ -m32 -I"E:/biocbld/BBS-2˜1.10-/R/include" -DNDEBUG     -I"d:/RCompile/CRANpkg/extralibs64/local/include"     -O2 -Wall  -mtune=core2 -c seqManip.cc -o seqManip.o
seqManip.cc: In function 'void sys_placestring(char**, int*, int*)':
seqManip.cc:282:7: warning: variable 'comp' set but not used [-Wunused-but-set-variable]
gcc -m32 -I"E:/biocbld/BBS-2˜1.10-/R/include" -DNDEBUG     -I"d:/RCompile/CRANpkg/extralibs64/local/include"     -O3 -Wall  -std=gnu99 -mtune=core2 -c strcasestr.c -o strcasestr.o
g++ -m32 -I"E:/biocbld/BBS-2˜1.10-/R/include" -DNDEBUG     -I"d:/RCompile/CRANpkg/extralibs64/local/include"     -O2 -Wall  -mtune=core2 -c translate.cc -o translate.o
g++ -m32 -I"E:/biocbld/BBS-2˜1.10-/R/include" -DNDEBUG     -I"d:/RCompile/CRANpkg/extralibs64/local/include"     -O2 -Wall  -mtune=core2 -c upperSeq.cc -o upperSeq.o
g++ -m32 -I"E:/biocbld/BBS-2˜1.10-/R/include" -DNDEBUG     -I"d:/RCompile/CRANpkg/extralibs64/local/include"     -O2 -Wall  -mtune=core2 -c vecteurs.cc -o vecteurs.o
g++ -m32 -I"E:/biocbld/BBS-2˜1.10-/R/include" -DNDEBUG     -I"d:/RCompile/CRANpkg/extralibs64/local/include"     -O2 -Wall  -mtune=core2 -c writeFasta.cc -o writeFasta.o
g++ -m32 -shared -s -static-libgcc -o GeneR.dll tmp.def GeneR_glob.o GeneR_seq.o complementaire.o compoSeq.o dnaRna.o libIndex.o libStrings.o makeIndex.o masked.o misc.o readEmblDescript.o readIndex.o readLocation.o readSeqEmbl.o readSeqFasta.o readSeqGbk.o seqManip.o strcasestr.o translate.o upperSeq.o vecteurs.o writeFasta.o -Ld:/RCompile/CRANpkg/extralibs64/local/lib/i386 -Ld:/RCompile/CRANpkg/extralibs64/local/lib -LE:/biocbld/BBS-2~1.10-/R/bin/i386 -lR
installing to E:/biocbld/bbs-2.10-bioc/meat/GeneR.buildbin-libdir/GeneR/libs/i386
** R
** demo
** inst
** preparing package for lazy loading
** help
*** installing help indices
** building package indices
** installing vignettes
   'GeneR.Rnw' 
** testing if installed package can be loaded

add DLL for x64

* installing *source* package 'GeneR' ...
** libs
g++ -m64 -I"E:/biocbld/BBS-2˜1.10-/R/include" -DNDEBUG     -I"d:/RCompile/CRANpkg/extralibs64/local/include"     -O2 -Wall  -mtune=core2 -c GeneR_glob.cc -o GeneR_glob.o
g++ -m64 -I"E:/biocbld/BBS-2˜1.10-/R/include" -DNDEBUG     -I"d:/RCompile/CRANpkg/extralibs64/local/include"     -O2 -Wall  -mtune=core2 -c GeneR_seq.cc -o GeneR_seq.o
g++ -m64 -I"E:/biocbld/BBS-2˜1.10-/R/include" -DNDEBUG     -I"d:/RCompile/CRANpkg/extralibs64/local/include"     -O2 -Wall  -mtune=core2 -c complementaire.cc -o complementaire.o
complementaire.cc: In function 'void buf_complementaire(int*)':
complementaire.cc:43:8: warning: variable 'comp' set but not used [-Wunused-but-set-variable]
g++ -m64 -I"E:/biocbld/BBS-2˜1.10-/R/include" -DNDEBUG     -I"d:/RCompile/CRANpkg/extralibs64/local/include"     -O2 -Wall  -mtune=core2 -c compoSeq.cc -o compoSeq.o
compoSeq.cc: In function 'void sys_exactmatch(int*, char**, int*, int*, int*, int*, int*, int*, int*, int*, int*, int*)':
compoSeq.cc:66:7: warning: variable 'lengthRegion' set but not used [-Wunused-but-set-variable]
g++ -m64 -I"E:/biocbld/BBS-2˜1.10-/R/include" -DNDEBUG     -I"d:/RCompile/CRANpkg/extralibs64/local/include"     -O2 -Wall  -mtune=core2 -c dnaRna.cc -o dnaRna.o
dnaRna.cc: In function 'void dna_rna(int*, int*, int*, int*, int*)':
dnaRna.cc:62:15: warning: value computed is not used [-Wunused-value]
dnaRna.cc:63:13: warning: value computed is not used [-Wunused-value]
dnaRna.cc: In function 'void rna_dna(int*, int*, int*, int*, int*)':
dnaRna.cc:108:15: warning: value computed is not used [-Wunused-value]
dnaRna.cc:109:13: warning: value computed is not used [-Wunused-value]
g++ -m64 -I"E:/biocbld/BBS-2˜1.10-/R/include" -DNDEBUG     -I"d:/RCompile/CRANpkg/extralibs64/local/include"     -O2 -Wall  -mtune=core2 -c libIndex.cc -o libIndex.o
g++ -m64 -I"E:/biocbld/BBS-2˜1.10-/R/include" -DNDEBUG     -I"d:/RCompile/CRANpkg/extralibs64/local/include"     -O2 -Wall  -mtune=core2 -c libStrings.cc -o libStrings.o
g++ -m64 -I"E:/biocbld/BBS-2˜1.10-/R/include" -DNDEBUG     -I"d:/RCompile/CRANpkg/extralibs64/local/include"     -O2 -Wall  -mtune=core2 -c makeIndex.cc -o makeIndex.o
g++ -m64 -I"E:/biocbld/BBS-2˜1.10-/R/include" -DNDEBUG     -I"d:/RCompile/CRANpkg/extralibs64/local/include"     -O2 -Wall  -mtune=core2 -c masked.cc -o masked.o
g++ -m64 -I"E:/biocbld/BBS-2˜1.10-/R/include" -DNDEBUG     -I"d:/RCompile/CRANpkg/extralibs64/local/include"     -O2 -Wall  -mtune=core2 -c misc.cc -o misc.o
misc.cc: In function 'SEXPREC* str_to_nbstr(SEXP, SEXP)':
misc.cc:166:10: warning: 'ans' may be used uninitialized in this function [-Wuninitialized]
misc.cc:97:72: warning: 'multiple' may be used uninitialized in this function [-Wuninitialized]
g++ -m64 -I"E:/biocbld/BBS-2˜1.10-/R/include" -DNDEBUG     -I"d:/RCompile/CRANpkg/extralibs64/local/include"     -O2 -Wall  -mtune=core2 -c readEmblDescript.cc -o readEmblDescript.o
g++ -m64 -I"E:/biocbld/BBS-2˜1.10-/R/include" -DNDEBUG     -I"d:/RCompile/CRANpkg/extralibs64/local/include"     -O2 -Wall  -mtune=core2 -c readIndex.cc -o readIndex.o
g++ -m64 -I"E:/biocbld/BBS-2˜1.10-/R/include" -DNDEBUG     -I"d:/RCompile/CRANpkg/extralibs64/local/include"     -O2 -Wall  -mtune=core2 -c readLocation.cc -o readLocation.o
readLocation.cc: In function 'SEXPREC* readLocation(SEXP, SEXP, SEXP, SEXP, SEXP, SEXP, SEXP)':
readLocation.cc:54:9: warning: variable 'lengthkey' set but not used [-Wunused-but-set-variable]
g++ -m64 -I"E:/biocbld/BBS-2˜1.10-/R/include" -DNDEBUG     -I"d:/RCompile/CRANpkg/extralibs64/local/include"     -O2 -Wall  -mtune=core2 -c readSeqEmbl.cc -o readSeqEmbl.o
readSeqEmbl.cc: In function 'void ReadSeqEMBL(char**, char**, int*, int*, int*, int*, int*)':
readSeqEmbl.cc:111:7: warning: variable 'LLBuf' set but not used [-Wunused-but-set-variable]
g++ -m64 -I"E:/biocbld/BBS-2˜1.10-/R/include" -DNDEBUG     -I"d:/RCompile/CRANpkg/extralibs64/local/include"     -O2 -Wall  -mtune=core2 -c readSeqFasta.cc -o readSeqFasta.o
readSeqFasta.cc: In function 'void ReadSeqFASTA(char**, char**, int*, int*, int*, int*, int*)':
readSeqFasta.cc:101:32: warning: variable 'length' set but not used [-Wunused-but-set-variable]
g++ -m64 -I"E:/biocbld/BBS-2˜1.10-/R/include" -DNDEBUG     -I"d:/RCompile/CRANpkg/extralibs64/local/include"     -O2 -Wall  -mtune=core2 -c readSeqGbk.cc -o readSeqGbk.o
readSeqGbk.cc: In function 'void ReadSeqGBK(char**, char**, int*, int*, int*, int*, int*)':
readSeqGbk.cc:92:7: warning: variable 'LLBuf' set but not used [-Wunused-but-set-variable]
g++ -m64 -I"E:/biocbld/BBS-2˜1.10-/R/include" -DNDEBUG     -I"d:/RCompile/CRANpkg/extralibs64/local/include"     -O2 -Wall  -mtune=core2 -c seqManip.cc -o seqManip.o
seqManip.cc: In function 'void sys_placestring(char**, int*, int*)':
seqManip.cc:282:7: warning: variable 'comp' set but not used [-Wunused-but-set-variable]
gcc -m64 -I"E:/biocbld/BBS-2˜1.10-/R/include" -DNDEBUG     -I"d:/RCompile/CRANpkg/extralibs64/local/include"     -O2 -Wall  -std=gnu99 -mtune=core2 -c strcasestr.c -o strcasestr.o
g++ -m64 -I"E:/biocbld/BBS-2˜1.10-/R/include" -DNDEBUG     -I"d:/RCompile/CRANpkg/extralibs64/local/include"     -O2 -Wall  -mtune=core2 -c translate.cc -o translate.o
g++ -m64 -I"E:/biocbld/BBS-2˜1.10-/R/include" -DNDEBUG     -I"d:/RCompile/CRANpkg/extralibs64/local/include"     -O2 -Wall  -mtune=core2 -c upperSeq.cc -o upperSeq.o
g++ -m64 -I"E:/biocbld/BBS-2˜1.10-/R/include" -DNDEBUG     -I"d:/RCompile/CRANpkg/extralibs64/local/include"     -O2 -Wall  -mtune=core2 -c vecteurs.cc -o vecteurs.o
g++ -m64 -I"E:/biocbld/BBS-2˜1.10-/R/include" -DNDEBUG     -I"d:/RCompile/CRANpkg/extralibs64/local/include"     -O2 -Wall  -mtune=core2 -c writeFasta.cc -o writeFasta.o
g++ -m64 -shared -s -static-libgcc -o GeneR.dll tmp.def GeneR_glob.o GeneR_seq.o complementaire.o compoSeq.o dnaRna.o libIndex.o libStrings.o makeIndex.o masked.o misc.o readEmblDescript.o readIndex.o readLocation.o readSeqEmbl.o readSeqFasta.o readSeqGbk.o seqManip.o strcasestr.o translate.o upperSeq.o vecteurs.o writeFasta.o -Ld:/RCompile/CRANpkg/extralibs64/local/lib/x64 -Ld:/RCompile/CRANpkg/extralibs64/local/lib -LE:/biocbld/BBS-2~1.10-/R/bin/x64 -lR
installing to E:/biocbld/bbs-2.10-bioc/meat/GeneR.buildbin-libdir/GeneR/libs/x64
** testing if installed package can be loaded
* MD5 sums
packaged installation of 'GeneR' as GeneR_2.25.1.zip

* DONE (GeneR)