Back to the "Multiple platform build/check report" A  B  C  D  E  F [G] H  I  J  K  L  M  N  O  P  Q  R  S  T  U  V  W  X  Y  Z 

Package 203/532HostnameOS / ArchBUILDCHECKBUILD BIN
GeneR 2.25.1
Y. d'Aubenton-Carafa
Snapshot Date: 2012-02-28 17:01:26 -0800 (Tue, 28 Feb 2012)
URL: https://hedgehog.fhcrc.org/bioconductor/trunk/madman/Rpacks/GeneR
Last Changed Rev: 60019 / Revision: 63265
Last Changed Date: 2011-11-02 12:09:18 -0700 (Wed, 02 Nov 2011)
lamb2 Linux (openSUSE 11.4) / x86_64  OK  OK 
moscato2 Windows Server 2008 R2 Enterprise SP1 (64-bit) / x64  OK  ERROR  OK 
petty Mac OS X Snow Leopard (10.6.7) / i386 [ OK ] OK  OK 

Summary

Package: GeneR
Version: 2.25.1
Command: /Library/Frameworks/R.framework/Versions/2.15/Resources/bin/R CMD build --keep-empty-dirs --no-resave-data GeneR
StartedAt: 2012-02-28 22:00:49 -0800 (Tue, 28 Feb 2012)
EndedAt: 2012-02-28 22:01:09 -0800 (Tue, 28 Feb 2012)
EllapsedTime: 20.3 seconds
RetCode: 0
Status:  OK 
PackageFile: GeneR_2.25.1.tar.gz
PackageFileSize: 308 KiB

Command output

* checking for file 'GeneR/DESCRIPTION' ... OK
* preparing 'GeneR':
* checking DESCRIPTION meta-information ... OK
* cleaning src
* running 'cleanup'
* installing the package to re-build vignettes
* creating vignettes ... OK
* cleaning src
* running 'cleanup'
* checking for LF line-endings in source and make files
* checking for empty or unneeded directories
* building 'GeneR_2.25.1.tar.gz'