Back to the "Multiple platform build/check report"[A] B  C  D  E  F  G  H  I  J  K  L  M  N  O  P  Q  R  S  T  U  V  W  X  Y  Z 

Package 33/554HostnameOS / ArchBUILDCHECKBUILD BIN
annotate 1.34.0
Bioconductor Package Maintainer
Snapshot Date: 2012-03-31 17:01:49 -0700 (Sat, 31 Mar 2012)
URL: https://hedgehog.fhcrc.org/bioconductor/branches/RELEASE_2_10/madman/Rpacks/annotate
Last Changed Rev: 64678 / Revision: 64719
Last Changed Date: 2012-03-30 15:05:02 -0700 (Fri, 30 Mar 2012)
lamb2 Linux (openSUSE 11.4) / x86_64  OK  OK 
puck5 Linux (Ubuntu 12.04) / x86_64  OK [ OK ]
moscato2 Windows Server 2008 R2 Enterprise SP1 (64-bit) / x64  OK  OK  OK 
petty Mac OS X Leopard (10.5.8) / i386  OK  OK  OK 

Summary

Package: annotate
Version: 1.34.0
Command: /home/hpages/test-puck5/bbs-2.10-bioc/R/bin/R CMD check --no-vignettes --timings annotate_1.34.0.tar.gz
StartedAt: 2012-03-31 23:32:54 -0700 (Sat, 31 Mar 2012)
EndedAt: 2012-03-31 23:36:45 -0700 (Sat, 31 Mar 2012)
EllapsedTime: 230.6 seconds
RetCode: 0
Status:  OK 
CheckDir: annotate.Rcheck
Warnings: 0

Command output

* using log directory '/loc/home/hpages/test-puck5/bbs-2.10-bioc/meat/annotate.Rcheck'
* using R version 2.15.0 RC (2012-03-22 r58802)
* using platform: x86_64-unknown-linux-gnu (64-bit)
* using session charset: ISO8859-1
* using option '--no-vignettes'
* checking for file 'annotate/DESCRIPTION' ... OK
* this is package 'annotate' version '1.34.0'
* checking package namespace information ... OK
* checking package dependencies ... OK
* checking if this is a source package ... OK
* checking if there is a namespace ... OK
* checking whether package 'annotate' can be installed ... OK
* checking installed package size ... OK
* checking package directory ... OK
* checking for portable file names ... OK
* checking for sufficient/correct file permissions ... OK
* checking DESCRIPTION meta-information ... OK
* checking top-level files ... OK
* checking index information ... OK
* checking package subdirectories ... OK
* checking R files for non-ASCII characters ... OK
* checking R files for syntax errors ... OK
* checking whether the package can be loaded ... OK
* checking whether the package can be loaded with stated dependencies ... OK
* checking whether the package can be unloaded cleanly ... OK
* checking whether the namespace can be loaded with stated dependencies ... OK
* checking whether the namespace can be unloaded cleanly ... OK
* checking for unstated dependencies in R code ... OK
* checking S3 generic/method consistency ... OK
* checking replacement functions ... OK
* checking foreign function calls ... OK
* checking R code for possible problems ... OK
* checking Rd files ... OK
* checking Rd metadata ... OK
* checking Rd cross-references ... OK
* checking for missing documentation entries ... OK
* checking for code/documentation mismatches ... OK
* checking Rd \usage sections ... OK
* checking Rd contents ... OK
* checking for unstated dependencies in examples ... OK
* checking contents of 'data' directory ... OK
* checking data for non-ASCII characters ... OK
* checking data for ASCII and uncompressed saves ... OK
* checking installed files from 'inst/doc' ... OK
* checking examples ... OK
* checking for unstated dependencies in vignettes ... OK
* checking package vignettes in 'inst/doc' ... OK
* checking running R code from vignettes ... SKIPPED
* checking re-building of vignettes ... SKIPPED
* checking PDF version of manual ... OK

annotate.Rcheck/00install.out:

* installing *source* package 'annotate' ...
** R
** data
** inst
** preparing package for lazy loading
** help
*** installing help indices
** building package indices
** installing vignettes
   'GOusage.Rnw' 
   'annotate.Rnw' 
   'chromLoc.Rnw' 
   'prettyOutput.Rnw' 
   'query.Rnw' 
   'useDataPkgs.Rnw' 
   'useHomology.Rnw' 
   'useProbeInfo.Rnw' 
** testing if installed package can be loaded

* DONE (annotate)

annotate.Rcheck/annotate-Ex.timings:

nameusersystemelapsed
ACCNUMStats2.3160.0202.406
GO2heatmap0.2840.0120.317
GOmnplot0.1120.0120.142
HTMLPage-class000
LL2homology0.0000.0000.001
PMIDAmat0.1360.0120.172
PWAmat5.5080.0765.609
UniGeneQuery0.0040.0000.002
accessionToUID0.4400.0244.456
annPkgName000
aqListGOIDs0.3720.0360.442
blastSequences 1.064 0.03282.038
buildChromLocation1.0520.0121.083
buildPubMedAbst0.0680.0040.678
chrCats3.7250.0083.755
chromLocation-class0.9600.0161.068
compatibleVersions0.0800.0040.115
dropECode0.0800.0120.114
entrezGeneByID000
entrezGeneQuery000
filterGOByOntology0.0760.0080.094
findNeighbors0.0400.0000.049
genbank0.1280.0041.934
genelocator000
getAnnMap0.0800.0080.099
getEvidence0.0880.0040.108
getGOTerm0.1080.0000.117
getOntology0.0640.0080.091
getPMInfo0.8240.0161.465
getSYMBOL0.1920.0040.227
getSeq4Acc0.0000.0000.236
hasGOannote0.0400.0040.052
hgByChroms0.0160.0000.022
hgCLengths0.0000.0000.007
hgu95Achroloc0.0760.0000.087
hgu95Achrom0.0480.0040.069
hgu95All0.0600.0000.073
hgu95Asym0.0640.0000.074
homoData-class0.0000.0000.002
htmlpage0.0400.0000.041
isValidkey000
makeAnchor000
neighborGeneFinder000
organism1.0320.0001.052
p2LL000
pm.abstGrep3.8600.0085.795
pm.getabst4.0040.0125.895
pm.titles3.7890.0005.420
pmAbst2HTML0.0640.0120.670
pmid2MIAME000
pmidQuery000
probesByLL1.2560.0041.281
pubMedAbst-class0.0680.0040.764
pubmed0.0320.0040.631
readGEOAnn000
serializeEnv0.0000.0000.002
setRepository0.0000.0000.001
updateSymbolsToValidKeys000
usedChromGenes0.0880.0000.101