Back to the "Multiple platform build/check report" A  B  C  D  E  F [G] H  I  J  K  L  M  N  O  P  Q  R  S  T  U  V  W  X  Y  Z 

Package 198/554HostnameOS / ArchBUILDCHECKBUILD BIN
gaga 2.2.0
David Rossell
Snapshot Date: 2012-03-31 17:01:49 -0700 (Sat, 31 Mar 2012)
URL: https://hedgehog.fhcrc.org/bioconductor/branches/RELEASE_2_10/madman/Rpacks/gaga
Last Changed Rev: 64678 / Revision: 64719
Last Changed Date: 2012-03-30 15:05:02 -0700 (Fri, 30 Mar 2012)
lamb2 Linux (openSUSE 11.4) / x86_64  OK  OK 
puck5 Linux (Ubuntu 12.04) / x86_64 [ OK ] OK 
moscato2 Windows Server 2008 R2 Enterprise SP1 (64-bit) / x64  OK  OK  OK 
petty Mac OS X Leopard (10.5.8) / i386  OK  OK  OK 

Summary

Package: gaga
Version: 2.2.0
Command: /home/hpages/test-puck5/bbs-2.10-bioc/R/bin/R CMD build --keep-empty-dirs --no-resave-data gaga
StartedAt: 2012-03-31 20:50:24 -0700 (Sat, 31 Mar 2012)
EndedAt: 2012-03-31 20:50:49 -0700 (Sat, 31 Mar 2012)
EllapsedTime: 25.0 seconds
RetCode: 0
Status:  OK 
PackageFile: gaga_2.2.0.tar.gz
PackageFileSize: 365.5 KiB

Command output

* checking for file 'gaga/DESCRIPTION' ... OK
* preparing 'gaga':
* checking DESCRIPTION meta-information ... OK
* cleaning src
* installing the package to re-build vignettes
* creating vignettes ... OK
* cleaning src
* checking for LF line-endings in source and make files
* checking for empty or unneeded directories
* building 'gaga_2.2.0.tar.gz'