Back to the "Multiple platform build/check report" A  B  C  D  E  F [G] H  I  J  K  L  M  N  O  P  Q  R  S  T  U  V  W  X  Y  Z 

Package 198/554HostnameOS / ArchBUILDCHECKBUILD BIN
gaga 2.2.0
David Rossell
Snapshot Date: 2012-03-31 17:01:49 -0700 (Sat, 31 Mar 2012)
URL: https://hedgehog.fhcrc.org/bioconductor/branches/RELEASE_2_10/madman/Rpacks/gaga
Last Changed Rev: 64678 / Revision: 64719
Last Changed Date: 2012-03-30 15:05:02 -0700 (Fri, 30 Mar 2012)
lamb2 Linux (openSUSE 11.4) / x86_64  OK  OK 
puck5 Linux (Ubuntu 12.04) / x86_64  OK [ OK ]
moscato2 Windows Server 2008 R2 Enterprise SP1 (64-bit) / x64  OK  OK  OK 
petty Mac OS X Leopard (10.5.8) / i386  OK  OK  OK 

Summary

Package: gaga
Version: 2.2.0
Command: /home/hpages/test-puck5/bbs-2.10-bioc/R/bin/R CMD check --no-vignettes --timings gaga_2.2.0.tar.gz
StartedAt: 2012-04-01 01:02:40 -0700 (Sun, 01 Apr 2012)
EndedAt: 2012-04-01 01:04:02 -0700 (Sun, 01 Apr 2012)
EllapsedTime: 82.7 seconds
RetCode: 0
Status:  OK 
CheckDir: gaga.Rcheck
Warnings: 0

Command output

* using log directory '/loc/home/hpages/test-puck5/bbs-2.10-bioc/meat/gaga.Rcheck'
* using R version 2.15.0 RC (2012-03-22 r58802)
* using platform: x86_64-unknown-linux-gnu (64-bit)
* using session charset: ISO8859-1
* using option '--no-vignettes'
* checking for file 'gaga/DESCRIPTION' ... OK
* this is package 'gaga' version '2.2.0'
* checking package namespace information ... OK
* checking package dependencies ... OK
* checking if this is a source package ... OK
* checking if there is a namespace ... OK
* checking whether package 'gaga' can be installed ... OK
* checking installed package size ... OK
* checking package directory ... OK
* checking for portable file names ... OK
* checking for sufficient/correct file permissions ... OK
* checking DESCRIPTION meta-information ... OK
* checking top-level files ... OK
* checking index information ... OK
* checking package subdirectories ... OK
* checking R files for non-ASCII characters ... OK
* checking R files for syntax errors ... OK
* checking whether the package can be loaded ... OK
* checking whether the package can be loaded with stated dependencies ... OK
* checking whether the package can be unloaded cleanly ... OK
* checking whether the namespace can be loaded with stated dependencies ... OK
* checking whether the namespace can be unloaded cleanly ... OK
* checking for unstated dependencies in R code ... OK
* checking S3 generic/method consistency ... OK
* checking replacement functions ... OK
* checking foreign function calls ... OK
* checking R code for possible problems ... NOTE
adjustfitNN : f: no visible binding for global variable 'x'
adjustfitNN : f: warning in fitNN(xsim, group = group, trace = FALSE):
  partial argument match of 'group' to 'groups'
adjustfitNN : f: no visible binding for global variable 'group'
adjustfitNN: no visible global function definition for 'mclapply'
* checking Rd files ... OK
* checking Rd metadata ... OK
* checking Rd cross-references ... OK
* checking for missing documentation entries ... OK
* checking for code/documentation mismatches ... OK
* checking Rd \usage sections ... OK
* checking Rd contents ... OK
* checking for unstated dependencies in examples ... OK
* checking line endings in C/C++/Fortran sources/headers ... OK
* checking line endings in Makefiles ... OK
* checking for portable use of $(BLAS_LIBS) and $(LAPACK_LIBS) ... OK
* checking compiled code ... NOTE
File '/loc/home/hpages/test-puck5/bbs-2.10-bioc/meat/gaga.Rcheck/gaga/libs/gaga.so':
  Found 'exit', possibly from 'exit' (C)
    Object: 'cstat.o'
  Found 'putchar', possibly from 'putchar' (C)
    Objects: 'cseqdesma.o', 'cstat.o'
  Found 'puts', possibly from 'printf' (C), 'puts' (C)
    Objects: 'cseqdesma.o', 'cstat.o'
  Found 'stderr', possibly from 'stderr' (C)
    Object: 'cstat.o'

Compiled code should not call functions which might terminate R nor
write to stdout/stderr instead of to the console.

See 'Writing portable packages' in the 'Writing R Extensions' manual.
* checking installed files from 'inst/doc' ... OK
* checking examples ... OK
* checking for unstated dependencies in vignettes ... OK
* checking package vignettes in 'inst/doc' ... OK
* checking running R code from vignettes ... SKIPPED
* checking re-building of vignettes ... SKIPPED
* checking PDF version of manual ... OK

NOTE: There were 2 notes.
See
  '/loc/home/hpages/test-puck5/bbs-2.10-bioc/meat/gaga.Rcheck/00check.log'
for details.

gaga.Rcheck/00install.out:

* installing *source* package 'gaga' ...
** libs
gcc -std=gnu99 -I/home/hpages/test-puck5/bbs-2.10-bioc/R/include -DNDEBUG  -I/usr/local/include    -fpic  -g -O2  -c cseqdesma.c -o cseqdesma.o
gcc -std=gnu99 -I/home/hpages/test-puck5/bbs-2.10-bioc/R/include -DNDEBUG  -I/usr/local/include    -fpic  -g -O2  -c cstat.c -o cstat.o
cstat.c: In function 'scanFloat':
cstat.c:494:3: warning: format not a string literal and no format arguments [-Wformat-security]
cstat.c: In function 'scanDouble':
cstat.c:502:3: warning: format not a string literal and no format arguments [-Wformat-security]
cstat.c: In function 'fscanDouble':
cstat.c:510:3: warning: format not a string literal and no format arguments [-Wformat-security]
cstat.c: In function 'scanInt':
cstat.c:520:3: warning: format not a string literal and no format arguments [-Wformat-security]
cstat.c: In function 'fscanInt':
cstat.c:530:3: warning: format not a string literal and no format arguments [-Wformat-security]
cstat.c: In function 'scanLong':
cstat.c:541:3: warning: format not a string literal and no format arguments [-Wformat-security]
cstat.c: In function 'scanArray':
cstat.c:558:3: warning: format not a string literal and no format arguments [-Wformat-security]
cstat.c: In function 'scanDoubleArray':
cstat.c:570:3: warning: format not a string literal and no format arguments [-Wformat-security]
cstat.c: In function 'scanDoubleMatrix':
cstat.c:606:3: warning: format not a string literal and no format arguments [-Wformat-security]
cstat.c: In function 'scanIntArray':
cstat.c:631:3: warning: format not a string literal and no format arguments [-Wformat-security]
cstat.c:631:9: warning: ignoring return value of 'fscanf', declared with attribute warn_unused_result [-Wunused-result]
cstat.c: In function 'scanDoubleMatrix':
cstat.c:606:9: warning: ignoring return value of 'fscanf', declared with attribute warn_unused_result [-Wunused-result]
cstat.c: In function 'fscanString':
cstat.c:599:8: warning: ignoring return value of 'fgets', declared with attribute warn_unused_result [-Wunused-result]
cstat.c: In function 'scanString':
cstat.c:593:8: warning: ignoring return value of 'fgets', declared with attribute warn_unused_result [-Wunused-result]
cstat.c: In function 'scanDoubleArray':
cstat.c:570:9: warning: ignoring return value of 'fscanf', declared with attribute warn_unused_result [-Wunused-result]
cstat.c: In function 'scanArray':
cstat.c:558:9: warning: ignoring return value of 'fscanf', declared with attribute warn_unused_result [-Wunused-result]
cstat.c: In function 'scanLong':
cstat.c:541:9: warning: ignoring return value of 'fscanf', declared with attribute warn_unused_result [-Wunused-result]
cstat.c: In function 'fscanInt':
cstat.c:530:9: warning: ignoring return value of 'fscanf', declared with attribute warn_unused_result [-Wunused-result]
cstat.c: In function 'scanInt':
cstat.c:520:9: warning: ignoring return value of 'fscanf', declared with attribute warn_unused_result [-Wunused-result]
cstat.c: In function 'fscanDouble':
cstat.c:510:9: warning: ignoring return value of 'fscanf', declared with attribute warn_unused_result [-Wunused-result]
cstat.c: In function 'scanDouble':
cstat.c:502:9: warning: ignoring return value of 'fscanf', declared with attribute warn_unused_result [-Wunused-result]
cstat.c: In function 'scanFloat':
cstat.c:494:9: warning: ignoring return value of 'fscanf', declared with attribute warn_unused_result [-Wunused-result]
gcc -std=gnu99 -shared -L/usr/local/lib -o gaga.so cseqdesma.o cstat.o -L/home/hpages/test-puck5/bbs-2.10-bioc/R/lib -lR
installing to /loc/home/hpages/test-puck5/bbs-2.10-bioc/meat/gaga.Rcheck/gaga/libs
** R
** inst
** preparing package for lazy loading
** help
*** installing help indices
** building package indices
** installing vignettes
   'gagamanual.Rnw' 
** testing if installed package can be loaded

* DONE (gaga)

gaga.Rcheck/gaga-Ex.timings:

nameusersystemelapsed
buildPatterns0.0040.0000.001
classpred000
findgenes000
fitGG0.2880.0040.296
forwsimDiffExpr2.7640.0002.767
geneclus0.0040.0000.000
parest000
powfindgenes0.4360.0000.438
simGG000